BEGIN:VCALENDAR
VERSION:2.0
PRODID:-//The Environmental Center - ECPv6.15.20//NONSGML v1.0//EN
CALSCALE:GREGORIAN
METHOD:PUBLISH
X-WR-CALNAME:The Environmental Center
X-ORIGINAL-URL:https://envirocenter.org
X-WR-CALDESC:Events for The Environmental Center
REFRESH-INTERVAL;VALUE=DURATION:PT1H
X-Robots-Tag:noindex
X-PUBLISHED-TTL:PT1H
BEGIN:VTIMEZONE
TZID:America/Los_Angeles
BEGIN:DAYLIGHT
TZOFFSETFROM:-0800
TZOFFSETTO:-0700
TZNAME:PDT
DTSTART:20230312T100000
END:DAYLIGHT
BEGIN:STANDARD
TZOFFSETFROM:-0700
TZOFFSETTO:-0800
TZNAME:PST
DTSTART:20231105T090000
END:STANDARD
BEGIN:DAYLIGHT
TZOFFSETFROM:-0800
TZOFFSETTO:-0700
TZNAME:PDT
DTSTART:20240310T100000
END:DAYLIGHT
BEGIN:STANDARD
TZOFFSETFROM:-0700
TZOFFSETTO:-0800
TZNAME:PST
DTSTART:20241103T090000
END:STANDARD
BEGIN:DAYLIGHT
TZOFFSETFROM:-0800
TZOFFSETTO:-0700
TZNAME:PDT
DTSTART:20250309T100000
END:DAYLIGHT
BEGIN:STANDARD
TZOFFSETFROM:-0700
TZOFFSETTO:-0800
TZNAME:PST
DTSTART:20251102T090000
END:STANDARD
BEGIN:DAYLIGHT
TZOFFSETFROM:-0800
TZOFFSETTO:-0700
TZNAME:PDT
DTSTART:20260308T100000
END:DAYLIGHT
BEGIN:STANDARD
TZOFFSETFROM:-0700
TZOFFSETTO:-0800
TZNAME:PST
DTSTART:20261101T090000
END:STANDARD
BEGIN:DAYLIGHT
TZOFFSETFROM:-0800
TZOFFSETTO:-0700
TZNAME:PDT
DTSTART:20270314T100000
END:DAYLIGHT
BEGIN:STANDARD
TZOFFSETFROM:-0700
TZOFFSETTO:-0800
TZNAME:PST
DTSTART:20271107T090000
END:STANDARD
END:VTIMEZONE
BEGIN:VEVENT
DTSTART;TZID=America/Los_Angeles:20260417T163000
DTEND;TZID=America/Los_Angeles:20260417T190000
DTSTAMP:20260421T112414
CREATED:20260325T230848Z
LAST-MODIFIED:20260325T230848Z
UID:10004737-1776443400-1776452400@envirocenter.org
SUMMARY:Fifth Annual Earth Day Fashion Show
DESCRIPTION:Students and staff will take to the fashion runway in honor of Earth Day during Central Oregon Community College’s (COCC) annual Clothing Connection Fashion Show on Friday\, April 17. The event is a benefit for a free service that provides school and work clothing to students of COCC and Oregon State University-Cascades (OSU-Cascades).
URL:https://envirocenter.org/event/fifth-annual-earth-day-fashion-show/
LOCATION:Wille Hall\, Coats Campus Center\, Central Oregon Community College\, Bend\, 2600 Northwest College Way\, Bend\, OR\, 97703\, United States
ATTACH;FMTTYPE=image/jpeg:https://envirocenter.org/wp-content/uploads/2026/03/Screenshot-2026-03-25-at-4.08.02-PM.jpg
GEO:44.0713603;-121.3485532
X-APPLE-STRUCTURED-LOCATION;VALUE=URI;X-ADDRESS=Wille Hall Coats Campus Center Central Oregon Community College Bend 2600 Northwest College Way Bend OR 97703 United States;X-APPLE-RADIUS=500;X-TITLE=2600 Northwest College Way:geo:-121.3485532,44.0713603
END:VEVENT
BEGIN:VEVENT
DTSTART;TZID=America/Los_Angeles:20260228T170000
DTEND;TZID=America/Los_Angeles:20260228T190000
DTSTAMP:20260421T112414
CREATED:20260107T000718Z
LAST-MODIFIED:20260107T000718Z
UID:10004717-1772298000-1772305200@envirocenter.org
SUMMARY:BLACK HISTORY DINNER CELEBRATION
DESCRIPTION:An inspiring dinner event honoring the strength\, brilliance and legacy of Black women whose resilience continues to move communities forward. Curated and emceed by COCC Afrocentric students.
URL:https://envirocenter.org/event/black-history-dinner-celebration/
LOCATION:Wille Hall\, Coats Campus Center\, Central Oregon Community College\, Bend\, 2600 Northwest College Way\, Bend\, OR\, 97703\, United States
ATTACH;FMTTYPE=image/png:https://envirocenter.org/wp-content/uploads/2026/01/Screenshot-2026-01-06-at-4.02.38-PM.png
GEO:44.0713603;-121.3485532
X-APPLE-STRUCTURED-LOCATION;VALUE=URI;X-ADDRESS=Wille Hall Coats Campus Center Central Oregon Community College Bend 2600 Northwest College Way Bend OR 97703 United States;X-APPLE-RADIUS=500;X-TITLE=2600 Northwest College Way:geo:-121.3485532,44.0713603
END:VEVENT
BEGIN:VEVENT
DTSTART;TZID=America/Los_Angeles:20260210T180000
DTEND;TZID=America/Los_Angeles:20260210T203000
DTSTAMP:20260421T112414
CREATED:20260107T000253Z
LAST-MODIFIED:20260107T000253Z
UID:10004715-1770746400-1770755400@envirocenter.org
SUMMARY:FILM SCREENING: TONI MORRISON: THE PIECES I AM
DESCRIPTION:An intimate portrait of Toni Morrison\, Nobel- and Pulitzer Prize-winning author\, editor and cultural force\, from her upbringing in Lorain\, Ohio\, to the front lines of activism. Stay for a rich discussion led by COCC English professor/Humanities chair Stephanie André
URL:https://envirocenter.org/event/film-screening-toni-morrison-the-pieces-i-am/
LOCATION:Wille Hall\, Coats Campus Center\, Central Oregon Community College\, Bend\, 2600 Northwest College Way\, Bend\, OR\, 97703\, United States
ATTACH;FMTTYPE=image/png:https://envirocenter.org/wp-content/uploads/2026/01/Screenshot-2026-01-06-at-4.02.38-PM.png
GEO:44.0713603;-121.3485532
X-APPLE-STRUCTURED-LOCATION;VALUE=URI;X-ADDRESS=Wille Hall Coats Campus Center Central Oregon Community College Bend 2600 Northwest College Way Bend OR 97703 United States;X-APPLE-RADIUS=500;X-TITLE=2600 Northwest College Way:geo:-121.3485532,44.0713603
END:VEVENT
BEGIN:VEVENT
DTSTART;TZID=America/Los_Angeles:20260108T080000
DTEND;TZID=America/Los_Angeles:20260108T093000
DTSTAMP:20260421T112414
CREATED:20251231T191559Z
LAST-MODIFIED:20251231T221949Z
UID:10004709-1767859200-1767864600@envirocenter.org
SUMMARY:January 8th Forum: Slippery Slopes - Why Oregon’s Recreation Industry Is on Thin Ice
DESCRIPTION:Join for the First Forum of 2026! \nOregon’s outdoor recreation world is hitting a serious crunch. Unenforceable liability waivers are sending insurance premiums soaring\, impacting ski areas\, rafting guides\, gyms\, and the small businesses that keep our adventure culture alive. \nJoin City Club of Central Oregon on January 8 for a clear look at what’s happening\, who’s affected\, and what solutions are on the table. \nFeaturing:\n• David Byrd\, National Ski Areas Association\n• Jordan Elliott\, Pacific Northwest Ski Areas Association\n• Tate Metcalf\, Sisters Athletic Club\n• Rep. Emerson Levy\, House District 53 \nForum Details:\nThursday\, January 8\, 2026\n8:00-9:30 a.m.\nCentral Oregon Community College\, Coats Campus Center\, Wille Hall \nIf you ski\, bike\, climb\, paddle\, or just care about the future of Oregon’s recreation economy\, this forum is a must-attend. \nREGISTER HERE 
URL:https://envirocenter.org/event/january-8th-forum-slippery-slopes-why-oregons-recreation-industry-is-on-thin-ice/
LOCATION:Wille Hall\, Coats Campus Center\, Central Oregon Community College\, Bend\, 2600 Northwest College Way\, Bend\, OR\, 97703\, United States
CATEGORIES:Climate
ATTACH;FMTTYPE=image/jpeg:https://envirocenter.org/wp-content/uploads/2025/12/unnamed-1.jpg
ORGANIZER;CN="City Club of Central Oregon":MAILTO:info@cityclubco.com
GEO:44.0713603;-121.3485532
X-APPLE-STRUCTURED-LOCATION;VALUE=URI;X-ADDRESS=Wille Hall Coats Campus Center Central Oregon Community College Bend 2600 Northwest College Way Bend OR 97703 United States;X-APPLE-RADIUS=500;X-TITLE=2600 Northwest College Way:geo:-121.3485532,44.0713603
END:VEVENT
BEGIN:VEVENT
DTSTART;TZID=America/Los_Angeles:20251102T130000
DTEND;TZID=America/Los_Angeles:20251102T143000
DTSTAMP:20260421T112414
CREATED:20250904T174046Z
LAST-MODIFIED:20250904T174046Z
UID:10004678-1762088400-1762093800@envirocenter.org
SUMMARY:Beautiful Strengths of Indigenous Communities
DESCRIPTION:Dr. Michelle Jacob emphasizes that understanding Indigenous history must go hand in hand with celebrating the vibrant contributions of Native peoples today. Rooted in Yakama traditions and the wisdom of Elders\, her talk will highlight the resilience and brilliance of Indigenous communities while offering a message of hope\, love\, and collective strength to inspire a more connected and compassionate world.
URL:https://envirocenter.org/event/beautiful-strengths-of-indigenous-communities/
LOCATION:Wille Hall\, Coats Campus Center\, Central Oregon Community College\, Bend\, 2600 Northwest College Way\, Bend\, OR\, 97703\, United States
ATTACH;FMTTYPE=image/jpeg:https://envirocenter.org/wp-content/uploads/2025/09/Screenshot-2025-09-04-at-10.40.36-AM.jpg
GEO:44.0713603;-121.3485532
X-APPLE-STRUCTURED-LOCATION;VALUE=URI;X-ADDRESS=Wille Hall Coats Campus Center Central Oregon Community College Bend 2600 Northwest College Way Bend OR 97703 United States;X-APPLE-RADIUS=500;X-TITLE=2600 Northwest College Way:geo:-121.3485532,44.0713603
END:VEVENT
BEGIN:VEVENT
DTSTART;TZID=America/Los_Angeles:20251014T183000
DTEND;TZID=America/Los_Angeles:20251014T200000
DTSTAMP:20260421T112414
CREATED:20250814T224326Z
LAST-MODIFIED:20250814T224326Z
UID:10004665-1760466600-1760472000@envirocenter.org
SUMMARY:American Foreign Policy in a New Era with Jane Cramer\, Ph.D.
DESCRIPTION:American Foreign Policy in a New Era\nJane Cramer\, Ph.D. – Associate Professor\, Director of Undergraduate Studies\, Political Science\, University of Oregon \nTuesday\, October 14\, 6:30 p.m.\, Wille Hall\, Coats Campus Center\, COCC Bend Campus \nAccess to the recorded version also available \nTickets: \nSliding-Scale Pricing $0-$10 \nRegister here \n\n\n\n\n\n\n\n\n\n\n\n\n\n\n\n\n\n\n\n\n\n\n\nJane Cramer will explore the contours of the U.S. foreign policy debate as it plays out in a world of multiple and escalating crises and domestic polarization. \nClick here for more information
URL:https://envirocenter.org/event/american-foreign-policy-in-a-new-era-with-jane-cramer-ph-d/
LOCATION:Wille Hall\, Coats Campus Center\, Central Oregon Community College\, Bend\, 2600 Northwest College Way\, Bend\, OR\, 97703\, United States
CATEGORIES:Social Justice
ATTACH;FMTTYPE=image/jpeg:https://envirocenter.org/wp-content/uploads/2025/08/Oct-14-cocc-event.jpg
ORGANIZER;CN="Central Oregon Communuty College (COCC) Nancy R. Chandler Visiting Scholar Program (VSP)":MAILTO:cgilbride@cocc.edu
GEO:44.0713603;-121.3485532
X-APPLE-STRUCTURED-LOCATION;VALUE=URI;X-ADDRESS=Wille Hall Coats Campus Center Central Oregon Community College Bend 2600 Northwest College Way Bend OR 97703 United States;X-APPLE-RADIUS=500;X-TITLE=2600 Northwest College Way:geo:-121.3485532,44.0713603
END:VEVENT
BEGIN:VEVENT
DTSTART;TZID=America/Los_Angeles:20241205T080000
DTEND;TZID=America/Los_Angeles:20241205T093000
DTSTAMP:20260421T112414
CREATED:20241114T204912Z
LAST-MODIFIED:20241114T204912Z
UID:10004532-1733385600-1733391000@envirocenter.org
SUMMARY:The Future of Mt. Bachelor
DESCRIPTION:There’s snow in the mountains\, so let’s talk about Mt. Bachelor \nWith Mt. Bachelor now officially up for sale\, the future of our local resort is at a crossroads and you might be wondering how the sale could impact our beloved ski resort\, our local economy\, and the ski community. Join local and national experts for an insightful analysis of regional and national trends and challenges\, such as consolidation of major ski areas\, workforce retention\, liability waiver standards\, and climate change. \nSpeakers: \n\nKate Porsche\, Director\, OSU Center for Outdoor Recreation Economy (Moderator)\nStuart Winchester\, Editor & Host: The Storm Skiing Journal & Podcast\nJordan Elliott\, President\, Pacific Northwest Ski Area Association\nMt. Bachelor Community\, Inc.\n\nWhether you’re an avid skier or invested in the future of Central Oregon’s outdoor economy\, this is a conversation you won’t want to miss! \nIf the financial cost of attending is a barrier\, use Promo Code CivicCO for a complimentary forum registration.
URL:https://envirocenter.org/event/the-future-of-mt-bachelor/
LOCATION:Wille Hall\, Coats Campus Center\, Central Oregon Community College\, Bend\, 2600 Northwest College Way\, Bend\, OR\, 97703\, United States
ATTACH;FMTTYPE=image/jpeg:https://envirocenter.org/wp-content/uploads/2024/11/City-Club-event-Dec-5.jpg
ORGANIZER;CN="City Club of Central Oregon":MAILTO:info@cityclubco.com
GEO:44.0713603;-121.3485532
X-APPLE-STRUCTURED-LOCATION;VALUE=URI;X-ADDRESS=Wille Hall Coats Campus Center Central Oregon Community College Bend 2600 Northwest College Way Bend OR 97703 United States;X-APPLE-RADIUS=500;X-TITLE=2600 Northwest College Way:geo:-121.3485532,44.0713603
END:VEVENT
BEGIN:VEVENT
DTSTART;TZID=America/Los_Angeles:20241112T183000
DTEND;TZID=America/Los_Angeles:20241112T203000
DTSTAMP:20260421T112414
CREATED:20240906T193431Z
LAST-MODIFIED:20240906T193431Z
UID:10004506-1731436200-1731443400@envirocenter.org
SUMMARY:To What Remains - Filmscreening and Discussion
DESCRIPTION:Film screening and Discussion on To What Remains. \nAbout the film: To What Remains is the story of Project Recover\, a team of scientists\, oceanographers\, archaeologists\, historians\, researchers\, and military veterans\, who have dedicated their lives to scouring the depths of the ocean and the farthest corners of the earth\, to search for\, recover\, and repatriate the remains of the more than 80\,000 Americans missing in action since WWII. \nIn breathtaking imagery and intimate interviews with Project Recover team members and MIA families\, To What Remains takes viewers inside this journey to honor our fallen servicemen\, from the discovery of wreckage on the seafloor in the South Pacific to the living room of a stunned family in middle America\, to a well-deserved final resting place at home.
URL:https://envirocenter.org/event/to-what-remains-filmscreening-and-discussion/
LOCATION:Wille Hall\, Coats Campus Center\, Central Oregon Community College\, Bend\, 2600 Northwest College Way\, Bend\, OR\, 97703\, United States
CATEGORIES:Film
ATTACH;FMTTYPE=image/jpeg:https://envirocenter.org/wp-content/uploads/2024/09/twrfilmimage30percentforweb.jpg
ORGANIZER;CN="Central Oregon Communuty College (COCC) Nancy R. Chandler Visiting Scholar Program (VSP)":MAILTO:cgilbride@cocc.edu
GEO:44.0713603;-121.3485532
X-APPLE-STRUCTURED-LOCATION;VALUE=URI;X-ADDRESS=Wille Hall Coats Campus Center Central Oregon Community College Bend 2600 Northwest College Way Bend OR 97703 United States;X-APPLE-RADIUS=500;X-TITLE=2600 Northwest College Way:geo:-121.3485532,44.0713603
END:VEVENT
BEGIN:VEVENT
DTSTART;TZID=America/Los_Angeles:20240514T183000
DTEND;TZID=America/Los_Angeles:20240514T200000
DTSTAMP:20260421T112414
CREATED:20240405T173148Z
LAST-MODIFIED:20240405T173148Z
UID:10004211-1715711400-1715716800@envirocenter.org
SUMMARY:From Community Secrets to Public Apology: Lessons from The High Road
DESCRIPTION:During World War II\, the names of 16 veterans were removed from a public honor roll in Oregon. All were Japanese Americans who served our country while their families were incarcerated on American soil. In 2022\, the Oregon Legislature passed a bill to dedicate the Oregon Nisei Veterans WWII Memorial Highway in Hood River. Join us as Linda Tamura addresses her path to learning this “community secret\,” Oregon’s fractured history\, heroes unheralded\, and lessons for moving forward.
URL:https://envirocenter.org/event/from-community-secrets-to-public-apology-lessons-from-the-high-road/
LOCATION:Wille Hall\, Coats Campus Center\, Central Oregon Community College\, Bend\, 2600 Northwest College Way\, Bend\, OR\, 97703\, United States
CATEGORIES:Inclusion
ATTACH;FMTTYPE=image/png:https://envirocenter.org/wp-content/uploads/2024/04/linda.tamura.headshot.resizedforweb.png
ORGANIZER;CN="Central Oregon Communuty College (COCC) Nancy R. Chandler Visiting Scholar Program (VSP)":MAILTO:cgilbride@cocc.edu
GEO:44.0713603;-121.3485532
X-APPLE-STRUCTURED-LOCATION;VALUE=URI;X-ADDRESS=Wille Hall Coats Campus Center Central Oregon Community College Bend 2600 Northwest College Way Bend OR 97703 United States;X-APPLE-RADIUS=500;X-TITLE=2600 Northwest College Way:geo:-121.3485532,44.0713603
END:VEVENT
BEGIN:VEVENT
DTSTART;TZID=America/Los_Angeles:20240430T183000
DTEND;TZID=America/Los_Angeles:20240430T200000
DTSTAMP:20260421T112414
CREATED:20240405T171349Z
LAST-MODIFIED:20240405T171349Z
UID:10004210-1714501800-1714507200@envirocenter.org
SUMMARY:Art\, Social Justice and the Radical Imaginary with Favianna Rodriguez
DESCRIPTION:Join Favianna Rodriguez as she shares her artistic practice and discusses how art can inspire\, educate\, and help spur the imagination beyond the realms of what politics can do. Rodriguez believes culture change precedes political change\, and therefore\, we must build vibrant cultural movements that catalyze social justice\, inspire new ways of thinking and foster cultural equity. She will show artistic examples that address migrant rights\, gender equity and climate justice.
URL:https://envirocenter.org/event/art-social-justice-and-the-radical-imaginary-with-favianna-rodriguez/
LOCATION:Wille Hall\, Coats Campus Center\, Central Oregon Community College\, Bend\, 2600 Northwest College Way\, Bend\, OR\, 97703\, United States
CATEGORIES:Online event,Social Justice
ATTACH;FMTTYPE=image/jpeg:https://envirocenter.org/wp-content/uploads/2024/04/favianna.with_.art_.resized.for_.web_.jpg
ORGANIZER;CN="Central Oregon Communuty College (COCC) Nancy R. Chandler Visiting Scholar Program (VSP)":MAILTO:cgilbride@cocc.edu
GEO:44.0713603;-121.3485532
X-APPLE-STRUCTURED-LOCATION;VALUE=URI;X-ADDRESS=Wille Hall Coats Campus Center Central Oregon Community College Bend 2600 Northwest College Way Bend OR 97703 United States;X-APPLE-RADIUS=500;X-TITLE=2600 Northwest College Way:geo:-121.3485532,44.0713603
END:VEVENT
BEGIN:VEVENT
DTSTART;TZID=America/Los_Angeles:20240409T180000
DTEND;TZID=America/Los_Angeles:20240409T193000
DTSTAMP:20260421T112414
CREATED:20240104T223211Z
LAST-MODIFIED:20240104T223211Z
UID:10004148-1712685600-1712691000@envirocenter.org
SUMMARY:An Evening with Author TJ Klune
DESCRIPTION:Award-winning and New York Times best-selling author TJ Klune will share his story of being queer and neurodiverse while coming of age in rural Oregon in the 90s as well as many other experiences that shaped\nhis life and his writings. Fantasy fiction author of The House in the Cerulean Sea\, The Extraordinaries\, and more\, Klune believes it’s important – now more than ever – to have accurate\, positive queer representation in stories. \nTuesday\, April 9\, 6 p.m. COCC Bend Campus. Wille Hall\, Coats Campus Center\nLivestream is also available Registration is required for in-person and livestream. Register Here!
URL:https://envirocenter.org/event/an-evening-with-author-tj-klune/
LOCATION:Wille Hall\, Coats Campus Center\, Central Oregon Community College\, Bend\, 2600 Northwest College Way\, Bend\, OR\, 97703\, United States
CATEGORIES:Inclusion
ATTACH;FMTTYPE=image/jpeg:https://envirocenter.org/wp-content/uploads/2024/01/tjklune.jpg
GEO:44.0713603;-121.3485532
X-APPLE-STRUCTURED-LOCATION;VALUE=URI;X-ADDRESS=Wille Hall Coats Campus Center Central Oregon Community College Bend 2600 Northwest College Way Bend OR 97703 United States;X-APPLE-RADIUS=500;X-TITLE=2600 Northwest College Way:geo:-121.3485532,44.0713603
END:VEVENT
BEGIN:VEVENT
DTSTART;TZID=America/Los_Angeles:20240322T170000
DTEND;TZID=America/Los_Angeles:20240322T190000
DTSTAMP:20260421T112414
CREATED:20240227T190120Z
LAST-MODIFIED:20240301T215758Z
UID:10004175-1711126800-1711134000@envirocenter.org
SUMMARY:March Green Drinks: DREAM BOLDLY The Grand AdvenChair
DESCRIPTION:If you truly want to see how the all-terrain wheelchair AdvenChair holds up under the rigorous environment of four days down and back up the Bright Angel Trail in the Grand Canyon\, then come see the premiere showing of DREAM BOLDLY The Grand AdvenChair\, the new 48-minute documentary of Geoff Babb and his expedition team currently in review by film festivals from coast-to-coast\, and even Cannes\, France. Then\, stick around for a moderated panel discussion featuring Geoff Babb\, members of his team\, and Marcia Volk\, the filmmaker\, as well as the opportunity to ask questions you may have. \nWATCH THE TRAILER HERE!\nLearn about Geoff’s arduous journey to realize his dream as a survivor of two strokes\, taking years to perfect an all-terrain human-powered wheelchair\, culminating in a rigorous 4-day expedition down and back out of the Grand Canyon\, with a ripple effect on others from its creation—access to nature previously out of reach. Sometimes one bold dream can change the world for many. \nIn partnership with Outback Film\, The Onward Project\, and COCC\, we’re honored to present a debut showing of DREAM BOLDLY The Grand AdvenChair.  \nREGISTER HERE! \nIn advance of College events\, persons needing accommodation or transportation because of a physical or mobility disability should contact Caitlyn Gardner at 541-383-7237. For accommodation because of other disability such as hearing impairment\, contact Disability Services at 541-383-7583.
URL:https://envirocenter.org/event/march-green-drinks-dream-boldly-the-grand-advenchair/
LOCATION:Wille Hall\, Coats Campus Center\, Central Oregon Community College\, Bend\, 2600 Northwest College Way\, Bend\, OR\, 97703\, United States
CATEGORIES:Equity,Film,Green Drinks,Outdoors & Adventure,Public Lands,Social Justice,Transportation
ATTACH;FMTTYPE=image/jpeg:https://envirocenter.org/wp-content/uploads/2024/02/DreamBoldly1.jpg
ORGANIZER;CN="The Environmental Center":MAILTO:info@envirocenter.org
GEO:44.0713603;-121.3485532
X-APPLE-STRUCTURED-LOCATION;VALUE=URI;X-ADDRESS=Wille Hall Coats Campus Center Central Oregon Community College Bend 2600 Northwest College Way Bend OR 97703 United States;X-APPLE-RADIUS=500;X-TITLE=2600 Northwest College Way:geo:-121.3485532,44.0713603
END:VEVENT
BEGIN:VEVENT
DTSTART;TZID=America/Los_Angeles:20240123T180000
DTEND;TZID=America/Los_Angeles:20240123T193000
DTSTAMP:20260421T112414
CREATED:20240104T191457Z
LAST-MODIFIED:20240104T191457Z
UID:10004143-1706032800-1706038200@envirocenter.org
SUMMARY:Allyship\, Genderless Mothering\, and Self-Transformation w/Jodie Patterson
DESCRIPTION:Jodie Patterson explores the lithe art of Genderless Mothering – a unique form of social activism that embraces feminism\, Black pride\, and LGBTQIA+ activism. Patterson will share her personal story as a thought leader and mother of five\, and introduce attendees to The Human Rights Campaign for a comprehensive overview of America’s state of affairs on LGBTQIA+ issues. \nThis program is part of COCC’s Season of Nonviolence and is in partnership with COCC’s Office of Diversity and Inclusion. Season of Nonviolence is sponsored by First Story\, National Endowment for the Humanities\, Brooks Resources Corporation\, Cascades Academy of Central Oregon\, and Oregon Community Foundation — Casey Family Fund.
URL:https://envirocenter.org/event/allyship-genderless-mothering-and-self-transformation-w-jodie-patterson/
LOCATION:Wille Hall\, Coats Campus Center\, Central Oregon Community College\, Bend\, 2600 Northwest College Way\, Bend\, OR\, 97703\, United States
CATEGORIES:Equity|Inclusion,Social Justice
ATTACH;FMTTYPE=image/jpeg:https://envirocenter.org/wp-content/uploads/2024/01/cocccnvheader.jpg
ORGANIZER;CN="Central Oregon Communuty College (COCC) Nancy R. Chandler Visiting Scholar Program (VSP)":MAILTO:cgilbride@cocc.edu
GEO:44.0713603;-121.3485532
X-APPLE-STRUCTURED-LOCATION;VALUE=URI;X-ADDRESS=Wille Hall Coats Campus Center Central Oregon Community College Bend 2600 Northwest College Way Bend OR 97703 United States;X-APPLE-RADIUS=500;X-TITLE=2600 Northwest College Way:geo:-121.3485532,44.0713603
END:VEVENT
END:VCALENDAR