BEGIN:VCALENDAR
VERSION:2.0
PRODID:-//The Environmental Center - ECPv6.15.20//NONSGML v1.0//EN
CALSCALE:GREGORIAN
METHOD:PUBLISH
X-WR-CALNAME:The Environmental Center
X-ORIGINAL-URL:https://envirocenter.org
X-WR-CALDESC:Events for The Environmental Center
REFRESH-INTERVAL;VALUE=DURATION:PT1H
X-Robots-Tag:noindex
X-PUBLISHED-TTL:PT1H
BEGIN:VTIMEZONE
TZID:America/Los_Angeles
BEGIN:DAYLIGHT
TZOFFSETFROM:-0800
TZOFFSETTO:-0700
TZNAME:PDT
DTSTART:20140309T100000
END:DAYLIGHT
BEGIN:STANDARD
TZOFFSETFROM:-0700
TZOFFSETTO:-0800
TZNAME:PST
DTSTART:20141102T090000
END:STANDARD
BEGIN:DAYLIGHT
TZOFFSETFROM:-0800
TZOFFSETTO:-0700
TZNAME:PDT
DTSTART:20150308T100000
END:DAYLIGHT
BEGIN:STANDARD
TZOFFSETFROM:-0700
TZOFFSETTO:-0800
TZNAME:PST
DTSTART:20151101T090000
END:STANDARD
BEGIN:DAYLIGHT
TZOFFSETFROM:-0800
TZOFFSETTO:-0700
TZNAME:PDT
DTSTART:20160313T100000
END:DAYLIGHT
BEGIN:STANDARD
TZOFFSETFROM:-0700
TZOFFSETTO:-0800
TZNAME:PST
DTSTART:20161106T090000
END:STANDARD
BEGIN:DAYLIGHT
TZOFFSETFROM:-0800
TZOFFSETTO:-0700
TZNAME:PDT
DTSTART:20170312T100000
END:DAYLIGHT
BEGIN:STANDARD
TZOFFSETFROM:-0700
TZOFFSETTO:-0800
TZNAME:PST
DTSTART:20171105T090000
END:STANDARD
BEGIN:DAYLIGHT
TZOFFSETFROM:-0800
TZOFFSETTO:-0700
TZNAME:PDT
DTSTART:20180311T100000
END:DAYLIGHT
BEGIN:STANDARD
TZOFFSETFROM:-0700
TZOFFSETTO:-0800
TZNAME:PST
DTSTART:20181104T090000
END:STANDARD
BEGIN:DAYLIGHT
TZOFFSETFROM:-0800
TZOFFSETTO:-0700
TZNAME:PDT
DTSTART:20190310T100000
END:DAYLIGHT
BEGIN:STANDARD
TZOFFSETFROM:-0700
TZOFFSETTO:-0800
TZNAME:PST
DTSTART:20191103T090000
END:STANDARD
BEGIN:DAYLIGHT
TZOFFSETFROM:-0800
TZOFFSETTO:-0700
TZNAME:PDT
DTSTART:20200308T100000
END:DAYLIGHT
BEGIN:STANDARD
TZOFFSETFROM:-0700
TZOFFSETTO:-0800
TZNAME:PST
DTSTART:20201101T090000
END:STANDARD
BEGIN:DAYLIGHT
TZOFFSETFROM:-0800
TZOFFSETTO:-0700
TZNAME:PDT
DTSTART:20210314T100000
END:DAYLIGHT
BEGIN:STANDARD
TZOFFSETFROM:-0700
TZOFFSETTO:-0800
TZNAME:PST
DTSTART:20211107T090000
END:STANDARD
BEGIN:DAYLIGHT
TZOFFSETFROM:-0800
TZOFFSETTO:-0700
TZNAME:PDT
DTSTART:20220313T100000
END:DAYLIGHT
BEGIN:STANDARD
TZOFFSETFROM:-0700
TZOFFSETTO:-0800
TZNAME:PST
DTSTART:20221106T090000
END:STANDARD
BEGIN:DAYLIGHT
TZOFFSETFROM:-0800
TZOFFSETTO:-0700
TZNAME:PDT
DTSTART:20230312T100000
END:DAYLIGHT
BEGIN:STANDARD
TZOFFSETFROM:-0700
TZOFFSETTO:-0800
TZNAME:PST
DTSTART:20231105T090000
END:STANDARD
BEGIN:DAYLIGHT
TZOFFSETFROM:-0800
TZOFFSETTO:-0700
TZNAME:PDT
DTSTART:20240310T100000
END:DAYLIGHT
BEGIN:STANDARD
TZOFFSETFROM:-0700
TZOFFSETTO:-0800
TZNAME:PST
DTSTART:20241103T090000
END:STANDARD
BEGIN:DAYLIGHT
TZOFFSETFROM:-0800
TZOFFSETTO:-0700
TZNAME:PDT
DTSTART:20250309T100000
END:DAYLIGHT
BEGIN:STANDARD
TZOFFSETFROM:-0700
TZOFFSETTO:-0800
TZNAME:PST
DTSTART:20251102T090000
END:STANDARD
END:VTIMEZONE
BEGIN:VEVENT
DTSTART;TZID=America/Los_Angeles:20240224T180000
DTEND;TZID=America/Los_Angeles:20240224T220000
DTSTAMP:20260419T051741
CREATED:20240110T235018Z
LAST-MODIFIED:20240124T174601Z
UID:10004151-1708797600-1708812000@envirocenter.org
SUMMARY:Mountainfilm on Tour: Bend - An Annual Fundraiser for The Environmental Center
DESCRIPTION:Join us at the historic Tower Theatre in downtown Bend for our annual fundraiser – Mountainfilm on Tour! \nFeaturing unique films each night and a wide variety of raffle prizes\, you are sure to leave with a renewed appreciation for the outdoors and incredible filmmaking. \nVisit our Mountainfilm on Tour webpage for film synopses and more information about the event. See you at the Tower! \nBUY TICKETS FOR FRIDAY\, 2/23 \nBUY TICKETS FOR SATURDAY\, 2/24
URL:https://envirocenter.org/event/mountainfilm-on-tour-bend-an-annual-fundraiser-for-the-environmental-center/2024-02-24/
LOCATION:Tower Theatre\, 835 NW Wall St.\, Bend\, OR\, 97701\, United States
CATEGORIES:Film
ATTACH;FMTTYPE=image/jpeg:https://envirocenter.org/wp-content/uploads/2024/01/MF-2024-Web-Banner.jpg
ORGANIZER;CN="The Environmental Center":MAILTO:info@envirocenter.org
GEO:44.058743;-121.314914
X-APPLE-STRUCTURED-LOCATION;VALUE=URI;X-ADDRESS=Tower Theatre 835 NW Wall St. Bend OR 97701 United States;X-APPLE-RADIUS=500;X-TITLE=835 NW Wall St.:geo:-121.314914,44.058743
END:VEVENT
BEGIN:VEVENT
DTSTART;TZID=America/Los_Angeles:20240223T180000
DTEND;TZID=America/Los_Angeles:20240223T220000
DTSTAMP:20260419T051741
CREATED:20240124T175020Z
LAST-MODIFIED:20240220T155958Z
UID:10004154-1708711200-1708725600@envirocenter.org
SUMMARY:Mountainfilm on Tour: Bend – An Annual Fundraiser for The Environmental Center
DESCRIPTION:Join us at the historic Tower Theatre in downtown Bend for our annual fundraiser – Mountainfilm on Tour! \nFeaturing unique films each night and a wide variety of raffle prizes\, you are sure to leave with a renewed appreciation for the outdoors and incredible filmmaking. \nVisit our Mountainfilm on Tour webpage for film synopses and more information about the event. See you at the Tower! \nBUY TICKETS FOR FRIDAY\, 2/23 \nBUY TICKETS FOR SATURDAY\, 2/24
URL:https://envirocenter.org/event/mountainfilm-on-tour-bend-an-annual-fundraiser-for-the-environmental-center-2/
LOCATION:Tower Theatre\, 835 NW Wall St.\, Bend\, OR\, 97701\, United States
CATEGORIES:Climate,Film
ATTACH;FMTTYPE=image/jpeg:https://envirocenter.org/wp-content/uploads/2024/01/MF-2024-Web-Banner.jpg
ORGANIZER;CN="The Environmental Center":MAILTO:info@envirocenter.org
GEO:44.058743;-121.314914
X-APPLE-STRUCTURED-LOCATION;VALUE=URI;X-ADDRESS=Tower Theatre 835 NW Wall St. Bend OR 97701 United States;X-APPLE-RADIUS=500;X-TITLE=835 NW Wall St.:geo:-121.314914,44.058743
END:VEVENT
BEGIN:VEVENT
DTSTART;TZID=America/Los_Angeles:20240221T190000
DTEND;TZID=America/Los_Angeles:20240221T203000
DTSTAMP:20260419T051741
CREATED:20240104T024722Z
LAST-MODIFIED:20240104T025922Z
UID:10004139-1708542000-1708547400@envirocenter.org
SUMMARY:The Real Dirt on Soil!
DESCRIPTION:It’s ALL about soil! Soil is a critical part of the natural world that is perhaps the least understood. That’s why the Deschutes Land Trust and Oregon State University professor James Cassidy are teaming up to share the real dirt on soil! Join to gain a better understanding of soil and its fundamental importance to our lives. Learn what every human should know about the world of soils\, including all about nutrients\, how soil stores water and nutrients\, and the ways soil gives life to the world we know and love. This presentation is free and ticket sales open one month prior to the event. \nNature Nights are free\, but a ticket is required. Please register online: deschuteslandtrust.org
URL:https://envirocenter.org/event/the-real-dirt-on-soil/
LOCATION:Tower Theatre\, 835 NW Wall St.\, Bend\, OR\, 97701\, United States
CATEGORIES:Garden
ATTACH;FMTTYPE=image/jpeg:https://envirocenter.org/wp-content/uploads/2024/01/James-Nature-Nights.jpeg
ORGANIZER;CN="Deschutes Land Trust":MAILTO:event@deschuteslandtrust.org
GEO:44.058743;-121.314914
X-APPLE-STRUCTURED-LOCATION;VALUE=URI;X-ADDRESS=Tower Theatre 835 NW Wall St. Bend OR 97701 United States;X-APPLE-RADIUS=500;X-TITLE=835 NW Wall St.:geo:-121.314914,44.058743
END:VEVENT
BEGIN:VEVENT
DTSTART;TZID=America/Los_Angeles:20240124T190000
DTEND;TZID=America/Los_Angeles:20240124T203000
DTSTAMP:20260419T051741
CREATED:20240104T022639Z
LAST-MODIFIED:20240104T022639Z
UID:10004138-1706122800-1706128200@envirocenter.org
SUMMARY:The Remarkable Native Bees of Central Oregon
DESCRIPTION:Did you know Oregon has more than 700 species of native bees?!? We say “more than” because\, in fact\, no one actually knows how many native bees call the state home. Central Oregon is particularly well endowed with these amazing bees. Join the Deschutes Land Trust and Andony Melathopoulous to learn about the unique and sometimes weird bees of Central Oregon. Andony will also discuss the ongoing efforts to find all of our native bees and provide gardening tips on how to make these special pollinators feel at home in your backyard. This presentation is free\, but you must get your ticket online.
URL:https://envirocenter.org/event/the-remarkable-native-bees-of-central-oregon/
LOCATION:Tower Theatre\, 835 NW Wall St.\, Bend\, OR\, 97701\, United States
CATEGORIES:Climate,Science
ATTACH;FMTTYPE=image/jpeg:https://envirocenter.org/wp-content/uploads/2024/01/DLT-Bees-event.jpeg
ORGANIZER;CN="Deschutes Land Trust":MAILTO:event@deschuteslandtrust.org
GEO:44.058743;-121.314914
X-APPLE-STRUCTURED-LOCATION;VALUE=URI;X-ADDRESS=Tower Theatre 835 NW Wall St. Bend OR 97701 United States;X-APPLE-RADIUS=500;X-TITLE=835 NW Wall St.:geo:-121.314914,44.058743
END:VEVENT
BEGIN:VEVENT
DTSTART;TZID=America/Los_Angeles:20231005T190000
DTEND;TZID=America/Los_Angeles:20231005T210000
DTSTAMP:20260419T051741
CREATED:20231003T003932Z
LAST-MODIFIED:20231003T003932Z
UID:10004091-1696532400-1696539600@envirocenter.org
SUMMARY:Climbing Film Tour 2023
DESCRIPTION:Introducing the Climbing Film Tour\, formerly known as the Vertical Life Film Tour. Brace yourself for an even more thrilling and adrenaline-pumping experience\, showcasing the most captivating Australian vertical adventures on the global stage. Get ready to be inspired by tales of courage\, unsung heroes\, and climbing icons\, fueling your passion to conquer new heights and fulfill your wildest dreams. Join us for an exhilarating journey like no other! \nGet tickets here!
URL:https://envirocenter.org/event/climbing-film-tour-2023/
LOCATION:Tower Theatre\, 835 NW Wall St.\, Bend\, OR\, 97701\, United States
CATEGORIES:Film
ATTACH;FMTTYPE=image/jpeg:https://envirocenter.org/wp-content/uploads/2023/10/Climbing-film-bannerv2.jpg
GEO:44.058743;-121.314914
X-APPLE-STRUCTURED-LOCATION;VALUE=URI;X-ADDRESS=Tower Theatre 835 NW Wall St. Bend OR 97701 United States;X-APPLE-RADIUS=500;X-TITLE=835 NW Wall St.:geo:-121.314914,44.058743
END:VEVENT
BEGIN:VEVENT
DTSTART;TZID=America/Los_Angeles:20230929T180000
DTEND;TZID=America/Los_Angeles:20230929T200000
DTSTAMP:20260419T051741
CREATED:20230808T201602Z
LAST-MODIFIED:20230925T180229Z
UID:10004044-1696010400-1696017600@envirocenter.org
SUMMARY:Wild & Scenic Film Festival
DESCRIPTION:Oregon Natural Desert Association presents the Wild & Scenic Film Festival! Join ONDA for an evening of short films showcasing the earth’s natural wonders and the amazing stories of activists working to conserve the environment. \nThere will be an in-person show at the Tower Theatre in Bend\, Oregon as well as a virtual version streamed online. See their lineup of the year’s best conservation films. \nFor the Tower Theatre show\, doors open at 5pm and the show starts at 6pm. Join ONDA before the show to chat with staff\, learn about current advocacy and volunteer opportunities\, buy raffle tickets\, and catch up with fellow ONDA community members!\nClick here to purchase tickets!
URL:https://envirocenter.org/event/wild-scenic-film-festival/
LOCATION:Tower Theatre\, 835 NW Wall St.\, Bend\, OR\, 97701\, United States
CATEGORIES:Film,Film|Online event,Film|Public Lands
ATTACH;FMTTYPE=image/jpeg:https://envirocenter.org/wp-content/uploads/2023/08/Brent-McGregor_Logan-Butte-Fossil-Bed_Fall_Night-Sky-Super-Moon-1536x1024-1.jpg
ORGANIZER;CN="Oregon Natural Desert Association":MAILTO:corie@onda.org
GEO:44.058743;-121.314914
X-APPLE-STRUCTURED-LOCATION;VALUE=URI;X-ADDRESS=Tower Theatre 835 NW Wall St. Bend OR 97701 United States;X-APPLE-RADIUS=500;X-TITLE=835 NW Wall St.:geo:-121.314914,44.058743
END:VEVENT
BEGIN:VEVENT
DTSTART;VALUE=DATE:20230504
DTEND;VALUE=DATE:20230505
DTSTAMP:20260419T051741
CREATED:20230504T142639Z
LAST-MODIFIED:20230504T142639Z
UID:10003980-1683158400-1683244799@envirocenter.org
SUMMARY:Sprout Film Festival
DESCRIPTION:Please join us to celebrate the Intellectual and Developmental Disabilities (I/DD) community with an afternoon/evening of film.  The Tower Theatre and Full Access present the Sprout Film Festival\,  a series of short films to highlight creatives from the I/DD community. \nSprout Film hosts the largest and most diverse collection of films featuring people with intellectual and developmental disabilities in the marketplace. Sprout Film hopes to reinforce accurate portrayals of individuals within this community\, help breakdown stereotypes and promote a greater acceptance of differences and awareness of similarities.  We believe film can inspire\, inform and spark change.\nSprout is a nonprofit organization founded in 1979 in New York.  They are dedicated to helping people with developmental disabilities grow through challenging\, creative and fun experiences that enhance socialization\, self-confidence and inclusion.  For more info visit them at gosprout.org \nJoin us at the Tower for an Open House/Dry Run Experience May 2 at 6 PM. This event is special for persons with disabilities but is open to all.  Click Here for more information. \n\nTICKETS\n10am event tickets here\n7pm event tickets here
URL:https://envirocenter.org/event/sprout-film-festival/
LOCATION:Tower Theatre\, 835 NW Wall St.\, Bend\, OR\, 97701\, United States
CATEGORIES:Film
ATTACH;FMTTYPE=image/jpeg:https://envirocenter.org/wp-content/uploads/2023/05/unnamed.jpg
GEO:44.058743;-121.314914
X-APPLE-STRUCTURED-LOCATION;VALUE=URI;X-ADDRESS=Tower Theatre 835 NW Wall St. Bend OR 97701 United States;X-APPLE-RADIUS=500;X-TITLE=835 NW Wall St.:geo:-121.314914,44.058743
END:VEVENT
BEGIN:VEVENT
DTSTART;TZID=America/Los_Angeles:20230225T180000
DTEND;TZID=America/Los_Angeles:20230225T220000
DTSTAMP:20260419T051741
CREATED:20230117T183438Z
LAST-MODIFIED:20230227T205139Z
UID:10002056-1677348000-1677362400@envirocenter.org
SUMMARY:Mountainfilm on Tour-Bend
DESCRIPTION:Each year\, The Environmental Center brings Mountainfilm on Tour to Bend to showcase incredible documentary films\, thoughtfully curated for our Central Oregon audience. This film event features stories of adventure\, climate change\, culture\, and resilience from around the world.
URL:https://envirocenter.org/event/mountainfilm-on-tour-bend-3/
LOCATION:Tower Theatre\, 835 NW Wall St.\, Bend\, OR\, 97701\, United States
CATEGORIES:Film
ATTACH;FMTTYPE=image/png:https://envirocenter.org/wp-content/uploads/2023/01/MF-2023-Web-Banner-1.png
ORGANIZER;CN="The Environmental Center":MAILTO:info@envirocenter.org
GEO:44.058743;-121.314914
X-APPLE-STRUCTURED-LOCATION;VALUE=URI;X-ADDRESS=Tower Theatre 835 NW Wall St. Bend OR 97701 United States;X-APPLE-RADIUS=500;X-TITLE=835 NW Wall St.:geo:-121.314914,44.058743
END:VEVENT
BEGIN:VEVENT
DTSTART;TZID=America/Los_Angeles:20230224T180000
DTEND;TZID=America/Los_Angeles:20230224T220000
DTSTAMP:20260419T051741
CREATED:20230117T183239Z
LAST-MODIFIED:20230227T205026Z
UID:10002055-1677261600-1677276000@envirocenter.org
SUMMARY:Mountainfilm on Tour-Bend
DESCRIPTION:Each year\, The Environmental Center brings Mountainfilm on Tour to Bend to showcase incredible documentary films\, thoughtfully curated for our Central Oregon audience. This film event features stories of adventure\, climate change\, culture\, and resilience from around the world.
URL:https://envirocenter.org/event/mountainfilm-on-tour-bend-2/
LOCATION:Tower Theatre\, 835 NW Wall St.\, Bend\, OR\, 97701\, United States
CATEGORIES:Film
ATTACH;FMTTYPE=image/png:https://envirocenter.org/wp-content/uploads/2023/01/MF-2023-Web-Banner-1.png
ORGANIZER;CN="The Environmental Center":MAILTO:info@envirocenter.org
GEO:44.058743;-121.314914
X-APPLE-STRUCTURED-LOCATION;VALUE=URI;X-ADDRESS=Tower Theatre 835 NW Wall St. Bend OR 97701 United States;X-APPLE-RADIUS=500;X-TITLE=835 NW Wall St.:geo:-121.314914,44.058743
END:VEVENT
BEGIN:VEVENT
DTSTART;TZID=America/Los_Angeles:20220930T170000
DTEND;TZID=America/Los_Angeles:20220930T200000
DTSTAMP:20260419T051741
CREATED:20220804T231716Z
LAST-MODIFIED:20220804T231716Z
UID:10003876-1664557200-1664568000@envirocenter.org
SUMMARY:Wild & Scenic Film Festival
DESCRIPTION:Oregon Natural Desert Association presents the Wild & Scenic Film Festival! Join ONDA for an evening of short films showcasing our earth’s natural wonders and the amazing stories of activists working to conserve the environment. \nThe Wild & Scenic Film Festival will include an in-person show at the Tower Theatre as well as a virtual live-streaming show airing the same night. Join ONDA at the Tower Theatre for their lineup of the year’s best conservation films\, or enjoy them streamed in HD from the comfort of your home.
URL:https://envirocenter.org/event/wild-scenic-film-festival-9/
LOCATION:Tower Theatre\, 835 NW Wall St.\, Bend\, OR\, 97701\, United States
CATEGORIES:Film
ATTACH;FMTTYPE=image/jpeg:https://envirocenter.org/wp-content/uploads/2022/08/Wild-and-scenic-2022.jpg
ORGANIZER;CN="Oregon Natural Desert Association":MAILTO:corie@onda.org
GEO:44.058743;-121.314914
X-APPLE-STRUCTURED-LOCATION;VALUE=URI;X-ADDRESS=Tower Theatre 835 NW Wall St. Bend OR 97701 United States;X-APPLE-RADIUS=500;X-TITLE=835 NW Wall St.:geo:-121.314914,44.058743
END:VEVENT
BEGIN:VEVENT
DTSTART;TZID=America/Los_Angeles:20191004T200000
DTEND;TZID=America/Los_Angeles:20191004T213000
DTSTAMP:20260419T051741
CREATED:20190917T160825Z
LAST-MODIFIED:20190917T160925Z
UID:10001380-1570219200-1570224600@envirocenter.org
SUMMARY:Wild & Scenic Film Festival
DESCRIPTION:Come see where epic adventure and environmental advocacy meet at the Oregon Natural Desert Association’s 12th annual Wild & Scenic Film Festival. An evening of short films showcasing our earth’s natural wonders\, feats of courage and athleticism\, and the amazing stories of activists working to protect our environment. \nCatch one of two screenings–buy your tickets by clicking either showtime below:\n\nMatinee: Doors 3:30pm | Show 4:30pm | $15 general admission | $11* students\nEvening: Doors 7pm | Show 8pm | $17 general admission | $11* students\n\n*Valid with student ID upon entry.\nAll prices listed here include the $3 Historic Theatre Preservation fee. \nCome for the films\, stay for the amazing raffle loaded with gear for your next adventure. Plus\, ticket holders are invited to a complimentary happy hour between screenings next door at OutsideIN. All proceeds benefit the Oregon Natural Desert Association’s efforts to protect\, defend\, and restore Oregon’s high desert.
URL:https://envirocenter.org/event/wild-scenic-film-festival-6/2019-10-04/2/
LOCATION:Tower Theatre\, 835 NW Wall St.\, Bend\, OR\, 97701\, United States
CATEGORIES:Film
ATTACH;FMTTYPE=image/jpeg:https://envirocenter.org/wp-content/uploads/2019/09/WildUtahAmericasRed..-e1568736558187.jpg
ORGANIZER;CN="Oregon Natural Desert Association":MAILTO:corie@onda.org
GEO:44.058743;-121.314914
X-APPLE-STRUCTURED-LOCATION;VALUE=URI;X-ADDRESS=Tower Theatre 835 NW Wall St. Bend OR 97701 United States;X-APPLE-RADIUS=500;X-TITLE=835 NW Wall St.:geo:-121.314914,44.058743
END:VEVENT
BEGIN:VEVENT
DTSTART;TZID=America/Los_Angeles:20191004T163000
DTEND;TZID=America/Los_Angeles:20191004T180000
DTSTAMP:20260419T051741
CREATED:20190917T160825Z
LAST-MODIFIED:20190917T160925Z
UID:10001379-1570206600-1570212000@envirocenter.org
SUMMARY:Wild & Scenic Film Festival
DESCRIPTION:Come see where epic adventure and environmental advocacy meet at the Oregon Natural Desert Association’s 12th annual Wild & Scenic Film Festival. An evening of short films showcasing our earth’s natural wonders\, feats of courage and athleticism\, and the amazing stories of activists working to protect our environment. \nCatch one of two screenings–buy your tickets by clicking either showtime below:\n\nMatinee: Doors 3:30pm | Show 4:30pm | $15 general admission | $11* students\nEvening: Doors 7pm | Show 8pm | $17 general admission | $11* students\n\n*Valid with student ID upon entry.\nAll prices listed here include the $3 Historic Theatre Preservation fee. \nCome for the films\, stay for the amazing raffle loaded with gear for your next adventure. Plus\, ticket holders are invited to a complimentary happy hour between screenings next door at OutsideIN. All proceeds benefit the Oregon Natural Desert Association’s efforts to protect\, defend\, and restore Oregon’s high desert.
URL:https://envirocenter.org/event/wild-scenic-film-festival-6/2019-10-04/1/
LOCATION:Tower Theatre\, 835 NW Wall St.\, Bend\, OR\, 97701\, United States
CATEGORIES:Film
ATTACH;FMTTYPE=image/jpeg:https://envirocenter.org/wp-content/uploads/2019/09/WildUtahAmericasRed..-e1568736558187.jpg
ORGANIZER;CN="Oregon Natural Desert Association":MAILTO:corie@onda.org
GEO:44.058743;-121.314914
X-APPLE-STRUCTURED-LOCATION;VALUE=URI;X-ADDRESS=Tower Theatre 835 NW Wall St. Bend OR 97701 United States;X-APPLE-RADIUS=500;X-TITLE=835 NW Wall St.:geo:-121.314914,44.058743
END:VEVENT
BEGIN:VEVENT
DTSTART;TZID=America/Los_Angeles:20150227T180000
DTEND;TZID=America/Los_Angeles:20150227T220000
DTSTAMP:20260419T051741
CREATED:20141231T063625Z
LAST-MODIFIED:20141231T063625Z
UID:10002356-1425060000-1425074400@envirocenter.org
SUMMARY:Telluride MountainFilm on Tour
DESCRIPTION:Save The Date: Telluride MountainFilm on Tour\nFebruary 27 & 28 at The Tower Theatre \nMountainFilm on Tour features the best films from the world-renowned film festival in Telluride\, Colorado. MountainFilm is dedicated to educating\, inspiring and motivating audiences about issues that matter\, cultures worth exploring\, environments worth preserving\, adventures worth pursuing and conversations worth sustaining. All proceeds benefit The Environmental Center. Watch a teaser trailer! \nTickets are $20 in advance\, $23 at the door (careful – this event often sells out!) and $35 for both nights. Get your tickets online now at The Tower Theatre. \nDifferent films each night! Check out the film lineup here.
URL:https://envirocenter.org/event/telluride-mountainfilm-tour/2015-02-27/
LOCATION:Tower Theatre\, 835 NW Wall St.\, Bend\, OR\, 97701\, United States
ORGANIZER;CN="The Environmental Center":MAILTO:info@envirocenter.org
GEO:44.058743;-121.314914
X-APPLE-STRUCTURED-LOCATION;VALUE=URI;X-ADDRESS=Tower Theatre 835 NW Wall St. Bend OR 97701 United States;X-APPLE-RADIUS=500;X-TITLE=835 NW Wall St.:geo:-121.314914,44.058743
END:VEVENT
END:VCALENDAR