BEGIN:VCALENDAR
VERSION:2.0
PRODID:-//The Environmental Center - ECPv6.15.20//NONSGML v1.0//EN
CALSCALE:GREGORIAN
METHOD:PUBLISH
X-WR-CALNAME:The Environmental Center
X-ORIGINAL-URL:https://envirocenter.org
X-WR-CALDESC:Events for The Environmental Center
REFRESH-INTERVAL;VALUE=DURATION:PT1H
X-Robots-Tag:noindex
X-PUBLISHED-TTL:PT1H
BEGIN:VTIMEZONE
TZID:America/Los_Angeles
BEGIN:DAYLIGHT
TZOFFSETFROM:-0800
TZOFFSETTO:-0700
TZNAME:PDT
DTSTART:20130310T100000
END:DAYLIGHT
BEGIN:STANDARD
TZOFFSETFROM:-0700
TZOFFSETTO:-0800
TZNAME:PST
DTSTART:20131103T090000
END:STANDARD
BEGIN:DAYLIGHT
TZOFFSETFROM:-0800
TZOFFSETTO:-0700
TZNAME:PDT
DTSTART:20140309T100000
END:DAYLIGHT
BEGIN:STANDARD
TZOFFSETFROM:-0700
TZOFFSETTO:-0800
TZNAME:PST
DTSTART:20141102T090000
END:STANDARD
BEGIN:DAYLIGHT
TZOFFSETFROM:-0800
TZOFFSETTO:-0700
TZNAME:PDT
DTSTART:20150308T100000
END:DAYLIGHT
BEGIN:STANDARD
TZOFFSETFROM:-0700
TZOFFSETTO:-0800
TZNAME:PST
DTSTART:20151101T090000
END:STANDARD
BEGIN:DAYLIGHT
TZOFFSETFROM:-0800
TZOFFSETTO:-0700
TZNAME:PDT
DTSTART:20160313T100000
END:DAYLIGHT
BEGIN:STANDARD
TZOFFSETFROM:-0700
TZOFFSETTO:-0800
TZNAME:PST
DTSTART:20161106T090000
END:STANDARD
BEGIN:DAYLIGHT
TZOFFSETFROM:-0800
TZOFFSETTO:-0700
TZNAME:PDT
DTSTART:20170312T100000
END:DAYLIGHT
BEGIN:STANDARD
TZOFFSETFROM:-0700
TZOFFSETTO:-0800
TZNAME:PST
DTSTART:20171105T090000
END:STANDARD
END:VTIMEZONE
BEGIN:VEVENT
DTSTART;TZID=America/Los_Angeles:20160818T173000
DTEND;TZID=America/Los_Angeles:20160818T193000
DTSTAMP:20260419T213836
CREATED:20160812T171936Z
LAST-MODIFIED:20160812T171936Z
UID:10002726-1471541400-1471548600@envirocenter.org
SUMMARY:COTA Membership Meeting
DESCRIPTION:COTA welcomes everyone to meet the newly elected Board of Directors.  There are a number of new faces and a long list of new ideas to discuss. \nBiketoberfest details will be finalized in the coming weeks and we welcome input. What is the best way to utilize 150+ volunteers? \nCOTA seeks Committee members – The workload is substantial and we are looking for help in several areas; website\, membership software\, communications\, education (to name a few).  Many hands make light work\, and yes\, the world is run by those who show up!
URL:https://envirocenter.org/event/cota-membership-meeting-3/
LOCATION:The Environmental Center\, 16 NW Kansas Avenue\, Bend\, OR\, 97703
ORGANIZER;CN="COTA":MAILTO:communications@cotamtb.com
GEO:44.055562;-121.3143083
X-APPLE-STRUCTURED-LOCATION;VALUE=URI;X-ADDRESS=The Environmental Center 16 NW Kansas Avenue Bend OR 97703;X-APPLE-RADIUS=500;X-TITLE=16 NW Kansas Avenue:geo:-121.3143083,44.055562
END:VEVENT
BEGIN:VEVENT
DTSTART;TZID=America/Los_Angeles:20150511T154500
DTEND;TZID=America/Los_Angeles:20150511T171500
DTSTAMP:20260419T213836
CREATED:20150305T221530Z
LAST-MODIFIED:20150305T221530Z
UID:10002400-1431359100-1431364500@envirocenter.org
SUMMARY:Fledgling Fun: The Life Cycle of Birds
DESCRIPTION:Fledgling Fun: The Life Cycle of Birds\n3:45-5:15 PM\n(3:45-4:15 pm: gathering & crafts; 4:15-5:15 pm: activities & presentation) \nMarch 9th: Cranes\nApril 13th: Bird Migration\nMay 11th: A Bird-Day Celebration …(A celebration of what we have learned) \nJoin Mary Yanalcanlin for an exploration of our local birds geared towards grades K-5 (though all ages are welcome). The February session\, devoted to the Life cycle of Birds\, is from 3:45-5:15 PM\, doors open at 3:15pm. Location is the Environmental Care Center\, 16 NW Kansas in Bend. Fledglings (kids) must be accompanied by a responsible adult. \nThe East Cascades Audubon Society (ECAS) is a 501(c)(3) organization whose mission is to further the knowledge and appreciation of birds and their habitats through field trips and education programs. Besides outreach to the community for the enjoyment and study of birds\, ECAS also actively participates in field studies\, data collection programs and other conservation projects to help protect local bird populations. Join ECAS and help preserve the birds in the Central Oregon region at www.ecaudubon.org.
URL:https://envirocenter.org/event/fledgling-fun-life-cycle-birds-3/
LOCATION:The Environmental Center\, 16 NW Kansas Avenue\, Bend\, OR\, 97703
ORGANIZER;CN="East Cascades Audubon Society":MAILTO:jon.g.putnam@bendbroadband.com
GEO:44.055562;-121.3143083
X-APPLE-STRUCTURED-LOCATION;VALUE=URI;X-ADDRESS=The Environmental Center 16 NW Kansas Avenue Bend OR 97703;X-APPLE-RADIUS=500;X-TITLE=16 NW Kansas Avenue:geo:-121.3143083,44.055562
END:VEVENT
BEGIN:VEVENT
DTSTART;TZID=America/Los_Angeles:20140822T190000
DTEND;TZID=America/Los_Angeles:20140822T210000
DTSTAMP:20260419T213836
CREATED:20140805T235749Z
LAST-MODIFIED:20140805T235749Z
UID:10002274-1408734000-1408741200@envirocenter.org
SUMMARY:Roy Zimmerman in Concert
DESCRIPTION:Back By Popular Demand! Funny Songs about Peace and Justice \nSatirical singer-songwriter & Troubadour for the Truth\, Roy Zimmerman\, is coming back to Bend for a repeat performance! You won’t want to miss him this time around!\nPossible themes he’ll touch on: creationism\, same-sex marriage\, fracking\, government shut-down\, marijuana\, immigration. \nVisit his website. \nInvite your Friends! \nSponsored by the Central Oregon Social Justice Center and Jobs with Justice
URL:https://envirocenter.org/event/roy-zimmerman-concert-2/
LOCATION:The Environmental Center\, 16 NW Kansas Avenue\, Bend\, OR\, 97703
ORGANIZER;CN="Central Oregon Social Justice Center":MAILTO:ray@citizenray.com
GEO:44.055562;-121.3143083
X-APPLE-STRUCTURED-LOCATION;VALUE=URI;X-ADDRESS=The Environmental Center 16 NW Kansas Avenue Bend OR 97703;X-APPLE-RADIUS=500;X-TITLE=16 NW Kansas Avenue:geo:-121.3143083,44.055562
END:VEVENT
END:VCALENDAR