BEGIN:VCALENDAR
VERSION:2.0
PRODID:-//The Environmental Center - ECPv6.15.20//NONSGML v1.0//EN
CALSCALE:GREGORIAN
METHOD:PUBLISH
X-WR-CALNAME:The Environmental Center
X-ORIGINAL-URL:https://envirocenter.org
X-WR-CALDESC:Events for The Environmental Center
REFRESH-INTERVAL;VALUE=DURATION:PT1H
X-Robots-Tag:noindex
X-PUBLISHED-TTL:PT1H
BEGIN:VTIMEZONE
TZID:America/Los_Angeles
BEGIN:DAYLIGHT
TZOFFSETFROM:-0800
TZOFFSETTO:-0700
TZNAME:PDT
DTSTART:20220313T100000
END:DAYLIGHT
BEGIN:STANDARD
TZOFFSETFROM:-0700
TZOFFSETTO:-0800
TZNAME:PST
DTSTART:20221106T090000
END:STANDARD
BEGIN:DAYLIGHT
TZOFFSETFROM:-0800
TZOFFSETTO:-0700
TZNAME:PDT
DTSTART:20230312T100000
END:DAYLIGHT
BEGIN:STANDARD
TZOFFSETFROM:-0700
TZOFFSETTO:-0800
TZNAME:PST
DTSTART:20231105T090000
END:STANDARD
BEGIN:DAYLIGHT
TZOFFSETFROM:-0800
TZOFFSETTO:-0700
TZNAME:PDT
DTSTART:20240310T100000
END:DAYLIGHT
BEGIN:STANDARD
TZOFFSETFROM:-0700
TZOFFSETTO:-0800
TZNAME:PST
DTSTART:20241103T090000
END:STANDARD
END:VTIMEZONE
BEGIN:VEVENT
DTSTART;TZID=America/Los_Angeles:20231213T180000
DTEND;TZID=America/Los_Angeles:20231213T200000
DTSTAMP:20260425T193535
CREATED:20231113T194332Z
LAST-MODIFIED:20231113T194332Z
UID:10004116-1702490400-1702497600@envirocenter.org
SUMMARY:Is the Drought Over? Comparing the Deschutes and Crooked Rivers
DESCRIPTION:Raise the Deschutes – Is the Drought Over?\nIs the drought over? Comparing the Deschutes and Crooked Rivers \nDespite the nearly average precipitation last year\, the drought persists. Learn how hydrology and geology affect these two rivers in completely different ways. \nSpeaker: Jason Gritzner – Hydrologist – USDA Forest Service\nModerator: Lisa Seales – Program Manager – Deschutes River Conservancy \nIn person at Worthy Brewing or Stream Online (choose during registration) \nREGISTER HERE
URL:https://envirocenter.org/event/is-the-drought-over-comparing-the-deschutes-and-crooked-rivers/
LOCATION:Worthy Brewing\, 495 Northeast Bellevue Drive\, Bend\, OR\, 97701\, United States
CATEGORIES:Climate,Public Lands,Science,Water
ATTACH;FMTTYPE=image/jpeg:https://envirocenter.org/wp-content/uploads/2023/05/raisethedeschutesseminarbanner.jpeg
ORGANIZER;CN="Deschutes River Conservancy":MAILTO:marisa@deschutesriver.org
GEO:44.0553359;-121.2604571
X-APPLE-STRUCTURED-LOCATION;VALUE=URI;X-ADDRESS=Worthy Brewing 495 Northeast Bellevue Drive Bend OR 97701 United States;X-APPLE-RADIUS=500;X-TITLE=495 Northeast Bellevue Drive:geo:-121.2604571,44.0553359
END:VEVENT
BEGIN:VEVENT
DTSTART;TZID=America/Los_Angeles:20231208T093000
DTEND;TZID=America/Los_Angeles:20231208T123000
DTSTAMP:20260425T193535
CREATED:20231120T233209Z
LAST-MODIFIED:20231120T233209Z
UID:10004120-1702027800-1702038600@envirocenter.org
SUMMARY:2023 Energy Resilience Planning for Local Governments Workshop
DESCRIPTION:Sustainable Northwest and Energy Trust of Oregon are hosting a 2023 Energy Resilience Planning for Local Governments Workshop. This workshop will connect city and county staff with funding\, resources\, and organizations to help with the planning and implementation necessary to make your community more energy-resilient and prepared for future disasters. \nDate: Friday\, Dec. 8th\, 2023 \nTime: 9:30am – 12:30pm (Virtual on Zoom) \nWho should attend?  Oregon city\, county\, and/or special district staff as well as community-based organizations that support emergency management\, economic development\, planning\, hazard mitigation planning\, sustainability\, or energy conservation are encouraged to attend. \nWhat will be covered? This workshop will share information about funding for energy resilience planning and project development\, connect attendees to technical assistance providers\, and identify next steps to integrate resilience planning into existing planning processes\, particularly for capacity and resource-strapped communities. \n\n\n\n\n\nRegister Here!
URL:https://envirocenter.org/event/2023-energy-resilience-planning-for-local-governments-workshop/
LOCATION:Online Event
CATEGORIES:Climate,Energy,Online event
ATTACH;FMTTYPE=image/jpeg:https://envirocenter.org/wp-content/uploads/2023/11/energyresilienceworkshopdec8.jpg
ORGANIZER;CN="Sustainable Northwest":MAILTO:https://mail.google.com/mail/u/0/#search/bcallahansustainablenorthwest.org
END:VEVENT
BEGIN:VEVENT
DTSTART;TZID=America/Los_Angeles:20231129T110000
DTEND;TZID=America/Los_Angeles:20231129T120000
DTSTAMP:20260425T193535
CREATED:20231120T233438Z
LAST-MODIFIED:20231120T233438Z
UID:10004121-1701255600-1701259200@envirocenter.org
SUMMARY:Making Energy Work Quarterly Webinar: Unpacking Federal Funding Bottlenecks for Rural Energy in Oregon
DESCRIPTION:Making Energy Work Quarterly Webinar: Unpacking Federal Funding Bottlenecks for Rural Energy in Oregon \nNovember 29th\, 11am – 12pm \nREGISTER HERE \nFor our fourth quarterly webinar of the year\, the Making Energy Work for Rural Oregon coalition will host a lively discussion on the federal funding landscape\, and how communities are (or are not) accessing these historic investments. \nWe will be joined by Emma Wendt\, Place-Based Strategy Lead with the U.S. Department of Energy (U.S. DOE)\, who will share updates from U.S. DOE and guidance for rural communities on accessing federal dollars. She will also dive into DOE’s newly-released Federal Energy Funding for Rural And Remote Areas Guide. \nAlso joining us is Nick Burnett\, Energy Policy Manager with Sustainable Northwest\, who will highlight barriers and near-term opportunities to advance clean energy development in rural communities across Oregon. \nThis interactive webinar will give local energy leaders an opportunity to share community successes and lessons learned as well as ask questions to federal agency staff. \nSpecial thanks to Energy Trust of Oregon for making these quarterly calls possible. \nPlease register for the event below. We hope you can join us! \nREGISTER HERE \nQuestions about this event? \nContact Faith Yorba: fyorba@sustainablenorthwest.org. \nLearn more about the Making Energy Work coalition and sign-up for the MEW newsletter to receive monthly updates on rural energy-related events\, funding opportunities\, news\, resources\, and more.
URL:https://envirocenter.org/event/making-energy-work-quarterly-webinar-unpacking-federal-funding-bottlenecks-for-rural-energy-in-oregon/
LOCATION:Online Event
CATEGORIES:Climate,Energy,Online event
ATTACH;FMTTYPE=image/jpeg:https://envirocenter.org/wp-content/uploads/2023/11/2023Q4Webinar.jpg
ORGANIZER;CN="Sustainable Northwest":MAILTO:https://mail.google.com/mail/u/0/#search/bcallahansustainablenorthwest.org
END:VEVENT
BEGIN:VEVENT
DTSTART;TZID=America/Los_Angeles:20231120T160000
DTEND;TZID=America/Los_Angeles:20231120T173000
DTSTAMP:20260425T193535
CREATED:20231113T195050Z
LAST-MODIFIED:20231113T195050Z
UID:10004117-1700496000-1700501400@envirocenter.org
SUMMARY:Intentional Hiking Webinar with Adventure Scientists
DESCRIPTION:Topic: Collect Scientific Data While You Hike \nHear from Adventure Scientists about how you can collect scientific data on your next hike. \n\n\nHave a chance to win giveaways from Trails Magazine \n\n\nHave a conversation with other intentional hikers about the topic \n\n\nNon-profit Partner: Help raise money for the Adventure Scientists by leaving a donation when you register. \n All donations will be split evenly between the guest expert\, the non-profit partner\, and your host. Because Adventure Scientists will be both the guest expert and non-profit partner\, they will receive 2/3 of the donations. *Donations will appear as a second “ticket” in your order \nREGISTER HERE
URL:https://envirocenter.org/event/intentional-hiking-webinar-with-adventure-scientists/
LOCATION:Online Event
CATEGORIES:Outdoors & Adventure,Public Lands,Science,Sustainability
ATTACH;FMTTYPE=image/jpeg:https://envirocenter.org/wp-content/uploads/2023/11/Intentional-Hiking-Logo.jpeg
END:VEVENT
BEGIN:VEVENT
DTSTART;TZID=America/Los_Angeles:20231115T173000
DTEND;TZID=America/Los_Angeles:20231115T183000
DTSTAMP:20260425T193535
CREATED:20231108T164422Z
LAST-MODIFIED:20231108T164422Z
UID:10004112-1700069400-1700073000@envirocenter.org
SUMMARY:SheJumps Get Stronger\, Play Harder\, Adventure Longer - Online
DESCRIPTION:As women-identifying (femme\, trans\, women) outdoor athletes we play hard\, which means we have to recover hard & take care of our bodies after long days on the trail. This workshop will cover some day-to-day and week-to-week body maintenance (mobility work) plus some strength training techniques that you can incorporate from home to get strong & stay strong through the seasons! Donation-based event.\n\nSign up here: https://www.eventbrite.com/e/shejumps-get-stronger-play-harder-adventure-longer-online-registration-727864752067?aff=oddtdtcreator
URL:https://envirocenter.org/event/shejumps-get-stronger-play-harder-adventure-longer-online/
LOCATION:Online Event
CATEGORIES:Outdoors & Adventure
ATTACH;FMTTYPE=image/jpeg:https://envirocenter.org/wp-content/uploads/2023/11/https___cdn.evbuc_.com_images_608028749_79452778325_1_original.jpeg
END:VEVENT
BEGIN:VEVENT
DTSTART;TZID=America/Los_Angeles:20231115T120000
DTEND;TZID=America/Los_Angeles:20231115T130000
DTSTAMP:20260425T193535
CREATED:20231113T230225Z
LAST-MODIFIED:20231113T230225Z
UID:10004118-1700049600-1700053200@envirocenter.org
SUMMARY:America Recycles Day on IG LIVE!
DESCRIPTION:When: Wednesday\, November 15th from 12-1pm  \nWhere: Instagram (LIVE!) \n\nJoin the Rethink Waste Project and local recycling experts on America (and Deschutes!) Recycles Day for a fun\, interactive\, Instagram Live Q&A! \n Get your recycling questions answered and learn how to recycle right. No more wishful recycling OR holding onto things in the hope you’ll one day find where it can be recycled.  \nHave a question in mind? Send it over to kavi@envirocenter.org and we’ll add it to our list. We will also open up the chat for questions during the session if there is time. \nQ&A will be recorded and posted on our YouTube channel and blog following the event.
URL:https://envirocenter.org/event/america-recycles-day-on-ig-live/
LOCATION:Online Event
CATEGORIES:Rethink Waste
ATTACH;FMTTYPE=image/jpeg:https://envirocenter.org/wp-content/uploads/2023/11/NATIONAL-RECYCLING-DAY-Instagram-Post-Square-2.jpg
ORGANIZER;CN="Rethink Waste Project":MAILTO:naomi@envirocenter.org
END:VEVENT
BEGIN:VEVENT
DTSTART;TZID=America/Los_Angeles:20230822T140000
DTEND;TZID=America/Los_Angeles:20230822T153000
DTSTAMP:20260425T193535
CREATED:20230816T165141Z
LAST-MODIFIED:20230816T165141Z
UID:10004048-1692712800-1692718200@envirocenter.org
SUMMARY:OLCV's Town Hall on the Environment with Senator Ron Wyden
DESCRIPTION:Senator Ron Wyden has been a champion of our conservation and environmental values in D.C.\, voicing our support for strong safeguards for our air\, water\, forests\, wildlife\, and communities. During OLCV’s Town Hall on the Environment with Senator Wyden\, we’ll celebrate his leadership and learn about the latest news on a broad range of environmental issues\, including benefits for Oregon powered by climate investments of the IRA\, conservation efforts in progress\, and threats to public lands in our state. \nRSVP and join us for an afternoon with the senator discussing all things environment and conservation! \nWHEN: August 22nd\, 2023 from 2 – 3:15PM\nWHERE: Zoom – RSVP here!
URL:https://envirocenter.org/event/olcvs-town-hall-on-the-environment-with-senator-ron-wyden/
LOCATION:Online Event
CATEGORIES:Climate,Energy,Online event
ATTACH;FMTTYPE=image/png:https://envirocenter.org/wp-content/uploads/2023/08/Sign-up-page-TH-With-Wyden.png
ORGANIZER;CN="Oregon League of Conservation Voters (OLCV)":MAILTO:nikki@olcv.org
END:VEVENT
BEGIN:VEVENT
DTSTART;TZID=America/Los_Angeles:20230613T100000
DTEND;TZID=America/Los_Angeles:20230613T110000
DTSTAMP:20260425T193535
CREATED:20221222T060944Z
LAST-MODIFIED:20230504T135334Z
UID:10002047-1686650400-1686654000@envirocenter.org
SUMMARY:Federal Community Grants Program & the Justice40 Initiative
DESCRIPTION:The panel will analyze Justice40 initiatives and discuss merits and growth opportunities. The presenters will also share updates and considerations for entities intending to apply for funding from the discretionary grant programs that provide access to EV charging within rural areas\, low- and moderate-income neighborhoods\, and communities.
URL:https://envirocenter.org/event/federal-community-grants-program-the-justice40-initiative/
LOCATION:Online Event
CATEGORIES:Electric Vehicles|Energy|Online event,Online event,Transportation
ATTACH;FMTTYPE=image/png:https://envirocenter.org/wp-content/uploads/2022/12/1adfb156-ceea-4880-a604-9281e3b3f593.png
END:VEVENT
BEGIN:VEVENT
DTSTART;TZID=America/Los_Angeles:20230530T150000
DTEND;TZID=America/Los_Angeles:20230530T183000
DTSTAMP:20260425T193535
CREATED:20230522T173922Z
LAST-MODIFIED:20230522T174401Z
UID:10004004-1685458800-1685471400@envirocenter.org
SUMMARY:VIRTUAL Workshop: Supporting Gender Expansive and Transgender Youth
DESCRIPTION:The TransActive Gender Project is based in Portland and provides a holistic range of services and expertise to empower transgender and gender expansive children\, youth\, and their families to live healthy lives that are free of discrimination. Workshop participants will gain a better understanding of gender identity development\, cultural gender myths\, and stereotypes and their impact on gender diverse and transgender children. This workshop will focus on demonstrating inclusive language\, how to address bullying\, and ways to analyze curriculum and programs. We’ll also be joined by Jamie Bowman\, a local LGBTQIA+ advocate who is co-founder of the Central Oregon Transgender Health Coalition. \nAll educators are welcome to attend though the content will focus on out-of-school and summer programs. \nThis workshop has been organized by The Environmental Center\, Camp Tamarack\, and the Children’s Forest of Central Oregon with support from High Desert ESD. \nREGISTER HERE FOR VIRTUAL WORKSHOP \nNote: Registration is separate for the in-person workshop on June 12th.
URL:https://envirocenter.org/event/virtual-workshop-supporting-gender-expansive-and-transgender-youth/
LOCATION:Online Event
CATEGORIES:Online event,Youth Education
ATTACH;FMTTYPE=image/jpeg:https://envirocenter.org/wp-content/uploads/2023/05/https___cdn.evbuc_.com_images_496424129_201503051345_1_original.jpeg
ORGANIZER;CN="The Environmental Center":MAILTO:info@envirocenter.org
END:VEVENT
END:VCALENDAR