BEGIN:VCALENDAR
VERSION:2.0
PRODID:-//The Environmental Center - ECPv6.15.20//NONSGML v1.0//EN
CALSCALE:GREGORIAN
METHOD:PUBLISH
X-WR-CALNAME:The Environmental Center
X-ORIGINAL-URL:https://envirocenter.org
X-WR-CALDESC:Events for The Environmental Center
REFRESH-INTERVAL;VALUE=DURATION:PT1H
X-Robots-Tag:noindex
X-PUBLISHED-TTL:PT1H
BEGIN:VTIMEZONE
TZID:America/Los_Angeles
BEGIN:DAYLIGHT
TZOFFSETFROM:-0800
TZOFFSETTO:-0700
TZNAME:PDT
DTSTART:20250309T100000
END:DAYLIGHT
BEGIN:STANDARD
TZOFFSETFROM:-0700
TZOFFSETTO:-0800
TZNAME:PST
DTSTART:20251102T090000
END:STANDARD
BEGIN:DAYLIGHT
TZOFFSETFROM:-0800
TZOFFSETTO:-0700
TZNAME:PDT
DTSTART:20260308T100000
END:DAYLIGHT
BEGIN:STANDARD
TZOFFSETFROM:-0700
TZOFFSETTO:-0800
TZNAME:PST
DTSTART:20261101T090000
END:STANDARD
BEGIN:DAYLIGHT
TZOFFSETFROM:-0800
TZOFFSETTO:-0700
TZNAME:PDT
DTSTART:20270314T100000
END:DAYLIGHT
BEGIN:STANDARD
TZOFFSETFROM:-0700
TZOFFSETTO:-0800
TZNAME:PST
DTSTART:20271107T090000
END:STANDARD
END:VTIMEZONE
BEGIN:VEVENT
DTSTART;TZID=America/Los_Angeles:20260403T080000
DTEND;TZID=America/Los_Angeles:20260403T170000
DTSTAMP:20260421T154246
CREATED:20260330T220840Z
LAST-MODIFIED:20260330T220840Z
UID:10004746-1775203200-1775235600@envirocenter.org
SUMMARY:Film Screening: The Antidote
DESCRIPTION:Restorative Justice & Equity invites you to a community film screening of The Antidote\, followed by guided reflection and discussion. This gathering is designed to be a comfortable\, welcoming\, and collaborative space where community members can connect\, reflect\, and engage with one another. All are welcome ages 15+.
URL:https://envirocenter.org/event/film-screening-the-antidote/
LOCATION:Latino Community Association\, 2445 NE Division Street\, Suite 200\, Bend\, OR\, 97703\, United States
ATTACH;FMTTYPE=image/jpeg:https://envirocenter.org/wp-content/uploads/2026/03/IMG_8890.jpg
GEO:44.0742797;-121.3063352
X-APPLE-STRUCTURED-LOCATION;VALUE=URI;X-ADDRESS=Latino Community Association 2445 NE Division Street Suite 200 Bend OR 97703 United States;X-APPLE-RADIUS=500;X-TITLE=2445 NE Division Street\, Suite 200:geo:-121.3063352,44.0742797
END:VEVENT
END:VCALENDAR