BEGIN:VCALENDAR
VERSION:2.0
PRODID:-//The Environmental Center - ECPv6.15.20//NONSGML v1.0//EN
CALSCALE:GREGORIAN
METHOD:PUBLISH
X-ORIGINAL-URL:https://envirocenter.org
X-WR-CALDESC:Events for The Environmental Center
REFRESH-INTERVAL;VALUE=DURATION:PT1H
X-Robots-Tag:noindex
X-PUBLISHED-TTL:PT1H
BEGIN:VTIMEZONE
TZID:America/Los_Angeles
BEGIN:DAYLIGHT
TZOFFSETFROM:-0800
TZOFFSETTO:-0700
TZNAME:PDT
DTSTART:20220313T100000
END:DAYLIGHT
BEGIN:STANDARD
TZOFFSETFROM:-0700
TZOFFSETTO:-0800
TZNAME:PST
DTSTART:20221106T090000
END:STANDARD
BEGIN:DAYLIGHT
TZOFFSETFROM:-0800
TZOFFSETTO:-0700
TZNAME:PDT
DTSTART:20230312T100000
END:DAYLIGHT
BEGIN:STANDARD
TZOFFSETFROM:-0700
TZOFFSETTO:-0800
TZNAME:PST
DTSTART:20231105T090000
END:STANDARD
BEGIN:DAYLIGHT
TZOFFSETFROM:-0800
TZOFFSETTO:-0700
TZNAME:PDT
DTSTART:20240310T100000
END:DAYLIGHT
BEGIN:STANDARD
TZOFFSETFROM:-0700
TZOFFSETTO:-0800
TZNAME:PST
DTSTART:20241103T090000
END:STANDARD
END:VTIMEZONE
BEGIN:VEVENT
DTSTART;TZID=America/Los_Angeles:20231109T173000
DTEND;TZID=America/Los_Angeles:20231109T193000
DTSTAMP:20260421T093235
CREATED:20231106T222825Z
LAST-MODIFIED:20231106T222825Z
UID:10004110-1699551000-1699558200@envirocenter.org
SUMMARY:Winter Community Care
DESCRIPTION:Join Embrace Bend for a heartwarming event at the Council On Aging of Central Oregon\, located at Northeast 5th Street in Bend\, OR\, USA. \nWinter Community Care is all about coming together as a community to spread warmth. We will be learning how to support people and groups during cold weather and holiday months. As you know\, all sorts of groups and individuals struggle during winter whether it is due to isolation\, cold weather\, depression\, access\, or lack of financial resources. We will be learning about what the problem is for key underserved groups in our community and what the opportunities are to help with wallets\, time\, amplifying to networks\, or other resources. There will be in opportunity to sign up to help\, information about donations\, and ways to keep in touch with these key organizations in the future. \nThis will also be in opportunity for people to come and find out what resources are available to them\, so our partners will stand ready to assist. Please attend if you are seeking out assistance and we will make sure to find you the help that you need. \nWe are pleased to be partnering for this event with the Council on Aging. As you know\, seniors are the largest growing demographic in our area and are often underserved and severely impacted by the holidays and cold weather. \nSnacks and drinks will be served. \nOur partners confirmed to attend: \nFamily Kitchen \nCouncil on Aging \nDeschutes County \nWarm Springs \nNeighbor Impact Energy Assistance \nThrive \nRSVP is not mandatory but helps us with planning!
URL:https://envirocenter.org/event/winter-community-care/
LOCATION:Council on Aging of Central Oregon\, 1036 NE 5th St.\, Bend\, OR\, 97701\, United States
CATEGORIES:Equity,Food,Social Justice
ATTACH;FMTTYPE=image/jpeg:https://envirocenter.org/wp-content/uploads/2023/11/image-3.jpg
GEO:44.0607177;-121.2986473
X-APPLE-STRUCTURED-LOCATION;VALUE=URI;X-ADDRESS=Council on Aging of Central Oregon 1036 NE 5th St. Bend OR 97701 United States;X-APPLE-RADIUS=500;X-TITLE=1036 NE 5th St.:geo:-121.2986473,44.0607177
END:VEVENT
END:VCALENDAR