BEGIN:VCALENDAR
VERSION:2.0
PRODID:-//The Environmental Center - ECPv6.15.20//NONSGML v1.0//EN
CALSCALE:GREGORIAN
METHOD:PUBLISH
X-ORIGINAL-URL:https://envirocenter.org
X-WR-CALDESC:Events for The Environmental Center
REFRESH-INTERVAL;VALUE=DURATION:PT1H
X-Robots-Tag:noindex
X-PUBLISHED-TTL:PT1H
BEGIN:VTIMEZONE
TZID:America/Los_Angeles
BEGIN:DAYLIGHT
TZOFFSETFROM:-0800
TZOFFSETTO:-0700
TZNAME:PDT
DTSTART:20250309T100000
END:DAYLIGHT
BEGIN:STANDARD
TZOFFSETFROM:-0700
TZOFFSETTO:-0800
TZNAME:PST
DTSTART:20251102T090000
END:STANDARD
BEGIN:DAYLIGHT
TZOFFSETFROM:-0800
TZOFFSETTO:-0700
TZNAME:PDT
DTSTART:20260308T100000
END:DAYLIGHT
BEGIN:STANDARD
TZOFFSETFROM:-0700
TZOFFSETTO:-0800
TZNAME:PST
DTSTART:20261101T090000
END:STANDARD
BEGIN:DAYLIGHT
TZOFFSETFROM:-0800
TZOFFSETTO:-0700
TZNAME:PDT
DTSTART:20270314T100000
END:DAYLIGHT
BEGIN:STANDARD
TZOFFSETFROM:-0700
TZOFFSETTO:-0800
TZNAME:PST
DTSTART:20271107T090000
END:STANDARD
END:VTIMEZONE
BEGIN:VEVENT
DTSTART;TZID=America/Los_Angeles:20260521T173000
DTEND;TZID=America/Los_Angeles:20260521T193000
DTSTAMP:20260421T101359
CREATED:20260410T165818Z
LAST-MODIFIED:20260410T165818Z
UID:10004757-1779384600-1779391800@envirocenter.org
SUMMARY:Pints & Politics
DESCRIPTION:Oregon League for Conservation Voters is back with Pints & Politics! This will be a fun evening with the community\, spent unpacking what happened during the 2026 Legislative Session\, and what we know of the results from the primary election.
URL:https://envirocenter.org/event/pints-politics-5/
LOCATION:Broken Top Bottle Shop\, 1740 NW Pence Ln #1\, Bend\, OR\, 97701\, United States
ATTACH;FMTTYPE=image/jpeg:https://envirocenter.org/wp-content/uploads/2026/04/Screenshot-2026-04-10-at-9.57.53-AM.jpg
ORGANIZER;CN="Oregon League of Conservation Voters (OLCV)":MAILTO:nikki@olcv.org
GEO:44.0633684;-121.3389538
X-APPLE-STRUCTURED-LOCATION;VALUE=URI;X-ADDRESS=Broken Top Bottle Shop 1740 NW Pence Ln #1 Bend OR 97701 United States;X-APPLE-RADIUS=500;X-TITLE=1740 NW Pence Ln #1:geo:-121.3389538,44.0633684
END:VEVENT
END:VCALENDAR