BEGIN:VCALENDAR
VERSION:2.0
PRODID:-//The Environmental Center - ECPv6.15.20//NONSGML v1.0//EN
CALSCALE:GREGORIAN
METHOD:PUBLISH
X-WR-CALNAME:The Environmental Center
X-ORIGINAL-URL:https://envirocenter.org
X-WR-CALDESC:Events for The Environmental Center
REFRESH-INTERVAL;VALUE=DURATION:PT1H
X-Robots-Tag:noindex
X-PUBLISHED-TTL:PT1H
BEGIN:VTIMEZONE
TZID:America/Los_Angeles
BEGIN:DAYLIGHT
TZOFFSETFROM:-0800
TZOFFSETTO:-0700
TZNAME:PDT
DTSTART:20130310T100000
END:DAYLIGHT
BEGIN:STANDARD
TZOFFSETFROM:-0700
TZOFFSETTO:-0800
TZNAME:PST
DTSTART:20131103T090000
END:STANDARD
BEGIN:DAYLIGHT
TZOFFSETFROM:-0800
TZOFFSETTO:-0700
TZNAME:PDT
DTSTART:20140309T100000
END:DAYLIGHT
BEGIN:STANDARD
TZOFFSETFROM:-0700
TZOFFSETTO:-0800
TZNAME:PST
DTSTART:20141102T090000
END:STANDARD
BEGIN:DAYLIGHT
TZOFFSETFROM:-0800
TZOFFSETTO:-0700
TZNAME:PDT
DTSTART:20150308T100000
END:DAYLIGHT
BEGIN:STANDARD
TZOFFSETFROM:-0700
TZOFFSETTO:-0800
TZNAME:PST
DTSTART:20151101T090000
END:STANDARD
BEGIN:DAYLIGHT
TZOFFSETFROM:-0800
TZOFFSETTO:-0700
TZNAME:PDT
DTSTART:20160313T100000
END:DAYLIGHT
BEGIN:STANDARD
TZOFFSETFROM:-0700
TZOFFSETTO:-0800
TZNAME:PST
DTSTART:20161106T090000
END:STANDARD
BEGIN:DAYLIGHT
TZOFFSETFROM:-0800
TZOFFSETTO:-0700
TZNAME:PDT
DTSTART:20170312T100000
END:DAYLIGHT
BEGIN:STANDARD
TZOFFSETFROM:-0700
TZOFFSETTO:-0800
TZNAME:PST
DTSTART:20171105T090000
END:STANDARD
BEGIN:DAYLIGHT
TZOFFSETFROM:-0800
TZOFFSETTO:-0700
TZNAME:PDT
DTSTART:20180311T100000
END:DAYLIGHT
BEGIN:STANDARD
TZOFFSETFROM:-0700
TZOFFSETTO:-0800
TZNAME:PST
DTSTART:20181104T090000
END:STANDARD
BEGIN:DAYLIGHT
TZOFFSETFROM:-0800
TZOFFSETTO:-0700
TZNAME:PDT
DTSTART:20190310T100000
END:DAYLIGHT
BEGIN:STANDARD
TZOFFSETFROM:-0700
TZOFFSETTO:-0800
TZNAME:PST
DTSTART:20191103T090000
END:STANDARD
BEGIN:DAYLIGHT
TZOFFSETFROM:-0800
TZOFFSETTO:-0700
TZNAME:PDT
DTSTART:20200308T100000
END:DAYLIGHT
BEGIN:STANDARD
TZOFFSETFROM:-0700
TZOFFSETTO:-0800
TZNAME:PST
DTSTART:20201101T090000
END:STANDARD
BEGIN:DAYLIGHT
TZOFFSETFROM:-0800
TZOFFSETTO:-0700
TZNAME:PDT
DTSTART:20210314T100000
END:DAYLIGHT
BEGIN:STANDARD
TZOFFSETFROM:-0700
TZOFFSETTO:-0800
TZNAME:PST
DTSTART:20211107T090000
END:STANDARD
BEGIN:DAYLIGHT
TZOFFSETFROM:-0800
TZOFFSETTO:-0700
TZNAME:PDT
DTSTART:20220313T100000
END:DAYLIGHT
BEGIN:STANDARD
TZOFFSETFROM:-0700
TZOFFSETTO:-0800
TZNAME:PST
DTSTART:20221106T090000
END:STANDARD
BEGIN:DAYLIGHT
TZOFFSETFROM:-0800
TZOFFSETTO:-0700
TZNAME:PDT
DTSTART:20230312T100000
END:DAYLIGHT
BEGIN:STANDARD
TZOFFSETFROM:-0700
TZOFFSETTO:-0800
TZNAME:PST
DTSTART:20231105T090000
END:STANDARD
BEGIN:DAYLIGHT
TZOFFSETFROM:-0800
TZOFFSETTO:-0700
TZNAME:PDT
DTSTART:20240310T100000
END:DAYLIGHT
BEGIN:STANDARD
TZOFFSETFROM:-0700
TZOFFSETTO:-0800
TZNAME:PST
DTSTART:20241103T090000
END:STANDARD
BEGIN:DAYLIGHT
TZOFFSETFROM:-0800
TZOFFSETTO:-0700
TZNAME:PDT
DTSTART:20250309T100000
END:DAYLIGHT
BEGIN:STANDARD
TZOFFSETFROM:-0700
TZOFFSETTO:-0800
TZNAME:PST
DTSTART:20251102T090000
END:STANDARD
BEGIN:DAYLIGHT
TZOFFSETFROM:-0800
TZOFFSETTO:-0700
TZNAME:PDT
DTSTART:20260308T100000
END:DAYLIGHT
BEGIN:STANDARD
TZOFFSETFROM:-0700
TZOFFSETTO:-0800
TZNAME:PST
DTSTART:20261101T090000
END:STANDARD
BEGIN:DAYLIGHT
TZOFFSETFROM:-0800
TZOFFSETTO:-0700
TZNAME:PDT
DTSTART:20270314T100000
END:DAYLIGHT
BEGIN:STANDARD
TZOFFSETFROM:-0700
TZOFFSETTO:-0800
TZNAME:PST
DTSTART:20271107T090000
END:STANDARD
END:VTIMEZONE
BEGIN:VEVENT
DTSTART;TZID=America/Los_Angeles:20260122T173000
DTEND;TZID=America/Los_Angeles:20260122T193000
DTSTAMP:20260421T134210
CREATED:20251229T184731Z
LAST-MODIFIED:20251229T184731Z
UID:10004708-1769103000-1769110200@envirocenter.org
SUMMARY:Pints & Politics
DESCRIPTION:You’re invited to kick off 2026 with our first Pints & Politics of the year! Join us in Bend for a night of great conversation\, community\, and conservation action! \n  \nWHEN: Thursday\, January 22nd from 5:30 – 7:30 PM \nWHERE: Broken Top Bottle Shop in Bend\, OR \n\n\n\nWe have an incredible lineup planned. Sierra Club Oregon will lead a hands-on civic engagement training and share ways to get involved in the legislative process. Think Wild will provide an update on OCN’s top priorities\, the 1.25% for Wildlife. Special Guest Senator Anthony Broadman will join us to preview the upcoming short session and talk about key conservation efforts at the state level. \nThis will be the first Pints & Politics of 2026 since the relaunch\, and we’re so excited to bring together local nonprofits\, advocates\, and community members for an evening of inspiration and connection. So grab a friend and come hang out with us at Broken Top Bottle Shop! Make sure you RSVP to save your spot. Make sure you RSVP here to join us! \nIf you have any questions\, simply reply to this email. I hope to see you all there!
URL:https://envirocenter.org/event/pints-politics-2/
LOCATION:Broken Top Bottle Shop\, 1740 NW Pence Ln #1\, Bend\, OR\, 97701\, United States
ORGANIZER;CN="Oregon League of Conservation Voters (OLCV)":MAILTO:nikki@olcv.org
GEO:44.0633684;-121.3389538
X-APPLE-STRUCTURED-LOCATION;VALUE=URI;X-ADDRESS=Broken Top Bottle Shop 1740 NW Pence Ln #1 Bend OR 97701 United States;X-APPLE-RADIUS=500;X-TITLE=1740 NW Pence Ln #1:geo:-121.3389538,44.0633684
END:VEVENT
BEGIN:VEVENT
DTSTART;TZID=America/Los_Angeles:20251016T170000
DTEND;TZID=America/Los_Angeles:20251016T190000
DTSTAMP:20260421T134210
CREATED:20251008T184429Z
LAST-MODIFIED:20251008T184525Z
UID:10004686-1760634000-1760641200@envirocenter.org
SUMMARY:Pints & Politics
DESCRIPTION:The Oregon League of Conservation Voters in Deschutes County is excited to host our first Pints & Politics of the year to release our 2025 Environmental Scorecard. Eliza Walton\, OLCV Coalition Director\, will join us for insight into the 2025 legislative session and the scorecard. Come learn about how your local representatives voted on important environmental issues and all that was left on the table! Please note that free beverages are not provided at this event.
URL:https://envirocenter.org/event/pints-politics/
LOCATION:Broken Top Bottle Shop\, 1740 NW Pence Ln #1\, Bend\, OR\, 97701\, United States
ATTACH;FMTTYPE=image/png:https://envirocenter.org/wp-content/uploads/2025/10/Screenshot-2025-10-08-at-11.44.14-AM.png
GEO:44.0633684;-121.3389538
X-APPLE-STRUCTURED-LOCATION;VALUE=URI;X-ADDRESS=Broken Top Bottle Shop 1740 NW Pence Ln #1 Bend OR 97701 United States;X-APPLE-RADIUS=500;X-TITLE=1740 NW Pence Ln #1:geo:-121.3389538,44.0633684
END:VEVENT
BEGIN:VEVENT
DTSTART;TZID=America/Los_Angeles:20240904T170000
DTEND;TZID=America/Los_Angeles:20240904T180000
DTSTAMP:20260421T134210
CREATED:20240821T164150Z
LAST-MODIFIED:20240821T164150Z
UID:10004490-1725469200-1725472800@envirocenter.org
SUMMARY:Energize Bend Happy Hour
DESCRIPTION:Let’s build a cleaner\, safer Bend! \nGrab a refreshment and hear from Energize Bend and Solarize Deschutes on how we can help decarbonize Bend.
URL:https://envirocenter.org/event/energize-bend-happy-hour/
LOCATION:Broken Top Bottle Shop\, 1740 NW Pence Ln #1\, Bend\, OR\, 97701\, United States
CATEGORIES:Advocacy,Climate,Energy
ATTACH;FMTTYPE=image/jpeg:https://envirocenter.org/wp-content/uploads/2024/08/3.jpg
ORGANIZER;CN="Energize Bend":MAILTO:kristi@energizebend.org
GEO:44.0633684;-121.3389538
X-APPLE-STRUCTURED-LOCATION;VALUE=URI;X-ADDRESS=Broken Top Bottle Shop 1740 NW Pence Ln #1 Bend OR 97701 United States;X-APPLE-RADIUS=500;X-TITLE=1740 NW Pence Ln #1:geo:-121.3389538,44.0633684
END:VEVENT
BEGIN:VEVENT
DTSTART;TZID=America/Los_Angeles:20231107T180000
DTEND;TZID=America/Los_Angeles:20231107T210000
DTSTAMP:20260421T134210
CREATED:20231031T172550Z
LAST-MODIFIED:20231108T160709Z
UID:10004105-1699380000-1699390800@envirocenter.org
SUMMARY:The Blackcountry Journal film screening
DESCRIPTION:Join Oregon Wild in Bend and get stoked for ski season with an in-person screening of the film The Blackcountry Journal! \nWhere: Broken Top Bottle Shop & Ale Cafe (1740 NW Pence Ln # 1\, Bend\, OR 97703) \nWhen: Tuesday\, November 7 at 6pm \nAbout the film: A skier contemplates his connection to skiing and the mountains. As he hurries through the streets of L.A.\, his path takes a turn after bumping into a jazz musician who helps him discover the correlation between jazz and skiing–an expression of art\, skiing\, and black culture. \nWe’ll also be joined by the filmmaker and star of The Blackcountry Journal\, Mallory Duncan\, and our friends from Vamonos Outside for a discussion after the film on skiing\, public lands\, and representation in the outdoors. \nMallory Duncan is a skier and filmmaker based in Bend\, Oregon. \nVamonos Outside is a grassroots movement to engage Central Oregon Latinx and BIPOC communities with the outdoors. Primarily utilizing partnerships\, public lands\, and outdoor recreation activities such as skiing/snowboarding\, mountain biking\, climbing\, hiking\, canoeing\, rafting\, and others. Their goal is to foster a sense of connection and integration between marginalized communities and green spaces.
URL:https://envirocenter.org/event/the-blackcountry-journal-film-screening/
LOCATION:Broken Top Bottle Shop\, 1740 NW Pence Ln #1\, Bend\, OR\, 97701\, United States
CATEGORIES:Film,Inclusion,Outdoors & Adventure,Public Lands,Racial Justice
ATTACH;FMTTYPE=image/jpeg:https://envirocenter.org/wp-content/uploads/2023/10/THE_BLACKCOUNTRY_JOURNAL_Patrick.1.jpg
ORGANIZER;CN="Oregon Wild":MAILTO:ph@oregonwild.org
GEO:44.0633684;-121.3389538
X-APPLE-STRUCTURED-LOCATION;VALUE=URI;X-ADDRESS=Broken Top Bottle Shop 1740 NW Pence Ln #1 Bend OR 97701 United States;X-APPLE-RADIUS=500;X-TITLE=1740 NW Pence Ln #1:geo:-121.3389538,44.0633684
END:VEVENT
BEGIN:VEVENT
DTSTART;TZID=America/Los_Angeles:20190516T180000
DTEND;TZID=America/Los_Angeles:20190516T200000
DTSTAMP:20260421T134210
CREATED:20190502T171637Z
LAST-MODIFIED:20190520T165014Z
UID:10003174-1558029600-1558036800@envirocenter.org
SUMMARY:Pints & Politics
DESCRIPTION:The City of Bend is currently updating its Transportation System Plan (TSP)\, which will guide policies\, programs and infrastructure investments for transportation in Bend until 2040. \nJoin Mike Riley\, Executive Director of The Environmental Center\, and Moey Newbold\, Director of Urban Panning at Central Oregon Landwatch\, to learn how our community can benefit from a transportation system that prioritizes safe\, healthy\, and climate-friendly options like walking\, biking\, and transit. Come find out how you can advocate for a well-rounded transportation future for Bend that better serves underserved populations.
URL:https://envirocenter.org/event/pints-politics-12/
LOCATION:Broken Top Bottle Shop\, 1740 NW Pence Ln #1\, Bend\, OR\, 97701\, United States
CATEGORIES:Climate,Transportation
ATTACH;FMTTYPE=image/png:https://envirocenter.org/wp-content/uploads/2019/05/PINTS-POLITICS-Bigger-e1556817386374.png
ORGANIZER;CN="Oregon League of Conservation Voters (OLCV)":MAILTO:nikki@olcv.org
GEO:44.0633684;-121.3389538
X-APPLE-STRUCTURED-LOCATION;VALUE=URI;X-ADDRESS=Broken Top Bottle Shop 1740 NW Pence Ln #1 Bend OR 97701 United States;X-APPLE-RADIUS=500;X-TITLE=1740 NW Pence Ln #1:geo:-121.3389538,44.0633684
END:VEVENT
BEGIN:VEVENT
DTSTART;TZID=America/Los_Angeles:20181115T190000
DTEND;TZID=America/Los_Angeles:20181115T210000
DTSTAMP:20260421T134210
CREATED:20181109T203257Z
LAST-MODIFIED:20181109T203257Z
UID:10003080-1542308400-1542315600@envirocenter.org
SUMMARY:Environmental Trivia at Pints and Politics
DESCRIPTION:Join the Oregon League of Conservation Voters for a fun night of environmental trivia\, hosted by OLCV’s local Leadership Committee. \nCome test your knowledge of Oregon’s environment\, politics\, and OLCV history\, or just come to learn a thing or two at the last Pints and Politics of 2018. Snacks and prizes provided! \n*This event will also double as a volunteer appreciation event.
URL:https://envirocenter.org/event/environmental-trivia-at-pints-and-politics-2/
LOCATION:Broken Top Bottle Shop\, 1740 NW Pence Ln #1\, Bend\, OR\, 97701\, United States
CATEGORIES:Climate
ATTACH;FMTTYPE=image/png:https://envirocenter.org/wp-content/uploads/2018/11/OLCV-Pints-and-Politics-e1546471318347.png
ORGANIZER;CN="Oregon League of Conservation Voters (OLCV)":MAILTO:nikki@olcv.org
GEO:44.0633684;-121.3389538
X-APPLE-STRUCTURED-LOCATION;VALUE=URI;X-ADDRESS=Broken Top Bottle Shop 1740 NW Pence Ln #1 Bend OR 97701 United States;X-APPLE-RADIUS=500;X-TITLE=1740 NW Pence Ln #1:geo:-121.3389538,44.0633684
END:VEVENT
BEGIN:VEVENT
DTSTART;TZID=America/Los_Angeles:20180920T190000
DTEND;TZID=America/Los_Angeles:20180920T210000
DTSTAMP:20260421T134210
CREATED:20180917T141459Z
LAST-MODIFIED:20180917T141459Z
UID:10003057-1537470000-1537477200@envirocenter.org
SUMMARY:Pints & Politics
DESCRIPTION:Join OLCV\, friends and community members to hear from local candidates who care about protecting Oregon’s natural legacy.\n\n\n\n\n\nMeet candidates for Bend City Council\, Gena Goodman-Campbell and Barb Campbell\, and candidate for Bend Mayor\, Sally Russell. Learn why Gena\, Barb and Sally are running\, ask questions\, and find out how you can ensure the Bend City Council continues to value our environment.
URL:https://envirocenter.org/event/pints-politics-11/
LOCATION:Broken Top Bottle Shop\, 1740 NW Pence Ln #1\, Bend\, OR\, 97701\, United States
ATTACH;FMTTYPE=image/jpeg:https://envirocenter.org/wp-content/uploads/2018/09/PandPlogo2018.jpg
ORGANIZER;CN="Oregon League of Conservation Voters (OLCV)":MAILTO:nikki@olcv.org
GEO:44.0633684;-121.3389538
X-APPLE-STRUCTURED-LOCATION;VALUE=URI;X-ADDRESS=Broken Top Bottle Shop 1740 NW Pence Ln #1 Bend OR 97701 United States;X-APPLE-RADIUS=500;X-TITLE=1740 NW Pence Ln #1:geo:-121.3389538,44.0633684
END:VEVENT
BEGIN:VEVENT
DTSTART;TZID=America/Los_Angeles:20170921T190000
DTEND;TZID=America/Los_Angeles:20170921T210000
DTSTAMP:20260421T134210
CREATED:20170912T174516Z
LAST-MODIFIED:20170912T174516Z
UID:10001096-1506020400-1506027600@envirocenter.org
SUMMARY:Pints & Politics
DESCRIPTION:Looking Inward to Prevent Sprawl at Pints and Politics\nJoin Oregon League of Conservation Voters and special guest\, Moey Newbold\, advocacy programs manager at Central Oregon Landwatch\, to get the scoop on the Bend Central District (BCD) Initiative. \nThe Bend Central District is the area east of downtown bounded roughly by Revere Avenue on the north\, 4th Street on the east\, and the railroad on the south and west sides. It has long been identified in the City of Bend’s plans to transition from mostly industrial uses to a more urban neighborhood\, and it is uniquely positioned to distribute the load of future growth. \nCome to Pints and Politics to learn more about the BCD Initiative. Find out how you can get involved to build momentum and support for the district’s transformation into a vibrant and healthy mixed-use community with safe connections between east and west Bend.
URL:https://envirocenter.org/event/pints-politics-10/
LOCATION:Broken Top Bottle Shop\, 1740 NW Pence Ln #1\, Bend\, OR\, 97701\, United States
ATTACH;FMTTYPE=image/jpeg:https://envirocenter.org/wp-content/uploads/2015/08/Pints-and-Politics-banner.jpg
ORGANIZER;CN="Oregon League of Conservation Voters (OLCV)":MAILTO:nikki@olcv.org
GEO:44.0633684;-121.3389538
X-APPLE-STRUCTURED-LOCATION;VALUE=URI;X-ADDRESS=Broken Top Bottle Shop 1740 NW Pence Ln #1 Bend OR 97701 United States;X-APPLE-RADIUS=500;X-TITLE=1740 NW Pence Ln #1:geo:-121.3389538,44.0633684
END:VEVENT
BEGIN:VEVENT
DTSTART;TZID=America/Los_Angeles:20150518T173000
DTEND;TZID=America/Los_Angeles:20150518T190000
DTSTAMP:20260421T134210
CREATED:20150415T004113Z
LAST-MODIFIED:20150415T004113Z
UID:10000310-1431970200-1431975600@envirocenter.org
SUMMARY:InFARMation & Beer
DESCRIPTION:Friends of Family Farmers and High Desert Food & Farm Alliance present InFARMation & BEER \nTuesday May 18 @ 5:30 pm \nTOPIC: TBA \nPanelists\, Discussion\, and Networking. Quarterly the 3rd Tuesday of the month. \nFREE AND OPEN TO ALL!
URL:https://envirocenter.org/event/infarmation-beer-3/
LOCATION:Broken Top Bottle Shop\, 1740 NW Pence Ln #1\, Bend\, OR\, 97701\, United States
ORGANIZER;CN="Friends of Family Farmers":MAILTO:info@friendsoffamilyfarmers.org
GEO:44.0633684;-121.3389538
X-APPLE-STRUCTURED-LOCATION;VALUE=URI;X-ADDRESS=Broken Top Bottle Shop 1740 NW Pence Ln #1 Bend OR 97701 United States;X-APPLE-RADIUS=500;X-TITLE=1740 NW Pence Ln #1:geo:-121.3389538,44.0633684
END:VEVENT
BEGIN:VEVENT
DTSTART;TZID=America/Los_Angeles:20140918T190000
DTEND;TZID=America/Los_Angeles:20140918T210000
DTSTAMP:20260421T134210
CREATED:20140808T182543Z
LAST-MODIFIED:20140808T182543Z
UID:10002277-1411066800-1411074000@envirocenter.org
SUMMARY:Pints and Politics
DESCRIPTION:Meet the Oregon League of Conservation Voter’s Endorsed Candidates at the Broken Top Bottle Shop and Ale Cafe! \nJoin OLCV\, friends\, volunteers\, and community members to hear from local candidates who care about protecting Oregon’s natural legacy\, from 7pm-9pm. \nAugust 21st: Craig Wilhelm\, for State Representative (HD 54-Bend) \nSeptember 18th: Jodie Barram\, for Deschutes County Commissioner \nVisit the OLCV website for more information.
URL:https://envirocenter.org/event/pints-politics-4/
LOCATION:Broken Top Bottle Shop\, 1740 NW Pence Ln #1\, Bend\, OR\, 97701\, United States
ORGANIZER;CN="Oregon League of Conservation Voters (OLCV)":MAILTO:nikki@olcv.org
GEO:44.0633684;-121.3389538
X-APPLE-STRUCTURED-LOCATION;VALUE=URI;X-ADDRESS=Broken Top Bottle Shop 1740 NW Pence Ln #1 Bend OR 97701 United States;X-APPLE-RADIUS=500;X-TITLE=1740 NW Pence Ln #1:geo:-121.3389538,44.0633684
END:VEVENT
BEGIN:VEVENT
DTSTART;TZID=America/Los_Angeles:20140821T190000
DTEND;TZID=America/Los_Angeles:20140821T210000
DTSTAMP:20260421T134210
CREATED:20140808T182452Z
LAST-MODIFIED:20140808T182452Z
UID:10002276-1408647600-1408654800@envirocenter.org
SUMMARY:Pints and Politics
DESCRIPTION:Meet the Oregon League of Conservation Voter’s Endorsed Candidates at the Broken Top Bottle Shop and Ale Cafe! \nJoin OLCV\, friends\, volunteers\, and community members to hear from local candidates who care about protecting Oregon’s natural legacy\, from 7pm-9pm. \nAugust 21st: Craig Wilhelm\, for State Representative (HD 54-Bend) \nSeptember 18th: Jodie Barram\, for Deschutes County Commissioner \nVisit the OLCV website for more information.
URL:https://envirocenter.org/event/pints-politics-3/
LOCATION:Broken Top Bottle Shop\, 1740 NW Pence Ln #1\, Bend\, OR\, 97701\, United States
ORGANIZER;CN="Oregon League of Conservation Voters (OLCV)":MAILTO:nikki@olcv.org
GEO:44.0633684;-121.3389538
X-APPLE-STRUCTURED-LOCATION;VALUE=URI;X-ADDRESS=Broken Top Bottle Shop 1740 NW Pence Ln #1 Bend OR 97701 United States;X-APPLE-RADIUS=500;X-TITLE=1740 NW Pence Ln #1:geo:-121.3389538,44.0633684
END:VEVENT
END:VCALENDAR