BEGIN:VCALENDAR
VERSION:2.0
PRODID:-//The Environmental Center - ECPv6.15.20//NONSGML v1.0//EN
CALSCALE:GREGORIAN
METHOD:PUBLISH
X-ORIGINAL-URL:https://envirocenter.org
X-WR-CALDESC:Events for The Environmental Center
REFRESH-INTERVAL;VALUE=DURATION:PT1H
X-Robots-Tag:noindex
X-PUBLISHED-TTL:PT1H
BEGIN:VTIMEZONE
TZID:America/Los_Angeles
BEGIN:DAYLIGHT
TZOFFSETFROM:-0800
TZOFFSETTO:-0700
TZNAME:PDT
DTSTART:20220313T100000
END:DAYLIGHT
BEGIN:STANDARD
TZOFFSETFROM:-0700
TZOFFSETTO:-0800
TZNAME:PST
DTSTART:20221106T090000
END:STANDARD
BEGIN:DAYLIGHT
TZOFFSETFROM:-0800
TZOFFSETTO:-0700
TZNAME:PDT
DTSTART:20230312T100000
END:DAYLIGHT
BEGIN:STANDARD
TZOFFSETFROM:-0700
TZOFFSETTO:-0800
TZNAME:PST
DTSTART:20231105T090000
END:STANDARD
BEGIN:DAYLIGHT
TZOFFSETFROM:-0800
TZOFFSETTO:-0700
TZNAME:PDT
DTSTART:20240310T100000
END:DAYLIGHT
BEGIN:STANDARD
TZOFFSETFROM:-0700
TZOFFSETTO:-0800
TZNAME:PST
DTSTART:20241103T090000
END:STANDARD
BEGIN:DAYLIGHT
TZOFFSETFROM:-0800
TZOFFSETTO:-0700
TZNAME:PDT
DTSTART:20250309T100000
END:DAYLIGHT
BEGIN:STANDARD
TZOFFSETFROM:-0700
TZOFFSETTO:-0800
TZNAME:PST
DTSTART:20251102T090000
END:STANDARD
BEGIN:DAYLIGHT
TZOFFSETFROM:-0800
TZOFFSETTO:-0700
TZNAME:PDT
DTSTART:20260308T100000
END:DAYLIGHT
BEGIN:STANDARD
TZOFFSETFROM:-0700
TZOFFSETTO:-0800
TZNAME:PST
DTSTART:20261101T090000
END:STANDARD
END:VTIMEZONE
BEGIN:VEVENT
DTSTART;VALUE=DATE:20250325
DTEND;VALUE=DATE:20250326
DTSTAMP:20260425T160429
CREATED:20250305T231401Z
LAST-MODIFIED:20250305T231401Z
UID:10004599-1742889600-1742922000@envirocenter.org
SUMMARY:Vamonos Outside at Deschutes
DESCRIPTION:Friends and Family of Vamonos Outside!\n\nIf you have a weekly or monthly family out-to-dinner routine\, a happy hour networking meetup\, or any other reason to eat out or enjoy a beverage\, may we suggest you do so on Tuesdays in March at Deschutes Brewery’s Community Pints Night.\n\nBy choosing Deschutes on Tuesdays in March\, you will help benefit Vamonos Outside. We are actively working to close funding gaps for our summer programs. Thanks for supporting the businesses that support VO!
URL:https://envirocenter.org/event/vamonos-outside-at-deschutes/2025-03-25/
LOCATION:Deschutes Brewery\, 901 SW Simpson Ave.\, Bend\, OR\, 97702\, United States
ATTACH;FMTTYPE=image/jpeg:https://envirocenter.org/wp-content/uploads/2025/03/Screenshot-2025-03-05-at-3.13.34 PM.jpg
GEO:44.0468512;-121.3223363
X-APPLE-STRUCTURED-LOCATION;VALUE=URI;X-ADDRESS=Deschutes Brewery 901 SW Simpson Ave. Bend OR 97702 United States;X-APPLE-RADIUS=500;X-TITLE=901 SW Simpson Ave.:geo:-121.3223363,44.0468512
END:VEVENT
BEGIN:VEVENT
DTSTART;VALUE=DATE:20250318
DTEND;VALUE=DATE:20250319
DTSTAMP:20260425T160429
CREATED:20250305T231401Z
LAST-MODIFIED:20250305T231401Z
UID:10004598-1742284800-1742317200@envirocenter.org
SUMMARY:Vamonos Outside at Deschutes
DESCRIPTION:Friends and Family of Vamonos Outside!\n\nIf you have a weekly or monthly family out-to-dinner routine\, a happy hour networking meetup\, or any other reason to eat out or enjoy a beverage\, may we suggest you do so on Tuesdays in March at Deschutes Brewery’s Community Pints Night.\n\nBy choosing Deschutes on Tuesdays in March\, you will help benefit Vamonos Outside. We are actively working to close funding gaps for our summer programs. Thanks for supporting the businesses that support VO!
URL:https://envirocenter.org/event/vamonos-outside-at-deschutes/2025-03-18/
LOCATION:Deschutes Brewery\, 901 SW Simpson Ave.\, Bend\, OR\, 97702\, United States
ATTACH;FMTTYPE=image/jpeg:https://envirocenter.org/wp-content/uploads/2025/03/Screenshot-2025-03-05-at-3.13.34 PM.jpg
GEO:44.0468512;-121.3223363
X-APPLE-STRUCTURED-LOCATION;VALUE=URI;X-ADDRESS=Deschutes Brewery 901 SW Simpson Ave. Bend OR 97702 United States;X-APPLE-RADIUS=500;X-TITLE=901 SW Simpson Ave.:geo:-121.3223363,44.0468512
END:VEVENT
BEGIN:VEVENT
DTSTART;VALUE=DATE:20250311
DTEND;VALUE=DATE:20250312
DTSTAMP:20260425T160429
CREATED:20250305T231401Z
LAST-MODIFIED:20250305T231401Z
UID:10004597-1741651200-1741737599@envirocenter.org
SUMMARY:Vamonos Outside at Deschutes
DESCRIPTION:Friends and Family of Vamonos Outside!\n\nIf you have a weekly or monthly family out-to-dinner routine\, a happy hour networking meetup\, or any other reason to eat out or enjoy a beverage\, may we suggest you do so on Tuesdays in March at Deschutes Brewery’s Community Pints Night.\n\nBy choosing Deschutes on Tuesdays in March\, you will help benefit Vamonos Outside. We are actively working to close funding gaps for our summer programs. Thanks for supporting the businesses that support VO!
URL:https://envirocenter.org/event/vamonos-outside-at-deschutes/2025-03-11/
LOCATION:Deschutes Brewery\, 901 SW Simpson Ave.\, Bend\, OR\, 97702\, United States
ATTACH;FMTTYPE=image/jpeg:https://envirocenter.org/wp-content/uploads/2025/03/Screenshot-2025-03-05-at-3.13.34 PM.jpg
GEO:44.0468512;-121.3223363
X-APPLE-STRUCTURED-LOCATION;VALUE=URI;X-ADDRESS=Deschutes Brewery 901 SW Simpson Ave. Bend OR 97702 United States;X-APPLE-RADIUS=500;X-TITLE=901 SW Simpson Ave.:geo:-121.3223363,44.0468512
END:VEVENT
BEGIN:VEVENT
DTSTART;TZID=America/Los_Angeles:20240313T183000
DTEND;TZID=America/Los_Angeles:20240313T210000
DTSTAMP:20260425T160429
CREATED:20240227T172626Z
LAST-MODIFIED:20240304T182413Z
UID:10004174-1710354600-1710363600@envirocenter.org
SUMMARY:REEL ROCK 18
DESCRIPTION:Presented by Mountain Supply. A benefit for Bend Endurance Academy and Vámonos Outside!\nGeneral admission\, doors open at 6:30 PM. \nFollow the philosophical journey of Japanese climbing phenom Sachi Amma\, as he evolves from three-time world champion to traditional climbing purist\, culminating in a visionary first ascent on the mythical Mt. Mizugaki. (30 min) \nANGIE SCARTH-JOHNSON & HAZEL FINDLAY IN – YEAH BUDDY \nAustralian climber Angie Scarth-Johnson\, who first made her mark setting records at a young age\, teams up with veteran adventure climber Hazel Findlay to explore the best of Mallorca’s deep-water soloing. (25 min) \nJOSH WHARTON & VINCE ANDERSON IN – JIRISHANCA \nRenowned alpinists Josh Wharton and Vince Anderson attempt a free ascent of the Jirishanca\, an epic 20\,000-foot peak in the Peruvian Andes. The duo will have to tackle 5.13 face climbing\, horizontal ice roofs\, technical mixed terrain and treacherous snow mushrooms as they reconcile the inherent risk of climbing with their love of alpine adventure. (40 min) \nMATT GROOM & DANYIL BOLDYREV IN – CLIMBING NEVER DIE \nClimbing journalist Matt Groom journeys deep into war-torn Ukraine to discover a community held together by climbing and patriotism\, but indelibly changed by war. (35 min) \nGET TICKETS
URL:https://envirocenter.org/event/reel-rock-18/
LOCATION:Tower Theatre\, 835 NW Wall St.\, Bend\, OR\, 97701\, United States
CATEGORIES:Film,Outdoors & Adventure,Public Lands
ATTACH;FMTTYPE=image/jpeg:https://envirocenter.org/wp-content/uploads/2024/02/reelrock18.jpeg
GEO:44.058743;-121.314914
X-APPLE-STRUCTURED-LOCATION;VALUE=URI;X-ADDRESS=Tower Theatre 835 NW Wall St. Bend OR 97701 United States;X-APPLE-RADIUS=500;X-TITLE=835 NW Wall St.:geo:-121.314914,44.058743
END:VEVENT
BEGIN:VEVENT
DTSTART;TZID=America/Los_Angeles:20231107T180000
DTEND;TZID=America/Los_Angeles:20231107T210000
DTSTAMP:20260425T160429
CREATED:20231031T172550Z
LAST-MODIFIED:20231108T160709Z
UID:10004105-1699380000-1699390800@envirocenter.org
SUMMARY:The Blackcountry Journal film screening
DESCRIPTION:Join Oregon Wild in Bend and get stoked for ski season with an in-person screening of the film The Blackcountry Journal! \nWhere: Broken Top Bottle Shop & Ale Cafe (1740 NW Pence Ln # 1\, Bend\, OR 97703) \nWhen: Tuesday\, November 7 at 6pm \nAbout the film: A skier contemplates his connection to skiing and the mountains. As he hurries through the streets of L.A.\, his path takes a turn after bumping into a jazz musician who helps him discover the correlation between jazz and skiing–an expression of art\, skiing\, and black culture. \nWe’ll also be joined by the filmmaker and star of The Blackcountry Journal\, Mallory Duncan\, and our friends from Vamonos Outside for a discussion after the film on skiing\, public lands\, and representation in the outdoors. \nMallory Duncan is a skier and filmmaker based in Bend\, Oregon. \nVamonos Outside is a grassroots movement to engage Central Oregon Latinx and BIPOC communities with the outdoors. Primarily utilizing partnerships\, public lands\, and outdoor recreation activities such as skiing/snowboarding\, mountain biking\, climbing\, hiking\, canoeing\, rafting\, and others. Their goal is to foster a sense of connection and integration between marginalized communities and green spaces.
URL:https://envirocenter.org/event/the-blackcountry-journal-film-screening/
LOCATION:Broken Top Bottle Shop\, 1740 NW Pence Ln #1\, Bend\, OR\, 97701\, United States
CATEGORIES:Film,Inclusion,Outdoors & Adventure,Public Lands,Racial Justice
ATTACH;FMTTYPE=image/jpeg:https://envirocenter.org/wp-content/uploads/2023/10/THE_BLACKCOUNTRY_JOURNAL_Patrick.1.jpg
ORGANIZER;CN="Oregon Wild":MAILTO:ph@oregonwild.org
GEO:44.0633684;-121.3389538
X-APPLE-STRUCTURED-LOCATION;VALUE=URI;X-ADDRESS=Broken Top Bottle Shop 1740 NW Pence Ln #1 Bend OR 97701 United States;X-APPLE-RADIUS=500;X-TITLE=1740 NW Pence Ln #1:geo:-121.3389538,44.0633684
END:VEVENT
END:VCALENDAR