BEGIN:VCALENDAR
VERSION:2.0
PRODID:-//The Environmental Center - ECPv6.15.20//NONSGML v1.0//EN
CALSCALE:GREGORIAN
METHOD:PUBLISH
X-ORIGINAL-URL:https://envirocenter.org
X-WR-CALDESC:Events for The Environmental Center
REFRESH-INTERVAL;VALUE=DURATION:PT1H
X-Robots-Tag:noindex
X-PUBLISHED-TTL:PT1H
BEGIN:VTIMEZONE
TZID:America/Los_Angeles
BEGIN:DAYLIGHT
TZOFFSETFROM:-0800
TZOFFSETTO:-0700
TZNAME:PDT
DTSTART:20140309T100000
END:DAYLIGHT
BEGIN:STANDARD
TZOFFSETFROM:-0700
TZOFFSETTO:-0800
TZNAME:PST
DTSTART:20141102T090000
END:STANDARD
BEGIN:DAYLIGHT
TZOFFSETFROM:-0800
TZOFFSETTO:-0700
TZNAME:PDT
DTSTART:20150308T100000
END:DAYLIGHT
BEGIN:STANDARD
TZOFFSETFROM:-0700
TZOFFSETTO:-0800
TZNAME:PST
DTSTART:20151101T090000
END:STANDARD
BEGIN:DAYLIGHT
TZOFFSETFROM:-0800
TZOFFSETTO:-0700
TZNAME:PDT
DTSTART:20160313T100000
END:DAYLIGHT
BEGIN:STANDARD
TZOFFSETFROM:-0700
TZOFFSETTO:-0800
TZNAME:PST
DTSTART:20161106T090000
END:STANDARD
BEGIN:DAYLIGHT
TZOFFSETFROM:-0800
TZOFFSETTO:-0700
TZNAME:PDT
DTSTART:20170312T100000
END:DAYLIGHT
BEGIN:STANDARD
TZOFFSETFROM:-0700
TZOFFSETTO:-0800
TZNAME:PST
DTSTART:20171105T090000
END:STANDARD
END:VTIMEZONE
BEGIN:VEVENT
DTSTART;TZID=America/Los_Angeles:20160716T063000
DTEND;TZID=America/Los_Angeles:20160716T190000
DTSTAMP:20260419T152104
CREATED:20160713T213255Z
LAST-MODIFIED:20160713T213255Z
UID:10000569-1468650600-1468695600@envirocenter.org
SUMMARY:Bio Blitz!
DESCRIPTION:
URL:https://envirocenter.org/event/bio-blitz-2/
LOCATION:Lava Lands Visitors Center\, https://www.google.com/maps/place/4354'34.5N+12121'32.9W/@43.909578\,-121.359151\,17z/data=!3m1!4b1!4m4!3m3!8m2!3d43.909578!4d-121.359151?entry=ttu\, Bend\, OR\, 97707\, United States
ORGANIZER;CN="Sunriver Nature Center & Oregon Observatory":MAILTO:office@sunrivernaturecenter.org
GEO:44.0320789;-121.3090997
X-APPLE-STRUCTURED-LOCATION;VALUE=URI;X-ADDRESS=Lava Lands Visitors Center https://www.google.com/maps/place/4354'34.5N+12121'32.9W/@43.909578-121.35915117z/data=!3m1!4b1!4m4!3m3!8m2!3d43.909578!4d-121.359151?entry=ttu Bend OR 97707 United States;X-APPLE-RADIUS=500;X-TITLE=https://www.google.com/maps/place/4354'34.5N+12121'32.9W/@43.909578\,-121.359151\,17z/data=!3m1!4b1!4m4!3m3!8m2!3d43.909578!4d-121.359151?entry=ttu:geo:-121.3090997,44.0320789
END:VEVENT
BEGIN:VEVENT
DTSTART;TZID=America/Los_Angeles:20160611T090000
DTEND;TZID=America/Los_Angeles:20160612T160000
DTSTAMP:20260419T152104
CREATED:20160429T214117Z
LAST-MODIFIED:20160429T214117Z
UID:10000534-1465635600-1465747200@envirocenter.org
SUMMARY:Central Oregon Wildflower Show
DESCRIPTION:Central Oregon’s unique habitats and climate enable a great variety of native wildflowers both big and small to flourish here. The Central Oregon Wildflower Show and Native Plant Sale\, hosted by the Sunriver Nature Center exhibits hundreds of native wildflower species bursting with color. The show also provides a glimpse of Central Oregon’s native grasses\, shrubs\, sages\, fungi\, mosses and lichen. This year we are excited to host lectures on various topics by local experts in the field. Additional information booths on invasive species\, disease and fire resistant pines\, medicinal plants\, and rare and endangered plants of Central Oregon. The event is family friendly and offers kids activity booths\, family botanical hikes and much more! \nJoin us June 11th & 12th for a fabulous\, colorful weekend!. Follow along on Facebook for event info and updates: https://www.facebook.com/centraloregonwildflowershow
URL:https://envirocenter.org/event/central-oregon-wildflower-show-3/
LOCATION:Sunriver Nature Center & Oregon Observatory\, 57245 River Rd\, Sunriver\, OR\, 97707\, United States
ATTACH;FMTTYPE=image/png:https://envirocenter.org/wp-content/uploads/2016/04/12495250_1660598047535330_2020219953728994873_n.png
ORGANIZER;CN="Sunriver Nature Center & Oregon Observatory":MAILTO:office@sunrivernaturecenter.org
GEO:43.8853258;-121.4479251
X-APPLE-STRUCTURED-LOCATION;VALUE=URI;X-ADDRESS=Sunriver Nature Center & Oregon Observatory 57245 River Rd Sunriver OR 97707 United States;X-APPLE-RADIUS=500;X-TITLE=57245 River Rd:geo:-121.4479251,43.8853258
END:VEVENT
BEGIN:VEVENT
DTSTART;TZID=America/Los_Angeles:20150602T210000
DTEND;TZID=America/Los_Angeles:20150602T220000
DTSTAMP:20260419T152104
CREATED:20150430T200302Z
LAST-MODIFIED:20150430T200302Z
UID:10000321-1433278800-1433282400@envirocenter.org
SUMMARY:Full Moon Hike
DESCRIPTION:Full Moon Hike; May 4th from 8pm-9pm\, June 2nd from 9pm-10pm; At SNCO; Adults $6\, kids $4\, SNCO members Free (Registration required: 541-593-4394).
URL:https://envirocenter.org/event/full-moon-hike-3/
LOCATION:Sunriver Nature Center & Oregon Observatory\, 57245 River Rd\, Sunriver\, OR\, 97707\, United States
ORGANIZER;CN="Sunriver Nature Center & Oregon Observatory":MAILTO:office@sunrivernaturecenter.org
GEO:43.8853258;-121.4479251
X-APPLE-STRUCTURED-LOCATION;VALUE=URI;X-ADDRESS=Sunriver Nature Center & Oregon Observatory 57245 River Rd Sunriver OR 97707 United States;X-APPLE-RADIUS=500;X-TITLE=57245 River Rd:geo:-121.4479251,43.8853258
END:VEVENT
BEGIN:VEVENT
DTSTART;TZID=America/Los_Angeles:20150504T200000
DTEND;TZID=America/Los_Angeles:20150504T210000
DTSTAMP:20260419T152104
CREATED:20150430T200215Z
LAST-MODIFIED:20150430T200215Z
UID:10002465-1430769600-1430773200@envirocenter.org
SUMMARY:Full Moon Hike
DESCRIPTION:The full moon provides an excellent opportunity to explore the night under the natural light of the moon! Come out to enjoy the beauty of the lake and meadow bathed in the moon’s reflected light. Keep eyes and ears active\, and maybe you will spot some of the wildlife that is awake when we are normally inside for the night. \nThis walk will be led by a knowledgable Nature Center Naturalist\, and will take participants over potentially uneven ground on and around Nature Center grounds. Bring warm clothes\, comfortable walking shoes\, a flashlight if available (red light is best to keep your eyes adjusted to the dark!)\, and a sense of adventure! \nMeet at the Nature Center 15 minutes early\, event runs from 8pm – 9pm. \nEvent fee: $6 adults & $4 kids. \nREGISTRATION IS REQUIRED! Call to reserve your spot at 541-593-4394.
URL:https://envirocenter.org/event/full-moon-hike-2/
LOCATION:Sunriver Nature Center & Oregon Observatory\, 57245 River Rd\, Sunriver\, OR\, 97707\, United States
ATTACH;FMTTYPE=image/jpeg:https://envirocenter.org/wp-content/uploads/2015/05/10689857_781041528640775_2749043219035168164_n.jpg
ORGANIZER;CN="Sunriver Nature Center & Oregon Observatory":MAILTO:office@sunrivernaturecenter.org
GEO:43.8853258;-121.4479251
X-APPLE-STRUCTURED-LOCATION;VALUE=URI;X-ADDRESS=Sunriver Nature Center & Oregon Observatory 57245 River Rd Sunriver OR 97707 United States;X-APPLE-RADIUS=500;X-TITLE=57245 River Rd:geo:-121.4479251,43.8853258
END:VEVENT
END:VCALENDAR