BEGIN:VCALENDAR
VERSION:2.0
PRODID:-//The Environmental Center - ECPv6.15.20//NONSGML v1.0//EN
CALSCALE:GREGORIAN
METHOD:PUBLISH
X-ORIGINAL-URL:https://envirocenter.org
X-WR-CALDESC:Events for The Environmental Center
REFRESH-INTERVAL;VALUE=DURATION:PT1H
X-Robots-Tag:noindex
X-PUBLISHED-TTL:PT1H
BEGIN:VTIMEZONE
TZID:America/Los_Angeles
BEGIN:DAYLIGHT
TZOFFSETFROM:-0800
TZOFFSETTO:-0700
TZNAME:PDT
DTSTART:20200308T100000
END:DAYLIGHT
BEGIN:STANDARD
TZOFFSETFROM:-0700
TZOFFSETTO:-0800
TZNAME:PST
DTSTART:20201101T090000
END:STANDARD
BEGIN:DAYLIGHT
TZOFFSETFROM:-0800
TZOFFSETTO:-0700
TZNAME:PDT
DTSTART:20210314T100000
END:DAYLIGHT
BEGIN:STANDARD
TZOFFSETFROM:-0700
TZOFFSETTO:-0800
TZNAME:PST
DTSTART:20211107T090000
END:STANDARD
BEGIN:DAYLIGHT
TZOFFSETFROM:-0800
TZOFFSETTO:-0700
TZNAME:PDT
DTSTART:20220313T100000
END:DAYLIGHT
BEGIN:STANDARD
TZOFFSETFROM:-0700
TZOFFSETTO:-0800
TZNAME:PST
DTSTART:20221106T090000
END:STANDARD
BEGIN:DAYLIGHT
TZOFFSETFROM:-0800
TZOFFSETTO:-0700
TZNAME:PDT
DTSTART:20230312T100000
END:DAYLIGHT
BEGIN:STANDARD
TZOFFSETFROM:-0700
TZOFFSETTO:-0800
TZNAME:PST
DTSTART:20231105T090000
END:STANDARD
BEGIN:DAYLIGHT
TZOFFSETFROM:-0800
TZOFFSETTO:-0700
TZNAME:PDT
DTSTART:20240310T100000
END:DAYLIGHT
BEGIN:STANDARD
TZOFFSETFROM:-0700
TZOFFSETTO:-0800
TZNAME:PST
DTSTART:20241103T090000
END:STANDARD
END:VTIMEZONE
BEGIN:VEVENT
DTSTART;TZID=America/Los_Angeles:20230506T100000
DTEND;TZID=America/Los_Angeles:20230506T110000
DTSTAMP:20260419T075158
CREATED:20230408T004658Z
LAST-MODIFIED:20230504T204132Z
UID:10003987-1683367200-1683370800@envirocenter.org
SUMMARY:Green Energy Series #7: Vehicle-to-Grid and Vehicle-to-Home
DESCRIPTION:Solar Oregon presents a free webinar on vehicle to home and vehicle to grid power for our Green Energy Series. \nRegister here!
URL:https://envirocenter.org/event/green-energy-series-7-vehicle-to-grid-and-vehicle-to-home-2/
CATEGORIES:Energy,Online event,solar
ATTACH;FMTTYPE=image/jpeg:https://envirocenter.org/wp-content/uploads/2023/04/unnamed-78.jpg
ORGANIZER;CN="Solar Oregon":MAILTO:info@solaroregon.org
END:VEVENT
BEGIN:VEVENT
DTSTART;TZID=America/Los_Angeles:20230221T120000
DTEND;TZID=America/Los_Angeles:20230221T130000
DTSTAMP:20260419T075158
CREATED:20230206T233232Z
LAST-MODIFIED:20230206T233232Z
UID:10002066-1676980800-1676984400@envirocenter.org
SUMMARY:How to Go Solar + Storage
DESCRIPTION:In these free recurring webinars\, Solar Oregon will answer your questions about how solar energy and battery systems work\, share information about incentives available\, and help you take the first step to add solar to your home or business. This webinar is free and open to everyone. \nRegister here!
URL:https://envirocenter.org/event/how-to-go-solar-storage-11/
CATEGORIES:Online event,solar
ATTACH;FMTTYPE=image/png:https://envirocenter.org/wp-content/uploads/2023/02/Feb-21.png
ORGANIZER;CN="Solar Oregon":MAILTO:info@solaroregon.org
END:VEVENT
BEGIN:VEVENT
DTSTART;TZID=America/Los_Angeles:20230118T120000
DTEND;TZID=America/Los_Angeles:20230118T130000
DTSTAMP:20260419T075158
CREATED:20230103T222908Z
LAST-MODIFIED:20230103T222908Z
UID:10002052-1674043200-1674046800@envirocenter.org
SUMMARY:How to Go Solar + Storage
DESCRIPTION:At this workshop\, you’ll learn everything you need to know to feel confident adding solar or energy storage to your home or business.
URL:https://envirocenter.org/event/how-to-go-solar-storage-10/
CATEGORIES:Online event,solar
ATTACH;FMTTYPE=image/jpeg:https://envirocenter.org/wp-content/uploads/2023/01/Jan-18th.jpg
ORGANIZER;CN="Solar Oregon":MAILTO:info@solaroregon.org
END:VEVENT
BEGIN:VEVENT
DTSTART;TZID=America/Los_Angeles:20221220T120000
DTEND;TZID=America/Los_Angeles:20221220T130000
DTSTAMP:20260419T075158
CREATED:20221201T200835Z
LAST-MODIFIED:20221201T200835Z
UID:10002032-1671537600-1671541200@envirocenter.org
SUMMARY:How to Go Solar + Storage
DESCRIPTION:At this workshop\, you’ll learn everything you need to know to feel confident adding solar or energy storage to your home or business.
URL:https://envirocenter.org/event/how-to-go-solar-storage-9/
CATEGORIES:Online event,solar
ATTACH;FMTTYPE=image/png:https://envirocenter.org/wp-content/uploads/2022/12/dec-20th.png
ORGANIZER;CN="Solar Oregon":MAILTO:info@solaroregon.org
END:VEVENT
BEGIN:VEVENT
DTSTART;TZID=America/Los_Angeles:20221206T120000
DTEND;TZID=America/Los_Angeles:20221206T130000
DTSTAMP:20260419T075158
CREATED:20221201T200336Z
LAST-MODIFIED:20221201T200336Z
UID:10002030-1670328000-1670331600@envirocenter.org
SUMMARY:How to Go Solar + Storage
DESCRIPTION:At this workshop you’ll learn everything you need to know to feel confident adding solar or energy storage to your home or business.
URL:https://envirocenter.org/event/how-to-go-solar-storage-8/
CATEGORIES:Online event,solar
ATTACH;FMTTYPE=image/jpeg:https://envirocenter.org/wp-content/uploads/2022/12/Dec-6th-event.jpg
ORGANIZER;CN="Solar Oregon":MAILTO:info@solaroregon.org
END:VEVENT
BEGIN:VEVENT
DTSTART;TZID=America/Los_Angeles:20220829T120000
DTEND;TZID=America/Los_Angeles:20220829T130000
DTSTAMP:20260419T075158
CREATED:20220818T210351Z
LAST-MODIFIED:20220818T210351Z
UID:10001989-1661774400-1661778000@envirocenter.org
SUMMARY:How to Go Solar + Storage
DESCRIPTION:At this workshop you’ll learn everything you need to know to feel confident adding solar or energy storage to your home or business.
URL:https://envirocenter.org/event/how-to-go-solar-storage-7/
CATEGORIES:Online event,solar
ATTACH;FMTTYPE=image/jpeg:https://envirocenter.org/wp-content/uploads/2022/08/aug-29-solar.jpg
ORGANIZER;CN="Solar Oregon":MAILTO:info@solaroregon.org
END:VEVENT
BEGIN:VEVENT
DTSTART;TZID=America/Los_Angeles:20220314T120000
DTEND;TZID=America/Los_Angeles:20220314T130000
DTSTAMP:20260419T075158
CREATED:20220207T234725Z
LAST-MODIFIED:20220207T234725Z
UID:10001894-1647259200-1647262800@envirocenter.org
SUMMARY:How to Go Solar
DESCRIPTION:In these free webinars\, Solar Oregon will answer your questions about how solar energy systems work\, share information about incentives available\, and help you take the first step to add solar to your home or business. In addition\, at each workshop\, you will discuss one of three special topics: solar + storage\, community solar\, and the Solar Within Reach incentive.
URL:https://envirocenter.org/event/how-to-go-solar-6/
CATEGORIES:Energy,Online event
ATTACH;FMTTYPE=image/png:https://envirocenter.org/wp-content/uploads/2022/02/unnamed-32.png
ORGANIZER;CN="Solar Oregon":MAILTO:info@solaroregon.org
END:VEVENT
BEGIN:VEVENT
DTSTART;TZID=America/Los_Angeles:20220309T180000
DTEND;TZID=America/Los_Angeles:20220309T190000
DTSTAMP:20260419T075158
CREATED:20220207T234500Z
LAST-MODIFIED:20220207T234500Z
UID:10001893-1646848800-1646852400@envirocenter.org
SUMMARY:How to Go Solar
DESCRIPTION:In these free webinars\, Solar Oregon will answer your questions about how solar energy systems work\, share information about incentives available\, and help you take the first step to add solar to your home or business. In addition\, at each workshop\, you will discuss one of three special topics: solar + storage\, community solar\, and the Solar Within Reach incentive.
URL:https://envirocenter.org/event/how-to-go-solar-5/
CATEGORIES:Energy,Online event
ATTACH;FMTTYPE=image/png:https://envirocenter.org/wp-content/uploads/2022/02/unnamed-32.png
ORGANIZER;CN="Solar Oregon":MAILTO:info@solaroregon.org
END:VEVENT
BEGIN:VEVENT
DTSTART;TZID=America/Los_Angeles:20220217T120000
DTEND;TZID=America/Los_Angeles:20220217T130000
DTSTAMP:20260419T075158
CREATED:20220207T234037Z
LAST-MODIFIED:20220207T234037Z
UID:10001892-1645099200-1645102800@envirocenter.org
SUMMARY:How to Go Solar
DESCRIPTION:In these free webinars\, Solar Oregon will answer your questions about how solar energy systems work\, share information about incentives available\, and help you take the first step to add solar to your home or business. In addition\, at each workshop\, you will discuss one of three special topics: solar + storage\, community solar\, and the Solar Within Reach incentive.
URL:https://envirocenter.org/event/how-to-go-solar-4/
CATEGORIES:Energy,Online event
ATTACH;FMTTYPE=image/png:https://envirocenter.org/wp-content/uploads/2022/02/unnamed-32.png
ORGANIZER;CN="Solar Oregon":MAILTO:info@solaroregon.org
END:VEVENT
BEGIN:VEVENT
DTSTART;TZID=America/Los_Angeles:20210629T130000
DTEND;TZID=America/Los_Angeles:20210629T140000
DTSTAMP:20260419T075158
CREATED:20210621T224408Z
LAST-MODIFIED:20210621T224408Z
UID:10003625-1624971600-1624975200@envirocenter.org
SUMMARY:How to Go Solar webinar
DESCRIPTION:As we enjoy some extra warm and sunny weather here in Oregon\, learn more about how to start your journey towards solar energy! \nAt the How to Go Solar workshop\, you’ll learn everything you need to know to feel confident adding solar to your home or business. \nLauren Williamsenviro \n 
URL:https://envirocenter.org/event/how-to-go-solar-webinar-2/
CATEGORIES:Energy,Online event
ATTACH;FMTTYPE=image/jpeg:https://envirocenter.org/wp-content/uploads/2021/06/solar-event-june.jpg
ORGANIZER;CN="Solar Oregon":MAILTO:info@solaroregon.org
END:VEVENT
END:VCALENDAR