BEGIN:VCALENDAR
VERSION:2.0
PRODID:-//The Environmental Center - ECPv6.15.20//NONSGML v1.0//EN
CALSCALE:GREGORIAN
METHOD:PUBLISH
X-ORIGINAL-URL:https://envirocenter.org
X-WR-CALDESC:Events for The Environmental Center
REFRESH-INTERVAL;VALUE=DURATION:PT1H
X-Robots-Tag:noindex
X-PUBLISHED-TTL:PT1H
BEGIN:VTIMEZONE
TZID:America/Los_Angeles
BEGIN:DAYLIGHT
TZOFFSETFROM:-0800
TZOFFSETTO:-0700
TZNAME:PDT
DTSTART:20220313T100000
END:DAYLIGHT
BEGIN:STANDARD
TZOFFSETFROM:-0700
TZOFFSETTO:-0800
TZNAME:PST
DTSTART:20221106T090000
END:STANDARD
BEGIN:DAYLIGHT
TZOFFSETFROM:-0800
TZOFFSETTO:-0700
TZNAME:PDT
DTSTART:20230312T100000
END:DAYLIGHT
BEGIN:STANDARD
TZOFFSETFROM:-0700
TZOFFSETTO:-0800
TZNAME:PST
DTSTART:20231105T090000
END:STANDARD
BEGIN:DAYLIGHT
TZOFFSETFROM:-0800
TZOFFSETTO:-0700
TZNAME:PDT
DTSTART:20240310T100000
END:DAYLIGHT
BEGIN:STANDARD
TZOFFSETFROM:-0700
TZOFFSETTO:-0800
TZNAME:PST
DTSTART:20241103T090000
END:STANDARD
END:VTIMEZONE
BEGIN:VEVENT
DTSTART;TZID=America/Los_Angeles:20230915T120000
DTEND;TZID=America/Los_Angeles:20230915T170000
DTSTAMP:20260425T081138
CREATED:20230906T160836Z
LAST-MODIFIED:20230906T160836Z
UID:10004060-1694779200-1694797200@envirocenter.org
SUMMARY:Native Plant Harvest
DESCRIPTION:RootedHomes invites the community to participate in its Native Plant Harvest on September 15\, 2023 from 12:00 PM to 5:00 PM. Hosted at 19755 Simpson Avenue\, at the corner of Simpson Ave and SW 18th Ave\, the RootedHomes event will harvest native plants and adolescent trees on the site of its future affordable housing development – Rooted at Simpson. Additional harvested plants and trees\, including ponderosas\, bitterbrush\, rabbitbrush\, sulfur buckwheat\, yarrow\, and fescue will be available for volunteers to take home. \nVolunteers should wear appropriate footwear and clothing for landscaping\, with gloves recommended. While limited shovels\, and wheelbarrows will be available\, volunteers are encouraged to bring their own. If you are interested in bringing home plants please bring your own pots. \nInterested volunteers can register below or contact Tess Freeman at tess@rootedhomes.org or 458-202-4598.
URL:https://envirocenter.org/event/native-plant-harvest/
LOCATION:Rooted at Simpson\, 19755 Simpson Avenue\, Bend\, OR\, 97702\, United States
CATEGORIES:Garden
ATTACH;FMTTYPE=image/jpeg:https://envirocenter.org/wp-content/uploads/2023/09/20220521_102106.jpg
GEO:44.0461402;-121.3402744
X-APPLE-STRUCTURED-LOCATION;VALUE=URI;X-ADDRESS=Rooted at Simpson 19755 Simpson Avenue Bend OR 97702 United States;X-APPLE-RADIUS=500;X-TITLE=19755 Simpson Avenue:geo:-121.3402744,44.0461402
END:VEVENT
END:VCALENDAR