BEGIN:VCALENDAR
VERSION:2.0
PRODID:-//The Environmental Center - ECPv6.15.20//NONSGML v1.0//EN
CALSCALE:GREGORIAN
METHOD:PUBLISH
X-ORIGINAL-URL:https://envirocenter.org
X-WR-CALDESC:Events for The Environmental Center
REFRESH-INTERVAL;VALUE=DURATION:PT1H
X-Robots-Tag:noindex
X-PUBLISHED-TTL:PT1H
BEGIN:VTIMEZONE
TZID:America/Los_Angeles
BEGIN:DAYLIGHT
TZOFFSETFROM:-0800
TZOFFSETTO:-0700
TZNAME:PDT
DTSTART:20220313T100000
END:DAYLIGHT
BEGIN:STANDARD
TZOFFSETFROM:-0700
TZOFFSETTO:-0800
TZNAME:PST
DTSTART:20221106T090000
END:STANDARD
BEGIN:DAYLIGHT
TZOFFSETFROM:-0800
TZOFFSETTO:-0700
TZNAME:PDT
DTSTART:20230312T100000
END:DAYLIGHT
BEGIN:STANDARD
TZOFFSETFROM:-0700
TZOFFSETTO:-0800
TZNAME:PST
DTSTART:20231105T090000
END:STANDARD
BEGIN:DAYLIGHT
TZOFFSETFROM:-0800
TZOFFSETTO:-0700
TZNAME:PDT
DTSTART:20240310T100000
END:DAYLIGHT
BEGIN:STANDARD
TZOFFSETFROM:-0700
TZOFFSETTO:-0800
TZNAME:PST
DTSTART:20241103T090000
END:STANDARD
BEGIN:DAYLIGHT
TZOFFSETFROM:-0800
TZOFFSETTO:-0700
TZNAME:PDT
DTSTART:20250309T100000
END:DAYLIGHT
BEGIN:STANDARD
TZOFFSETFROM:-0700
TZOFFSETTO:-0800
TZNAME:PST
DTSTART:20251102T090000
END:STANDARD
BEGIN:DAYLIGHT
TZOFFSETFROM:-0800
TZOFFSETTO:-0700
TZNAME:PDT
DTSTART:20260308T100000
END:DAYLIGHT
BEGIN:STANDARD
TZOFFSETFROM:-0700
TZOFFSETTO:-0800
TZNAME:PST
DTSTART:20261101T090000
END:STANDARD
END:VTIMEZONE
BEGIN:VEVENT
DTSTART;TZID=America/Los_Angeles:20250315T100000
DTEND;TZID=America/Los_Angeles:20250315T120000
DTSTAMP:20260425T180903
CREATED:20250308T184811Z
LAST-MODIFIED:20250308T184811Z
UID:10004603-1742032800-1742040000@envirocenter.org
SUMMARY:Seed Saving and Storing
DESCRIPTION:Learn what types of seeds to save\, how to collect and clean them\, and how to store them to use in your garden next year.
URL:https://envirocenter.org/event/seed-saving-and-storing/
ATTACH;FMTTYPE=image/jpeg:https://envirocenter.org/wp-content/uploads/2025/03/Screenshot-2025-03-08-at-12.47.34 PM.jpg
END:VEVENT
BEGIN:VEVENT
DTSTART;TZID=America/Los_Angeles:20241119T173000
DTEND;TZID=America/Los_Angeles:20241119T190000
DTSTAMP:20260425T180903
CREATED:20241029T173659Z
LAST-MODIFIED:20241029T173659Z
UID:10004524-1732037400-1732042800@envirocenter.org
SUMMARY:OSU-Cascades Science Pub: Mapping War Zones via Satellite
DESCRIPTION:Join Jamon Lee Van Den Hoek\, Associate Professor in OSU’s College of Earth\, Ocean and Atmospheric Sciences\, for a guest lecture on mapping conflict zones with satellite at the November Science Pub. \nIn war torn areas\, physical damage can be immense and reporting of it inconsistent or worse\, unreliable. Learn how Jamon Van Den Hoek and his team in the Conflict Ecology Lab use open satellite data to monitor damage caused by armed conflict and to develop new approaches to map refugee movements and assess environmental and climatic change in politically fragile contexts around the globe. The lab’s maps and data covering the conflicts in Gaza and Ukraine have been published in the New York Times\, BBC\, Al Jazeera and other major global news outlets. \n\nFood Provided (Heavy hors d’oeuvers prepared by OSU-Cascades EDGE Catering No-host bar with beer\, cider\, wine and non-alcoholic beverages)\nREGISTER HERE
URL:https://envirocenter.org/event/osu-cascades-science-pub-mapping-war-zones-via-satellite/
LOCATION:OSU Cascades – Edward J. Ray Hall\, Atrium\, 1500 SW Chandler Ave\, Bend\, OR\, 97702\, United States
CATEGORIES:Climate,Science
ATTACH;FMTTYPE=image/png:https://envirocenter.org/wp-content/uploads/2023/09/bb39ea-b987-458d-968f-94767f2a1bdd.png
GEO:44.0428983;-121.3334261
X-APPLE-STRUCTURED-LOCATION;VALUE=URI;X-ADDRESS=OSU Cascades – Edward J. Ray Hall Atrium 1500 SW Chandler Ave Bend OR 97702 United States;X-APPLE-RADIUS=500;X-TITLE=1500 SW Chandler Ave:geo:-121.3334261,44.0428983
END:VEVENT
BEGIN:VEVENT
DTSTART;TZID=America/Los_Angeles:20241012T130000
DTEND;TZID=America/Los_Angeles:20241012T190000
DTSTAMP:20260425T180903
CREATED:20240814T202313Z
LAST-MODIFIED:20241004T183943Z
UID:10004473-1728738000-1728759600@envirocenter.org
SUMMARY:First Peoples Celebration with the Confederated Tribes of Warm Springs
DESCRIPTION:1 p.m. Native Culture Bearers Demonstrations \nNative Artists and Culture Bearers from the Tananáwit Artists Community of Warm Springs will  demonstrate traditional tribal crafts and artistry. Members of the Warms Springs Natural Resources Department and Warm Springs Community Action Team will be on hand to discuss their work. Representatives of the Museum at Warm Springs and the High Desert Museum will be available to discuss their roles in preserving the heritage of the First Peoples of Central Oregon. \n2 p.m. Opening Ceremony and Invocation \nfollowed by A Showcase of Traditional Regalia and Native Dancing. A narrated presentation with descriptions and histories of the intricate Native fashions – including jingle\, fancy\, grass and traditional — and background about the dances. \n4:30 p.m. Round Dance with the Black Lodge Singers \nThis Native American\, Grammy-nominated drum group has more than 30 albums to their credit. It’s led by Kenny Scabby Robe of the Blackfeet Nation and includes many of his sons. \n6 p.m. Dinner of Indigenous Foods* \nEnjoy the traditional foods of the Indigenous People of Central Oregon\, including salmon\, elk\, dried corn\, huckleberries and fry bread\, prepared by Twisted Teepee. $25 per person. Seating is limited — Registration details to come.
URL:https://envirocenter.org/event/first-peoples-celebration-with-the-confederated-tribes-of-warm-springs/
LOCATION:OSU Cascades\, 2600 Northwest College Way\, Bend\, OR\, 97701\, United States
CATEGORIES:Food,Inclusion,Racial Justice
ATTACH;FMTTYPE=image/jpeg:https://envirocenter.org/wp-content/uploads/2024/08/unnamed.jpg
GEO:44.0713603;-121.3485532
X-APPLE-STRUCTURED-LOCATION;VALUE=URI;X-ADDRESS=OSU Cascades 2600 Northwest College Way Bend OR 97701 United States;X-APPLE-RADIUS=500;X-TITLE=2600 Northwest College Way:geo:-121.3485532,44.0713603
END:VEVENT
BEGIN:VEVENT
DTSTART;TZID=America/Los_Angeles:20240509T120000
DTEND;TZID=America/Los_Angeles:20240509T190000
DTSTAMP:20260425T180903
CREATED:20240507T190054Z
LAST-MODIFIED:20240507T190054Z
UID:10004415-1715256000-1715281200@envirocenter.org
SUMMARY:AAPI Celebration
DESCRIPTION:
URL:https://envirocenter.org/event/aapi-celebration/
LOCATION:OSU Cascades\, 2600 Northwest College Way\, Bend\, OR\, 97701\, United States
CATEGORIES:Inclusion
GEO:44.0713603;-121.3485532
X-APPLE-STRUCTURED-LOCATION;VALUE=URI;X-ADDRESS=OSU Cascades 2600 Northwest College Way Bend OR 97701 United States;X-APPLE-RADIUS=500;X-TITLE=2600 Northwest College Way:geo:-121.3485532,44.0713603
END:VEVENT
BEGIN:VEVENT
DTSTART;TZID=America/Los_Angeles:20240319T173000
DTEND;TZID=America/Los_Angeles:20240319T193000
DTSTAMP:20260425T180903
CREATED:20240208T173003Z
LAST-MODIFIED:20240314T191420Z
UID:10004161-1710869400-1710876600@envirocenter.org
SUMMARY:Science Pub: Klamath Dam Removal and Beyond
DESCRIPTION:The largest dam removal in U.S. history is underway on Oregon’s Klamath River. Come hear from OSU’s biological engineer Desiree Tullos and anthropologist Bryan Tilt about the complex issues involved in the project including the hopeful impacts for ecosystems and Native peoples. \nWhen:  Tuesday\, March 19\, 2024\n5:30 p.m. – 6 p.pm\, Networking\n9 p.m. – 7:15 p.m.\, Presentation and Q&A \nRegistration Fee:\n$22 per person includes:\nNetworking\nHeavy hors d’oeuvres prepared by OSU-Cascades’ Edge Catering\nNo-host bar with beer\, wine\, cider and non-alcoholic beverages. \nEvent Limited to 100 people \nWhere:\nOSU-Cascades\nEdward J. Ray Hall\n1500 SW Chandler Ave\nBend Oregon 97702 \nFor any questions regarding payment for registration or event\, please email events@osucascades.edu \nFull refunds provided for cancelations submitted 48 hours prior to event start day/time (no later than 5:30 p.m.\, Sunday\, March 17th)
URL:https://envirocenter.org/event/science-pub-klamath-dam-removal-and-beyond/
LOCATION:OSU Cascades – Edward J. Ray Hall\, Atrium\, 1500 SW Chandler Ave\, Bend\, OR\, 97702\, United States
CATEGORIES:Climate,Public Lands,Science,Social Justice,Water
ATTACH;FMTTYPE=image/png:https://envirocenter.org/wp-content/uploads/2023/09/bb39ea-b987-458d-968f-94767f2a1bdd.png
GEO:44.0428983;-121.3334261
X-APPLE-STRUCTURED-LOCATION;VALUE=URI;X-ADDRESS=OSU Cascades – Edward J. Ray Hall Atrium 1500 SW Chandler Ave Bend OR 97702 United States;X-APPLE-RADIUS=500;X-TITLE=1500 SW Chandler Ave:geo:-121.3334261,44.0428983
END:VEVENT
BEGIN:VEVENT
DTSTART;TZID=America/Los_Angeles:20240116T173000
DTEND;TZID=America/Los_Angeles:20240116T191500
DTSTAMP:20260425T180903
CREATED:20231219T193324Z
LAST-MODIFIED:20231219T193324Z
UID:10004133-1705426200-1705432500@envirocenter.org
SUMMARY:OSU Science Pub: The Roller Coaster of Hemp in Oregon
DESCRIPTION:OSU’s agronomist Gordon Jones has been following the wild ride of the state’s hemp industry since its legalization in 2018. \nShifting regulations\, farming challenges\, an untested market and even nefarious actors caused the industry to grow exponentially\, then suddenly decline. \nLearn about uses for hemp and research being conducted by OSU’s Global Hemp Innovation Center and elsewhere that can create a path to a stable future for the hemp industry in the Pacific Northwest. \n$22 per person\n5:30 p.m.\nLight\, pub-style dinner. No-host bar with beer\, wine\, cider\, soft drinks. \n6 – 7:15 p.m.\nPresentation\, Q&A. \nREGISTER NOW \nOSU-Cascades students free (tickets limited).\nOSU-Cascades employees $10.\nContact events@osucascades.edu. \n 
URL:https://envirocenter.org/event/osu-science-pub-the-roller-coaster-of-hemp-in-oregon/
LOCATION:OSU Cascades – Edward J. Ray Hall\, Atrium\, 1500 SW Chandler Ave\, Bend\, OR\, 97702\, United States
CATEGORIES:Science
ATTACH;FMTTYPE=image/png:https://envirocenter.org/wp-content/uploads/2023/09/bb39ea-b987-458d-968f-94767f2a1bdd.png
GEO:44.0428983;-121.3334261
X-APPLE-STRUCTURED-LOCATION;VALUE=URI;X-ADDRESS=OSU Cascades – Edward J. Ray Hall Atrium 1500 SW Chandler Ave Bend OR 97702 United States;X-APPLE-RADIUS=500;X-TITLE=1500 SW Chandler Ave:geo:-121.3334261,44.0428983
END:VEVENT
BEGIN:VEVENT
DTSTART;TZID=America/Los_Angeles:20231112T170000
DTEND;TZID=America/Los_Angeles:20231112T190000
DTSTAMP:20260425T180903
CREATED:20231103T220038Z
LAST-MODIFIED:20231103T220038Z
UID:10004108-1699808400-1699815600@envirocenter.org
SUMMARY:Our Knowledge is Power - Climate Change and Indigenous Communities
DESCRIPTION:Artist Talk and Film Screening:  \nOUR KNOWLEDGE IS POWER: THE CULTURES OF BEAUTY AND SURVIVAL IN ISLE DE JEAN CHARLES\, LA AND SHISHMAREF\, AK \nNOTE DATE CHANGE: Sunday\, November 12\, 2023 | 5 to 7 p.m. \n\nEdward J. Ray Hall\, Charles McGrath Family Atrium\, OSU-Cascades\nFREE.\n\nREGISTRATION REQUESTED (REGISTER HERE)
URL:https://envirocenter.org/event/our-knowledge-is-power-climate-change-and-indigenous-communities/
LOCATION:OSU Cascades – Edward J. Ray Hall\, Atrium\, 1500 SW Chandler Ave\, Bend\, OR\, 97702\, United States
CATEGORIES:Climate,Equity,Film,Inclusion,Public Lands,Racial Justice,Science,Social Justice
ATTACH;FMTTYPE=image/png:https://envirocenter.org/wp-content/uploads/2023/11/our-knowledge-1024x391-1.png
GEO:44.0428983;-121.3334261
X-APPLE-STRUCTURED-LOCATION;VALUE=URI;X-ADDRESS=OSU Cascades – Edward J. Ray Hall Atrium 1500 SW Chandler Ave Bend OR 97702 United States;X-APPLE-RADIUS=500;X-TITLE=1500 SW Chandler Ave:geo:-121.3334261,44.0428983
END:VEVENT
BEGIN:VEVENT
DTSTART;TZID=America/Los_Angeles:20230928T173000
DTEND;TZID=America/Los_Angeles:20230928T193000
DTSTAMP:20260425T180903
CREATED:20230922T174332Z
LAST-MODIFIED:20230922T174332Z
UID:10004082-1695922200-1695929400@envirocenter.org
SUMMARY:Science Pub: Fungi in the Forest
DESCRIPTION:Explore the variety of fungi in Central Oregon and the surprisingly important role they play in forest health. You’ll discover the vast fungal communication networks in forests at boot-level and beneath\, how fungi are adapted to our fire-dependent environment\, and how they can help forests recover from fire. \nYou’ll also learn about the largest fungus in the world\, located nearby in the Malheur National Forest. \nAbout the Presenter \nAriel Cowan is an assistant professor of practice and regional fire specialist with the OSU Extension Service in Deschutes County. Cowan’s experience in mycology began at the State University of New York’s College of Environmental Science & Forestry. Since then\, as a biologist\, researcher\, stewardship forester and wildland firefighter her work has focused on fungal ecology and forest health. She is a member of the Central Oregon Mushroom Club. \nRegister here!
URL:https://envirocenter.org/event/science-pub-fungi-in-the-forest/
LOCATION:OSU Cascades – Edward J. Ray Hall\, Atrium\, 1500 SW Chandler Ave\, Bend\, OR\, 97702\, United States
CATEGORIES:Outdoors & Adventure,Public Lands,Science
ATTACH;FMTTYPE=image/png:https://envirocenter.org/wp-content/uploads/2023/09/bb39ea-b987-458d-968f-94767f2a1bdd.png
GEO:44.0428983;-121.3334261
X-APPLE-STRUCTURED-LOCATION;VALUE=URI;X-ADDRESS=OSU Cascades – Edward J. Ray Hall Atrium 1500 SW Chandler Ave Bend OR 97702 United States;X-APPLE-RADIUS=500;X-TITLE=1500 SW Chandler Ave:geo:-121.3334261,44.0428983
END:VEVENT
BEGIN:VEVENT
DTSTART;TZID=America/Los_Angeles:20230516T170000
DTEND;TZID=America/Los_Angeles:20230516T193000
DTSTAMP:20260425T180903
CREATED:20230511T192212Z
LAST-MODIFIED:20230511T192212Z
UID:10003994-1684256400-1684265400@envirocenter.org
SUMMARY:Science Pub: Science\, Spirituality and a Sustainable Future
DESCRIPTION:Join us for a fascinating Science Pub looking at the connections between science and religion. OSU-Cascades biologist Matt Orr will explain how the Anthropocene\, Earth’s present geological epoch\, is defined by a decline in environmental ecosystems\, as well as by human responses to the decline in the forms of anxiety\, guilt\, grief and illness. \nOrr will share ways in which spiritual practices have evolved in response to other significant crises over time\, and examine how contemporary spirituality practices are evolving in response to the environmental crisis. He’ll look at how this evolution may continue and improve both the environmental and human condition. \n5 p.m. DOORS OPEN/ORDER FOOD AND BEVERAGES – Enjoy dinner with fellow attendees. \n6:30 p.m. PRESENTATION – Presentation begins in Hop Mahal. \n\n\n\n\nScience Pubs are where we take science out of the laboratory and bring it to the community. Join discussions with researchers from throughout OSU and OSU-Cascades about the work they do to help solve the world’s toughest challenges. \nScience Pubs are made possible with support from Worthy Brewing. \n\n\n\n\nABOUT THE SPEAKER \nMatt Orr is an associate professor at Oregon State University – Cascades. His research interests focus on restoration ecology in forest\, field and stream habitats in Central Oregon. His work has included studying the behavior of scavengers; the application of restoration ecology to medicine; and the connections between science and religion. He received a Ph.D. in population biology from University of California\, Davis. \nRegister here!
URL:https://envirocenter.org/event/science-pub-science-spirituality-and-a-sustainable-future/
LOCATION:Worthy Brewing\, 495 Northeast Bellevue Drive\, Bend\, OR\, 97701\, United States
CATEGORIES:Science
ATTACH;FMTTYPE=image/jpeg:https://envirocenter.org/wp-content/uploads/2023/05/sciencepub.jpeg
GEO:44.0553359;-121.2604571
X-APPLE-STRUCTURED-LOCATION;VALUE=URI;X-ADDRESS=Worthy Brewing 495 Northeast Bellevue Drive Bend OR 97701 United States;X-APPLE-RADIUS=500;X-TITLE=495 Northeast Bellevue Drive:geo:-121.2604571,44.0553359
END:VEVENT
END:VCALENDAR