BEGIN:VCALENDAR
VERSION:2.0
PRODID:-//The Environmental Center - ECPv6.15.20//NONSGML v1.0//EN
CALSCALE:GREGORIAN
METHOD:PUBLISH
X-WR-CALNAME:The Environmental Center
X-ORIGINAL-URL:https://envirocenter.org
X-WR-CALDESC:Events for The Environmental Center
REFRESH-INTERVAL;VALUE=DURATION:PT1H
X-Robots-Tag:noindex
X-PUBLISHED-TTL:PT1H
BEGIN:VTIMEZONE
TZID:America/Los_Angeles
BEGIN:DAYLIGHT
TZOFFSETFROM:-0800
TZOFFSETTO:-0700
TZNAME:PDT
DTSTART:20150308T100000
END:DAYLIGHT
BEGIN:STANDARD
TZOFFSETFROM:-0700
TZOFFSETTO:-0800
TZNAME:PST
DTSTART:20151101T090000
END:STANDARD
BEGIN:DAYLIGHT
TZOFFSETFROM:-0800
TZOFFSETTO:-0700
TZNAME:PDT
DTSTART:20160313T100000
END:DAYLIGHT
BEGIN:STANDARD
TZOFFSETFROM:-0700
TZOFFSETTO:-0800
TZNAME:PST
DTSTART:20161106T090000
END:STANDARD
BEGIN:DAYLIGHT
TZOFFSETFROM:-0800
TZOFFSETTO:-0700
TZNAME:PDT
DTSTART:20170312T100000
END:DAYLIGHT
BEGIN:STANDARD
TZOFFSETFROM:-0700
TZOFFSETTO:-0800
TZNAME:PST
DTSTART:20171105T090000
END:STANDARD
BEGIN:DAYLIGHT
TZOFFSETFROM:-0800
TZOFFSETTO:-0700
TZNAME:PDT
DTSTART:20180311T100000
END:DAYLIGHT
BEGIN:STANDARD
TZOFFSETFROM:-0700
TZOFFSETTO:-0800
TZNAME:PST
DTSTART:20181104T090000
END:STANDARD
BEGIN:DAYLIGHT
TZOFFSETFROM:-0800
TZOFFSETTO:-0700
TZNAME:PDT
DTSTART:20190310T100000
END:DAYLIGHT
BEGIN:STANDARD
TZOFFSETFROM:-0700
TZOFFSETTO:-0800
TZNAME:PST
DTSTART:20191103T090000
END:STANDARD
BEGIN:DAYLIGHT
TZOFFSETFROM:-0800
TZOFFSETTO:-0700
TZNAME:PDT
DTSTART:20200308T100000
END:DAYLIGHT
BEGIN:STANDARD
TZOFFSETFROM:-0700
TZOFFSETTO:-0800
TZNAME:PST
DTSTART:20201101T090000
END:STANDARD
BEGIN:DAYLIGHT
TZOFFSETFROM:-0800
TZOFFSETTO:-0700
TZNAME:PDT
DTSTART:20210314T100000
END:DAYLIGHT
BEGIN:STANDARD
TZOFFSETFROM:-0700
TZOFFSETTO:-0800
TZNAME:PST
DTSTART:20211107T090000
END:STANDARD
BEGIN:DAYLIGHT
TZOFFSETFROM:-0800
TZOFFSETTO:-0700
TZNAME:PDT
DTSTART:20220313T100000
END:DAYLIGHT
BEGIN:STANDARD
TZOFFSETFROM:-0700
TZOFFSETTO:-0800
TZNAME:PST
DTSTART:20221106T090000
END:STANDARD
BEGIN:DAYLIGHT
TZOFFSETFROM:-0800
TZOFFSETTO:-0700
TZNAME:PDT
DTSTART:20230312T100000
END:DAYLIGHT
BEGIN:STANDARD
TZOFFSETFROM:-0700
TZOFFSETTO:-0800
TZNAME:PST
DTSTART:20231105T090000
END:STANDARD
BEGIN:DAYLIGHT
TZOFFSETFROM:-0800
TZOFFSETTO:-0700
TZNAME:PDT
DTSTART:20240310T100000
END:DAYLIGHT
BEGIN:STANDARD
TZOFFSETFROM:-0700
TZOFFSETTO:-0800
TZNAME:PST
DTSTART:20241103T090000
END:STANDARD
END:VTIMEZONE
BEGIN:VEVENT
DTSTART;TZID=America/Los_Angeles:20231002T123000
DTEND;TZID=America/Los_Angeles:20231002T163000
DTSTAMP:20260425T081058
CREATED:20230601T230344Z
LAST-MODIFIED:20230601T230344Z
UID:10004015-1696249800-1696264200@envirocenter.org
SUMMARY:All About ADUs
DESCRIPTION:This half-day course is intended to help real estate and building professionals understand the basic planning and building regulations for ADU development in the City of Bend. Participants will gain critical information to help them to respond to increasing client demand for properties with ADU potential\, as well as the opportunity to earn the ‘ADU Specialist’ professional accreditation. \nWhen & Where\n\nMonday\, October 2nd\, 2023\n12:30 PM – 4:30 PM \nBend\, OR (In-person classroom\, no webinar option available)\nCentral Oregon Association of REALTORS®\n2112 NE 4th St\, Bend\, OR 97701 (map)
URL:https://envirocenter.org/event/all-about-adus/
ATTACH;FMTTYPE=image/jpeg:https://envirocenter.org/wp-content/uploads/2023/06/unnamed-83.jpg
ORGANIZER;CN="Earth Advantage":MAILTO:acallowspencer@earthadvantage.org
END:VEVENT
BEGIN:VEVENT
DTSTART;TZID=America/Los_Angeles:20230207T123000
DTEND;TZID=America/Los_Angeles:20230207T163000
DTSTAMP:20260425T081058
CREATED:20230109T214429Z
LAST-MODIFIED:20230109T214429Z
UID:10003933-1675773000-1675787400@envirocenter.org
SUMMARY:All About ADUs
DESCRIPTION:Join Earth Advantage for this 4-hour class intended for real estate and building industry professionals looking to increase their knowledge about ADU development in the City of Bend\, OR. \n* TEC members get a discounted registration fee.
URL:https://envirocenter.org/event/all-about-adus-5/
LOCATION:2112 NE 4th St\, Bend\, OR 97701\, 2112 NE 4th St\, Bend\, OR\, 97703\, United States
ATTACH;FMTTYPE=image/png:https://envirocenter.org/wp-content/uploads/2018/09/Silver-Earth-Advantage-with-tag.png
ORGANIZER;CN="Earth Advantage":MAILTO:acallowspencer@earthadvantage.org
GEO:44.0709186;-121.3004246
X-APPLE-STRUCTURED-LOCATION;VALUE=URI;X-ADDRESS=2112 NE 4th St Bend OR 97701 2112 NE 4th St Bend OR 97703 United States;X-APPLE-RADIUS=500;X-TITLE=2112 NE 4th St:geo:-121.3004246,44.0709186
END:VEVENT
BEGIN:VEVENT
DTSTART;TZID=America/Los_Angeles:20221103T083000
DTEND;TZID=America/Los_Angeles:20221103T123000
DTSTAMP:20260425T081058
CREATED:20220927T175243Z
LAST-MODIFIED:20220927T175243Z
UID:10002003-1667464200-1667478600@envirocenter.org
SUMMARY:All About ADUs
DESCRIPTION:Join us for this 4-hour class intended for real estate and building industry professionals looking to increase their knowledge about ADU development in the City of Bend\, OR. \nThis half-day course is intended to help real estate and building professionals understand the basic planning and building regulations for ADU development in the City of Bend. Participants will gain critical information to help them to respond to increasing client demand for properties with ADU potential\, as well as the opportunity to earn the ‘ADU Specialist’ professional accreditation. \nLEARNING OBJECTIVES\n\n\nUnderstand what makes a property ADU-ready/eligible in Bend\, OR\nLearn what is involved in the process of getting approved to build an ADU\nAnalyze taxation\, valuation and financing options for ADUs\nUnderstand the ADU design\, permitting\, and building process (attached\, detached\, and garage conversion)\nGain access to resources to help your clients plan for their ADU (including a budget sample\, contract types\, development rebate programs\, and more)\nGain insight on ADU regulations in the broader State of Oregon\nGet answers to your ADU-specific questions\n\nRegister
URL:https://envirocenter.org/event/all-about-adus-4/
LOCATION:Central Oregon Association of Realtors\, 2112 NE 4th Street\, Bend\, OR\, 97701\, United States
CATEGORIES:Energy,Green Tour,Sustainability
ATTACH;FMTTYPE=image/png:https://envirocenter.org/wp-content/uploads/2018/09/Silver-Earth-Advantage-with-tag.png
ORGANIZER;CN="Earth Advantage":MAILTO:acallowspencer@earthadvantage.org
GEO:44.0709186;-121.3004246
X-APPLE-STRUCTURED-LOCATION;VALUE=URI;X-ADDRESS=Central Oregon Association of Realtors 2112 NE 4th Street Bend OR 97701 United States;X-APPLE-RADIUS=500;X-TITLE=2112 NE 4th Street:geo:-121.3004246,44.0709186
END:VEVENT
BEGIN:VEVENT
DTSTART;TZID=America/Los_Angeles:20181019T083000
DTEND;TZID=America/Los_Angeles:20181019T123000
DTSTAMP:20260425T081058
CREATED:20180921T040529Z
LAST-MODIFIED:20180921T040938Z
UID:10003064-1539937800-1539952200@envirocenter.org
SUMMARY:All About ADUs
DESCRIPTION:Gain Accessory Dwelling Unit (ADU) expertise in your market and become an ‘ADU Specialist’.\n\n\nOverview\n\nThis half-day course is intended for real estate\, building and design professionals looking to increase their knowledge about Accessory Dwelling Unit (ADU) development in Bend in order to respond to increasing client demand for properties with ADU potential. \nProfessionals on the cutting edge of this emerging development trend will be able to help homeowners and developers understand site selection\, development process\, costs of development\, and the return on investment of ADUs. This course is intended to help you understand the basic planning and building regulations for ADU development in Bend in order to better assist your clients. \nBend ADU Market\nThe number of ADUs being developed in Bend is on the rise thanks to a 2016 measure by the Bend City Council that makes it easier\, more predictable\, and less expensive for homeowners to build an ADU. More ADUs were developed in 2016 than in any previous year and this Bend Bulletin article shows permit applications are increasing exponentially. Meanwhile\, in the summer of 2016\, the Oregon Department of Revenue codified some important rules around the proper property taxation treatment of ADUs. \n\nLearning Objectives\n\n\nUnderstand what makes a property ADU-ready/eligible\nLearn what is involved in the process of getting approved to build an ADU\nAnalyze taxation\, valuation and financing options for ADUs\nUnderstand the ADU design\, permitting\, and building process (attached\, detached\, and garage conversion)\nGain access to resources to help your clients plan for their ADU (including a budget sample\, contract types\, development rebate programs\, and more)\nGet answers to your ADU-specific questions & network with other professionals about this specialized topic\n\n\n\n\n\nCEs & Cost\nContinuing Education\nOR Real Estate Agency: 4 CEs\nEarth Advantage Broker Renewal: 4 CEs\nCCB: 4 CEs\nAIA: 4 LU/HSW CEs\n\nCourse Fee\n$85 | EA Brokers\, EA Builders & COAR Members\n$95 | General AdmissionAccreditation Exam Fee (optional)\n$29 | General Admission (EA Broker designation as prerequisite) \nSpecial Pricing\n$119 | EA Broker course + ADU Exam\nNot yet an EA Broker? Take the online EA Broker course & get the ADU exam FREE! (regularly $138) \n\n\n\nAudience\nBuilders\, Developers\, Real Estate Professionals\, Remodelers\, Subcontractors\n\n\nInstructor\n\n\n\nKol Peterson: Owner of Accessory Dwelling Strategies LLC\nKol is the author of “Backdoor Revolution – The Definitive Guide to ADU Development” and owner of Accessory Dwelling Strategies LLC\, a company dedicated to ADU related education\, advocacy and consulting. He edits and manages accessorydwellings.org\, a website that addresses ADU policy issues and features an array of ADU projects. Kol also runs Portland’s city-wide ADU tour\, and he and his wife also own “Caravan – The Tiny House Hotel” in Portland\, Oregon.
URL:https://envirocenter.org/event/all-about-adus-3/
LOCATION:The Environmental Center\, 16 NW Kansas Avenue\, Bend\, OR\, 97703
CATEGORIES:Energy
ATTACH;FMTTYPE=image/jpeg:https://envirocenter.org/wp-content/uploads/2018/09/ADU-square.jpg
ORGANIZER;CN="Earth Advantage":MAILTO:acallowspencer@earthadvantage.org
GEO:44.055562;-121.3143083
X-APPLE-STRUCTURED-LOCATION;VALUE=URI;X-ADDRESS=The Environmental Center 16 NW Kansas Avenue Bend OR 97703;X-APPLE-RADIUS=500;X-TITLE=16 NW Kansas Avenue:geo:-121.3143083,44.055562
END:VEVENT
BEGIN:VEVENT
DTSTART;VALUE=DATE:20160122
DTEND;VALUE=DATE:20160123
DTSTAMP:20260425T081058
CREATED:20151217T180515Z
LAST-MODIFIED:20151217T180515Z
UID:10002566-1453420800-1453507199@envirocenter.org
SUMMARY:Sustainable Homes Professional (SHP) Course
DESCRIPTION:Bend\, Oregon session runs January 22-June 17\, 2016\, 9am-5pm. $100 Early Bird Discount ends January 1. \nJoin this interactive six-month accreditation program and learn cutting edge high performance building best practices from our expert instructors\, Stephen Aiguier (Portland) & Bruce Sullivan (Bend)\, as they guide participants through their own green projects and shares practical insights on the following: \n\nBuilding science fundamentals & moisture management\nHigh performance wall & roof assemblies\nIntegrated system design & mechanical/whole house performance testing\nIndoor air quality\, green material considerations\n& health impacts\nWater conservation techniques\n\nEach two-day module integrates lecture and discussion\, hands-on exercises\, a guest speaker and two tours of certified homes. Outside work includes homework assignments\, quizzes\, readings and a final project that puts principles into practice. A certification exam at the end of the course allows participants to earn the designation of an accredited Sustainable Homes Professional (SHP). Earth Advantage also provides marketing support to help graduates gain visibility as informed green professionals. \nCost\n$100 Early Bird Discount ends Jan 1\n$950  | Earth Advantage Builders & Earth Advantage Professionals: AGAs\, EA Brokers\, CAKE/EPS Auditors (regularly $1400)\n$1050  | COBA Members\, PHnw Members & Certified Sustainable Business Advisors (regularly $1500)\n$1175 | General Admission (regularly $1625)
URL:https://envirocenter.org/event/sustainable-homes-professional-shp-course-2/
LOCATION:Central Oregon Builder’s Association Office\, 1051 NE 4th St. \, Bend\, OR\, 97701\, United States
ORGANIZER;CN="Earth Advantage":MAILTO:acallowspencer@earthadvantage.org
GEO:44.0607841;-121.3009509
X-APPLE-STRUCTURED-LOCATION;VALUE=URI;X-ADDRESS=Central Oregon Builder’s Association Office 1051 NE 4th St.  Bend OR 97701 United States;X-APPLE-RADIUS=500;X-TITLE=1051 NE 4th St.:geo:-121.3009509,44.0607841
END:VEVENT
END:VCALENDAR