BEGIN:VCALENDAR
VERSION:2.0
PRODID:-//The Environmental Center - ECPv6.15.20//NONSGML v1.0//EN
CALSCALE:GREGORIAN
METHOD:PUBLISH
X-ORIGINAL-URL:https://envirocenter.org
X-WR-CALDESC:Events for The Environmental Center
REFRESH-INTERVAL;VALUE=DURATION:PT1H
X-Robots-Tag:noindex
X-PUBLISHED-TTL:PT1H
BEGIN:VTIMEZONE
TZID:America/Los_Angeles
BEGIN:DAYLIGHT
TZOFFSETFROM:-0800
TZOFFSETTO:-0700
TZNAME:PDT
DTSTART:20180311T100000
END:DAYLIGHT
BEGIN:STANDARD
TZOFFSETFROM:-0700
TZOFFSETTO:-0800
TZNAME:PST
DTSTART:20181104T090000
END:STANDARD
BEGIN:DAYLIGHT
TZOFFSETFROM:-0800
TZOFFSETTO:-0700
TZNAME:PDT
DTSTART:20190310T100000
END:DAYLIGHT
BEGIN:STANDARD
TZOFFSETFROM:-0700
TZOFFSETTO:-0800
TZNAME:PST
DTSTART:20191103T090000
END:STANDARD
BEGIN:DAYLIGHT
TZOFFSETFROM:-0800
TZOFFSETTO:-0700
TZNAME:PDT
DTSTART:20200308T100000
END:DAYLIGHT
BEGIN:STANDARD
TZOFFSETFROM:-0700
TZOFFSETTO:-0800
TZNAME:PST
DTSTART:20201101T090000
END:STANDARD
BEGIN:DAYLIGHT
TZOFFSETFROM:-0800
TZOFFSETTO:-0700
TZNAME:PDT
DTSTART:20210314T100000
END:DAYLIGHT
BEGIN:STANDARD
TZOFFSETFROM:-0700
TZOFFSETTO:-0800
TZNAME:PST
DTSTART:20211107T090000
END:STANDARD
BEGIN:DAYLIGHT
TZOFFSETFROM:-0800
TZOFFSETTO:-0700
TZNAME:PDT
DTSTART:20220313T100000
END:DAYLIGHT
BEGIN:STANDARD
TZOFFSETFROM:-0700
TZOFFSETTO:-0800
TZNAME:PST
DTSTART:20221106T090000
END:STANDARD
BEGIN:DAYLIGHT
TZOFFSETFROM:-0800
TZOFFSETTO:-0700
TZNAME:PDT
DTSTART:20230312T100000
END:DAYLIGHT
BEGIN:STANDARD
TZOFFSETFROM:-0700
TZOFFSETTO:-0800
TZNAME:PST
DTSTART:20231105T090000
END:STANDARD
BEGIN:DAYLIGHT
TZOFFSETFROM:-0800
TZOFFSETTO:-0700
TZNAME:PDT
DTSTART:20240310T100000
END:DAYLIGHT
BEGIN:STANDARD
TZOFFSETFROM:-0700
TZOFFSETTO:-0800
TZNAME:PST
DTSTART:20241103T090000
END:STANDARD
BEGIN:DAYLIGHT
TZOFFSETFROM:-0800
TZOFFSETTO:-0700
TZNAME:PDT
DTSTART:20250309T100000
END:DAYLIGHT
BEGIN:STANDARD
TZOFFSETFROM:-0700
TZOFFSETTO:-0800
TZNAME:PST
DTSTART:20251102T090000
END:STANDARD
BEGIN:DAYLIGHT
TZOFFSETFROM:-0800
TZOFFSETTO:-0700
TZNAME:PDT
DTSTART:20260308T100000
END:DAYLIGHT
BEGIN:STANDARD
TZOFFSETFROM:-0700
TZOFFSETTO:-0800
TZNAME:PST
DTSTART:20261101T090000
END:STANDARD
BEGIN:DAYLIGHT
TZOFFSETFROM:-0800
TZOFFSETTO:-0700
TZNAME:PDT
DTSTART:20270314T100000
END:DAYLIGHT
BEGIN:STANDARD
TZOFFSETFROM:-0700
TZOFFSETTO:-0800
TZNAME:PST
DTSTART:20271107T090000
END:STANDARD
END:VTIMEZONE
BEGIN:VEVENT
DTSTART;TZID=America/Los_Angeles:20260420T180000
DTEND;TZID=America/Los_Angeles:20260420T200000
DTSTAMP:20260422T030246
CREATED:20260331T220600Z
LAST-MODIFIED:20260331T220636Z
UID:10004748-1776708000-1776715200@envirocenter.org
SUMMARY:Who Uses the Water in Central Oregon? Cities\, Farms\, Rivers\, and How It’s Distributed
DESCRIPTION:As canals turn on and river levels shift\, many people ask: who uses the water in Central Oregon and how is it distributed? This Raise the Deschutes seminar investigates where the water goes\, who holds the rights to it\, and how it is managed across an overallocated basin. We will explore municipal systems\, irrigation\, and instream flows\, and what this water year looks like. This seminar coincides with the City of Bend’s 100th anniversary and the Deschutes River Conservancy’s 30th year.
URL:https://envirocenter.org/event/who-uses-the-water-in-central-oregon-cities-farms-rivers-and-how-its-distributed/
LOCATION:Worthy Brewing\, 495 Northeast Bellevue Drive\, Bend\, OR\, 97701\, United States
ATTACH;FMTTYPE=image/jpeg:https://envirocenter.org/wp-content/uploads/2026/03/RTD19-LinkedIn.jpg
ORGANIZER;CN="Deschutes River Conservancy":MAILTO:marisa@deschutesriver.org
GEO:44.0553359;-121.2604571
X-APPLE-STRUCTURED-LOCATION;VALUE=URI;X-ADDRESS=Worthy Brewing 495 Northeast Bellevue Drive Bend OR 97701 United States;X-APPLE-RADIUS=500;X-TITLE=495 Northeast Bellevue Drive:geo:-121.2604571,44.0553359
END:VEVENT
BEGIN:VEVENT
DTSTART;TZID=America/Los_Angeles:20251008T160000
DTEND;TZID=America/Los_Angeles:20251008T180000
DTSTAMP:20260422T030246
CREATED:20251008T182755Z
LAST-MODIFIED:20251008T182755Z
UID:10004685-1759939200-1759946400@envirocenter.org
SUMMARY:Walking the Upper Deschutes: Understanding Flows and Ecology
DESCRIPTION:Join the Deschutes River Conservancy for an afternoon walking tour of the Upper Deschutes River. As flows drop for winter\, we’ll walk the trail near Lava Island Falls to see how water management shapes the river\, stream habitat\, and the species it supports. \nLearn about the history of flows in the basin\, the challenges of balancing water for rivers\, communities\, and irrigation\, and how basin partners are working to improve flows and habitat for fish\, frogs\, and other wildlife in the Deschutes and its tributaries. \nLocation: Lava Island Falls Boat Ramp\, Off Forest Service Road 41\, Bend\, OR 97702\nDate: Wednesday\, October 8\, 2025 \nTime: 4:00 PM – 6:00 PM\nOrganizer: Deschutes River Conservancy \nContact: Marisa Hossick | (541) 382-4077 | marisa@deschutesriver.org
URL:https://envirocenter.org/event/walking-the-upper-deschutes-understanding-flows-and-ecology/
ATTACH;FMTTYPE=image/jpeg:https://envirocenter.org/wp-content/uploads/2025/10/Screenshot-2025-10-08-at-11.27.14-AM.jpg
ORGANIZER;CN="Deschutes River Conservancy":MAILTO:marisa@deschutesriver.org
END:VEVENT
BEGIN:VEVENT
DTSTART;TZID=America/Los_Angeles:20250220T173000
DTEND;TZID=America/Los_Angeles:20250220T190000
DTSTAMP:20260422T030246
CREATED:20250129T184000Z
LAST-MODIFIED:20250129T184253Z
UID:10004575-1740072600-1740078000@envirocenter.org
SUMMARY:Raising the Deschutes: Challenges and Solutions for Our Rivers
DESCRIPTION:The rivers of the Deschutes Basin are vital\, supporting fish and wildlife\, agriculture\, and recreation. However\, challenges like low streamflows and water quality issues threaten their health. \nJoin the Deschutes River Conservancy to explore what makes the basin special\, the challenges it faces\, and the collaborative efforts to restore streamflows\, improve water quality\, and ensure a sustainable water future for generations to come. \nDoors open at 5:30. Program starts at 6 pm. \n  \nFebruary 20\, 2025 \nWorthy Brewing \nFree \n  \nRegistration: https://www.deschutesriver.org/event/raising-the-deschutes-challenges-and-solutions-for-our-rivers
URL:https://envirocenter.org/event/raising-the-deschutes-challenges-and-solutions-for-our-rivers/
LOCATION:Worthy Brewing\, 495 Northeast Bellevue Drive\, Bend\, OR\, 97701\, United States
CATEGORIES:Advocacy,Climate,Outdoors & Adventure,Water
ATTACH;FMTTYPE=image/jpeg:https://envirocenter.org/wp-content/uploads/2025/01/Feb-20.jpg
ORGANIZER;CN="Deschutes River Conservancy":MAILTO:marisa@deschutesriver.org
GEO:44.0553359;-121.2604571
X-APPLE-STRUCTURED-LOCATION;VALUE=URI;X-ADDRESS=Worthy Brewing 495 Northeast Bellevue Drive Bend OR 97701 United States;X-APPLE-RADIUS=500;X-TITLE=495 Northeast Bellevue Drive:geo:-121.2604571,44.0553359
END:VEVENT
BEGIN:VEVENT
DTSTART;TZID=America/Los_Angeles:20241216T173000
DTEND;TZID=America/Los_Angeles:20241216T183000
DTSTAMP:20260422T030246
CREATED:20241113T211707Z
LAST-MODIFIED:20241113T211707Z
UID:10004531-1734370200-1734373800@envirocenter.org
SUMMARY:Beneath the Surface: Navigating Oregon's New Groundwater Rules and Their Impact in Central Oregon
DESCRIPTION:Understanding the largest change in Oregon’s water policy in decades. What changed? Why did it change? And what does it mean for the future of water in Central Oregon? Register here!
URL:https://envirocenter.org/event/beneath-the-surface-navigating-oregons-new-groundwater-rules-and-their-impact-in-central-oregon/
LOCATION:Open Space Event Studios\, 220 NE Lafayette Ave\, Bend\, OR\, 97701\, United States
CATEGORIES:Climate,Public Lands,Water
ATTACH;FMTTYPE=image/jpeg:https://envirocenter.org/wp-content/uploads/2024/11/RTD-Groundwater-Rules-Facebook-Event.jpg
ORGANIZER;CN="Deschutes River Conservancy":MAILTO:marisa@deschutesriver.org
GEO:44.0622509;-121.3034125
X-APPLE-STRUCTURED-LOCATION;VALUE=URI;X-ADDRESS=Open Space Event Studios 220 NE Lafayette Ave Bend OR 97701 United States;X-APPLE-RADIUS=500;X-TITLE=220 NE Lafayette Ave:geo:-121.3034125,44.0622509
END:VEVENT
BEGIN:VEVENT
DTSTART;TZID=America/Los_Angeles:20241113T160000
DTEND;TZID=America/Los_Angeles:20241113T180000
DTSTAMP:20260422T030246
CREATED:20241105T000327Z
LAST-MODIFIED:20241105T000327Z
UID:10004529-1731513600-1731520800@envirocenter.org
SUMMARY:Happy Hour & Instream Collective Launch Party
DESCRIPTION:Come to enjoy a beverage and talk fishing\, rivers\, and conservation with the DRC crew and supporters. Join fellow river enthusiasts in learning about our work and how YOU can help us Raise the Deschutes. \nBecome a supporting member and help steward this precious resource that makes Central Oregon such a special place to call home. The Instream Collective – where your investment becomes our future flows. \n*This is a free event and you do not need to be a member to attend.
URL:https://envirocenter.org/event/happy-hour-instream-collective-launch-party/
LOCATION:Confluence Fly Shop\, 375 SW Powerhouse Dr Suite 100\, Bend\, OR\, 97701\, United States
CATEGORIES:Climate,Public Lands,Water
ATTACH;FMTTYPE=image/jpeg:https://envirocenter.org/wp-content/uploads/2024/11/INSTREAM-Collective-working-pieces.jpg
ORGANIZER;CN="Deschutes River Conservancy":MAILTO:marisa@deschutesriver.org
GEO:44.0470188;-121.3153707
X-APPLE-STRUCTURED-LOCATION;VALUE=URI;X-ADDRESS=Confluence Fly Shop 375 SW Powerhouse Dr Suite 100 Bend OR 97701 United States;X-APPLE-RADIUS=500;X-TITLE=375 SW Powerhouse Dr Suite 100:geo:-121.3153707,44.0470188
END:VEVENT
BEGIN:VEVENT
DTSTART;TZID=America/Los_Angeles:20240724T150000
DTEND;TZID=America/Los_Angeles:20240724T170000
DTSTAMP:20260422T030246
CREATED:20240718T235921Z
LAST-MODIFIED:20240718T235921Z
UID:10004460-1721833200-1721840400@envirocenter.org
SUMMARY:River to Fields: Explore How Irrigation Affects Our Landscape
DESCRIPTION:Tour the Irrigation Diversions Along the Upper/Middle Deschutes River.\nLearn where the water goes\, how it’s used on the land\, and what happens downstream. Get an on-the-ground look at local water management and the related environmental impact. Great for anyone interested in water conservation and river health in the Deschutes Basin. \nThe tour starts at Pioneer Park and will move to the point of diversion (across from Fyre of Bend) before ending at Sawyer Park. Drinks will be provided after the tour at the park. \nTour Leaders: \n\nJosh Bailey\, General Manager\, North Unit Irrigation District\nBaxter Davies\, Operations Manager\, Central Oregon Irrigation District\nJeremy Giffin\, Watermaster for Central Oregon\, Oregon Water Resources Department\n\nThis event is free\, but please only register if you are sure you’re planning to come. \nWe encourage carpooling as parking will be limited near the irrigation diversion. \nREGISTER HERE!
URL:https://envirocenter.org/event/river-to-fields-explore-how-irrigation-affects-our-landscape/
LOCATION:Pioneer Park\, Northwest Wall Street\, Bend\, OR\, 97701\, United States
CATEGORIES:Energy,Public Lands,Water
ATTACH;FMTTYPE=image/jpeg:https://envirocenter.org/wp-content/uploads/2024/07/RTD-Irrigation-Diversions-Event-Cover.jpg
ORGANIZER;CN="Deschutes River Conservancy":MAILTO:marisa@deschutesriver.org
GEO:44.0656876;-121.3095284
X-APPLE-STRUCTURED-LOCATION;VALUE=URI;X-ADDRESS=Pioneer Park Northwest Wall Street Bend OR 97701 United States;X-APPLE-RADIUS=500;X-TITLE=Northwest Wall Street:geo:-121.3095284,44.0656876
END:VEVENT
BEGIN:VEVENT
DTSTART;TZID=America/Los_Angeles:20240606T140000
DTEND;TZID=America/Los_Angeles:20240606T160000
DTSTAMP:20260422T030246
CREATED:20240603T231328Z
LAST-MODIFIED:20240603T231328Z
UID:10004443-1717682400-1717689600@envirocenter.org
SUMMARY:Discover Fish Migration and Conservation Efforts: A Guided Tour of Pelton Round Butte
DESCRIPTION:Come tour the Pelton Round Butte Fish Passage and Hatchery Facilities On this tour you’ll get to see juvenile steelhead making their way downstream to the ocean\, and adult Chinook that have recently returned to the hatchery. Come learn about collaborative efforts to reintroduce anadromous fish to the upper basin and restore the habitat that their survival depends upon. \nTour Leaders:\n– Bobby Brunoe\, CEO & Secretary/Treasurer of the Confederated Tribes of Warm Springs and the DRC Board Chair\n– Megan Hill\, Hydro Environmental Manager\, Portland General Electric \nSpace is limited to 50 tickets \nGET TICKETS
URL:https://envirocenter.org/event/discover-fish-migration-and-conservation-efforts-a-guided-tour-of-pelton-round-butte/
LOCATION:Round Butte Overlook Park\, From Madras:  Jct. of Belmont Lane & Hwy. 97\, travel west on Belmont Lane for 6.8 miles to Mountain View Drive\, turn south onto Mountain View Drive for 1.7 miles to access road and sign to Round Butte Overlook Park.  Turn west onto signed access road for 0.8 mile to Round Butte Overlook Park.\, OR\, United States
CATEGORIES:Climate,Science,Water
ATTACH;FMTTYPE=image/jpeg:https://envirocenter.org/wp-content/uploads/2024/06/unnamed-1.jpg
ORGANIZER;CN="Deschutes River Conservancy":MAILTO:marisa@deschutesriver.org
GEO:13.0826802;80.2707184
X-APPLE-STRUCTURED-LOCATION;VALUE=URI;X-ADDRESS=Round Butte Overlook Park From Madras:  Jct. of Belmont Lane & Hwy. 97 travel west on Belmont Lane for 6.8 miles to Mountain View Drive turn south onto Mountain View Drive for 1.7 miles to access road and sign to Round Butte Overlook Park.  Turn west onto signed access road for 0.8 mile to Round Butte Overlook Park. OR United States;X-APPLE-RADIUS=500;X-TITLE=From Madras:  Jct. of Belmont Lane & Hwy. 97\, travel west on Belmont Lane for 6.8 miles to Mountain View Drive\, turn south onto Mountain View Drive for 1.7 miles to access road and sign to Round Butte Overlook Park.  Turn west onto signed access road for 0.8 mile to Round Butte Overlook Park.:geo:80.2707184,13.0826802
END:VEVENT
BEGIN:VEVENT
DTSTART;TZID=America/Los_Angeles:20240504T170000
DTEND;TZID=America/Los_Angeles:20240504T203000
DTSTAMP:20260422T030246
CREATED:20240429T171450Z
LAST-MODIFIED:20240429T171450Z
UID:10004400-1714842000-1714854600@envirocenter.org
SUMMARY:Deschutes RiverFeast
DESCRIPTION:Join us for a night dedicated to the conservation and restoration of the majestic Deschutes River. The Deschutes River Conservancy’s annual River Feast Dinner and Auction on May 4th will showcase an evening of gourmet dining\, engaging conversation\, and exciting silent and live auctions; all in support of the Deschutes River. Secure your ticket today for a memorable night that contributes to a thriving river ecosystem for future generations. \nInterested in buying a full table? Simply add 8 seats and we will set aside a table just for you and your friends! Contact rebekah@deschutesriver.org with questions. \nGet tickets here!
URL:https://envirocenter.org/event/deschutes-riverfeast/
LOCATION:Unitarian Universalist Fellowship\, 61980 Skyline Ranch Road\, Bend\, OR\, United States
CATEGORIES:Public Lands,Water
ATTACH;FMTTYPE=image/jpeg:https://envirocenter.org/wp-content/uploads/2024/04/unnamed.jpg
ORGANIZER;CN="Deschutes River Conservancy":MAILTO:marisa@deschutesriver.org
GEO:44.0521916;-121.3621946
X-APPLE-STRUCTURED-LOCATION;VALUE=URI;X-ADDRESS=Unitarian Universalist Fellowship 61980 Skyline Ranch Road Bend OR United States;X-APPLE-RADIUS=500;X-TITLE=61980 Skyline Ranch Road:geo:-121.3621946,44.0521916
END:VEVENT
BEGIN:VEVENT
DTSTART;TZID=America/Los_Angeles:20240228T180000
DTEND;TZID=America/Los_Angeles:20240228T200000
DTSTAMP:20260422T030246
CREATED:20240201T223131Z
LAST-MODIFIED:20240201T223131Z
UID:10004159-1709143200-1709150400@envirocenter.org
SUMMARY:Raise the Deschutes - A River Runs Through It
DESCRIPTION:Collaborative Strategies for the Future of the Crooked River \nJoin us for a discussion focused on balancing water conservation\, agricultural needs\, and sustainable management of the Crooked River. This seminar unites experts and community members to explore joint efforts in securing a resilient water future for Crook County — for fish\, farms\, and families alike. \nPanelists:\nBill Nasham – Crook County Water Master\nBruce Scanlon – General Manager of Ochoco Irrigation District\nPeter Lickwar – US Fish and Wildlife Service\nModerator: Lisa Seales – Program Manager – Deschutes River Conservancy \nREGISTER HERE
URL:https://envirocenter.org/event/raise-the-deschutes-a-river-runs-through-it/
LOCATION:Meadow Lakes Golf Course & Restaurant\, 300 Southwest Meadow Lakes Drive\, Prineville\, OR\, United States
CATEGORIES:Agriculture,Climate,Public Lands,Water
ATTACH;FMTTYPE=image/jpeg:https://envirocenter.org/wp-content/uploads/2024/02/Crooked-River-RTD-_Instagram-Post_-_2160-x-1080-px_.jpg
ORGANIZER;CN="Deschutes River Conservancy":MAILTO:marisa@deschutesriver.org
GEO:44.2967758;-120.8534431
X-APPLE-STRUCTURED-LOCATION;VALUE=URI;X-ADDRESS=Meadow Lakes Golf Course & Restaurant 300 Southwest Meadow Lakes Drive Prineville OR United States;X-APPLE-RADIUS=500;X-TITLE=300 Southwest Meadow Lakes Drive:geo:-120.8534431,44.2967758
END:VEVENT
BEGIN:VEVENT
DTSTART;TZID=America/Los_Angeles:20231213T180000
DTEND;TZID=America/Los_Angeles:20231213T200000
DTSTAMP:20260422T030246
CREATED:20231113T194332Z
LAST-MODIFIED:20231113T194332Z
UID:10004116-1702490400-1702497600@envirocenter.org
SUMMARY:Is the Drought Over? Comparing the Deschutes and Crooked Rivers
DESCRIPTION:Raise the Deschutes – Is the Drought Over?\nIs the drought over? Comparing the Deschutes and Crooked Rivers \nDespite the nearly average precipitation last year\, the drought persists. Learn how hydrology and geology affect these two rivers in completely different ways. \nSpeaker: Jason Gritzner – Hydrologist – USDA Forest Service\nModerator: Lisa Seales – Program Manager – Deschutes River Conservancy \nIn person at Worthy Brewing or Stream Online (choose during registration) \nREGISTER HERE
URL:https://envirocenter.org/event/is-the-drought-over-comparing-the-deschutes-and-crooked-rivers/
LOCATION:Worthy Brewing\, 495 Northeast Bellevue Drive\, Bend\, OR\, 97701\, United States
CATEGORIES:Climate,Public Lands,Science,Water
ATTACH;FMTTYPE=image/jpeg:https://envirocenter.org/wp-content/uploads/2023/05/raisethedeschutesseminarbanner.jpeg
ORGANIZER;CN="Deschutes River Conservancy":MAILTO:marisa@deschutesriver.org
GEO:44.0553359;-121.2604571
X-APPLE-STRUCTURED-LOCATION;VALUE=URI;X-ADDRESS=Worthy Brewing 495 Northeast Bellevue Drive Bend OR 97701 United States;X-APPLE-RADIUS=500;X-TITLE=495 Northeast Bellevue Drive:geo:-121.2604571,44.0553359
END:VEVENT
BEGIN:VEVENT
DTSTART;VALUE=DATE:20231014
DTEND;VALUE=DATE:20231017
DTSTAMP:20260422T030246
CREATED:20231003T003554Z
LAST-MODIFIED:20231011T162058Z
UID:10004090-1697241600-1697500799@envirocenter.org
SUMMARY:2023 Lava Island Fish Rescue
DESCRIPTION:Sign Up for Your Time Slot HERE! \nEvery fall flows drop in the Upper Deschutes as water begins to be stored in Wickiup and Crane Prairie Reservoirs for irrigation use next summer. When this happens\, fish residing in the Lava Island side channel of the Deschutes become stranded from the main stem of the river. \nDRC is once again aiding irrigation district efforts to rescue fish by coordinating volunteers. Volunteers will collect fish from the Lava Island side channel and transport them in buckets to the mainstem of the Deschutes River. \nThe projected rescue dates this year will be October 14th-16th. There will be two time slots per day. The morning slots will be from 8 or 9 AM to 12 pm and the afternoon slot will be from 1 PM to 5 PM. \n***Please note\, dates are tentative and may change due to weather and dam operations. DRC will be in touch with all volunteers via text to provide updates*** \nThere will be three jobs throughout the day: \nNetting fish (must be experienced and bring waders and boots)\nCarrying bucketed fish to be counted (majority of the volunteers need)\nCounting/identifying fish (must be experienced identifying and handling fish)\nThe majority of volunteers will be helping run buckets from the capture site to the counting site. The buckets will weigh 35-40 pounds each. \nPlease bring a water bottle\, snacks\, hiking shoes\, hats\, sunscreen. We will provide coffee\, snacks\, pizza\, and water.
URL:https://envirocenter.org/event/2023-lava-island-fish-rescue/
CATEGORIES:Volunteer,Water
ATTACH;FMTTYPE=image/jpeg:https://envirocenter.org/wp-content/uploads/2023/10/unnamed.jpg
ORGANIZER;CN="Deschutes River Conservancy":MAILTO:marisa@deschutesriver.org
END:VEVENT
BEGIN:VEVENT
DTSTART;TZID=America/Los_Angeles:20230830T180000
DTEND;TZID=America/Los_Angeles:20230830T200000
DTSTAMP:20260422T030246
CREATED:20230717T195638Z
LAST-MODIFIED:20230717T195638Z
UID:10004030-1693418400-1693425600@envirocenter.org
SUMMARY:Raise the Deschutes: Deschutes River Walk and Talk Tour
DESCRIPTION:Deepen your understanding of the Deschutes Basin through an enriching\, serene evening by the river. Join DRC for the “Raise the Deschutes River Walk and Talk Tour\,” happening on August 30\, from 6 pm to 8 pm. \nDuring the walk\, the group will stop along the way to discuss several key points\, including the unique dynamics of the Deschutes Basin\, the changes it has undergone\, and the ways in which human activity has impacted it. \nAdditionally\, DRC will share how they’re working toward DRC’s mission to restore streamflow and improve water quality. You’ll discuss their ongoing projects\, collaborations\, and the tangible differences they’re making for our rivers and all who depend on them.
URL:https://envirocenter.org/event/raise-the-deschutes-deschutes-river-walk-and-talk-tour/
CATEGORIES:Climate|Online event|Water
ATTACH;FMTTYPE=image/jpeg:https://envirocenter.org/wp-content/uploads/2023/05/raisethedeschutesseminarbanner.jpeg
ORGANIZER;CN="Deschutes River Conservancy":MAILTO:marisa@deschutesriver.org
END:VEVENT
BEGIN:VEVENT
DTSTART;TZID=America/Los_Angeles:20230729T090000
DTEND;TZID=America/Los_Angeles:20230729T140000
DTSTAMP:20260422T030246
CREATED:20230518T205836Z
LAST-MODIFIED:20230518T205836Z
UID:10004002-1690621200-1690639200@envirocenter.org
SUMMARY:Deschutes River Cleanup
DESCRIPTION:Join us for our largest annual day of stewardship\, the Deschutes River Cleanup on July 29th. River and riparian cleanup activities will take place along the riparian areas of the Deschutes River at six different stewardship sites: La Pine State Park\, Meadow Camp Picnic Area\, Farewell Bend Park\, Riverbend Park\, First Street Rapids Trail\, and Tumalo State Park. We would like to thank our partners at Oregon State Parks and Leave No Trace for helping make this incredible day of stewardship possible! \nCommunity volunteers of all ages are invited to pull invasive weeds\, remove litter from the stream banks\, and dive instream to pull debris out of the river itself. Thanks to volunteers’ hard work last year\, we removed approximately 2\,600 pounds of garbage and weeds from the Deschutes River and its sensitive riparian areas! We hope you can join us for another great day of stewardship this summer. \nRegister here!
URL:https://envirocenter.org/event/deschutes-river-cleanup/
CATEGORIES:Volunteer,Water
ATTACH;FMTTYPE=image/jpeg:https://envirocenter.org/wp-content/uploads/2023/05/deschutesrivercleanup.jpeg
ORGANIZER;CN="Deschutes River Conservancy":MAILTO:marisa@deschutesriver.org
END:VEVENT
BEGIN:VEVENT
DTSTART;TZID=America/Los_Angeles:20230712T160000
DTEND;TZID=America/Los_Angeles:20230712T180000
DTSTAMP:20260422T030246
CREATED:20230705T190941Z
LAST-MODIFIED:20230705T190941Z
UID:10004021-1689177600-1689184800@envirocenter.org
SUMMARY:Raise the Deschutes: Fox Hollow Ranch Picnic and Farm Tour
DESCRIPTION:Join us on July 12 from 4-6 for a fun and informative afternoon at a family owned and operated farm\, Fox Hollow Ranch.\nThe Richards family are junior irrigators in North Unit Irrigation District (just south of Madras) who grow hay\, hybrid carrot seed\, Kentucky Bluegrass seed\, peppermint oil\, and wheat. Learn how they have worked hard to do more with less water than other farmers in the basin and how they have remained successful despite a multi-year drought. \nRegister Here!
URL:https://envirocenter.org/event/raise-the-deschutes-fox-hollow-ranch-picnic-and-farm-tour/
LOCATION:Fox Hollow Ranch\, 3459 SE Baldwin Drive\, Madras\, OR\, 97741\, United States
CATEGORIES:Climate,Water
ATTACH;FMTTYPE=image/jpeg:https://envirocenter.org/wp-content/uploads/2023/05/raisethedeschutesseminarbanner.jpeg
ORGANIZER;CN="Deschutes River Conservancy":MAILTO:marisa@deschutesriver.org
GEO:44.5864294;-121.1084857
X-APPLE-STRUCTURED-LOCATION;VALUE=URI;X-ADDRESS=Fox Hollow Ranch 3459 SE Baldwin Drive Madras OR 97741 United States;X-APPLE-RADIUS=500;X-TITLE=3459 SE Baldwin Drive:geo:-121.1084857,44.5864294
END:VEVENT
BEGIN:VEVENT
DTSTART;TZID=America/Los_Angeles:20230522T180000
DTEND;TZID=America/Los_Angeles:20230522T200000
DTSTAMP:20260422T030246
CREATED:20230516T180501Z
LAST-MODIFIED:20230516T180501Z
UID:10003998-1684778400-1684785600@envirocenter.org
SUMMARY:Raise the Deschutes Seminar - Many Voices\, One Plan: The Future of Water in the Upper Deschutes
DESCRIPTION:From the Cascades to Lake Billy Chinook\, the Deschutes River has been over-tapped for decades. Fish\, farmers\, and families all depend on water supplies that are impacted by drought and climate change. The Deschutes Basin Water Collaborative\, a consortium of more than 45 stakeholders\, is working to accelerate funding\, market-based solutions\, and implementation of water conservation projects in the basin to help meet demand. Come learn about this work and give the Collaborative your feedback on how you see Central Oregon meeting its water needs in the future. \nSpeakers: \nBobby Brunoe\nSecretary/Treasurer & CEO\nConfederated Tribes of the Warm Springs Reservation\, \nSteve Johnson\nGeneral Manager\nArnold Irrigation District \nPhil Chang\nCounty Commissioner\nDeschutes County \nLisa Seales\nModerator\nPrograms Manager\, Deschutes River Conservancy \nProgram: \n6:00 – Doors open\, drinks available\n6:15 – 7:45 – Seminar + Q&A\n8:00 – Doors close\, bar closes \nBeverages are available for purchase before and after the event. You are welcome to bring your own dinner.  \nRegister here!
URL:https://envirocenter.org/event/raise-the-deschutes-seminar-many-voices-one-plan-the-future-of-water-in-the-upper-deschutes/
LOCATION:Open Space Event Studios\, 220 NE Lafayette Ave\, Bend\, OR\, 97701\, United States
CATEGORIES:Agriculture,Climate,Online event,Water
ATTACH;FMTTYPE=image/jpeg:https://envirocenter.org/wp-content/uploads/2023/05/raisethedeschutesseminarbanner.jpeg
ORGANIZER;CN="Deschutes River Conservancy":MAILTO:marisa@deschutesriver.org
GEO:44.0622509;-121.3034125
X-APPLE-STRUCTURED-LOCATION;VALUE=URI;X-ADDRESS=Open Space Event Studios 220 NE Lafayette Ave Bend OR 97701 United States;X-APPLE-RADIUS=500;X-TITLE=220 NE Lafayette Ave:geo:-121.3034125,44.0622509
END:VEVENT
BEGIN:VEVENT
DTSTART;TZID=America/Los_Angeles:20190511T173000
DTEND;TZID=America/Los_Angeles:20190511T203000
DTSTAMP:20260422T030246
CREATED:20190304T180532Z
LAST-MODIFIED:20190304T180532Z
UID:10001295-1557595800-1557606600@envirocenter.org
SUMMARY:Riverfeast Dinner & Auction
DESCRIPTION:Join Deschutes River Conservancy on May 11th for a delightful evening of irresistible food\, spirits\, and music. Bid on exclusive adventures and experiences\, custom art and other wonderful packages. Give back to our beautiful rivers while exploring the stunning event space at the Unitarian Universalist Fellowship of Central Oregon off Skyliner Road in Bend. \nCoyote Willow’s exciting combination of cello\, guitar\, and rich vocals begin the evening at 5:30. \nAll proceeds from the event support the DRC’s mission to restore streamflow and improve water quality in the Deschutes Basin.
URL:https://envirocenter.org/event/riverfeast-dinner-auction-2/
LOCATION:Unitarian Universalist Fellowship\, 61980 Skyline Ranch Road\, Bend\, OR\, United States
CATEGORIES:Water
ATTACH;FMTTYPE=image/jpeg:https://envirocenter.org/wp-content/uploads/2019/03/RiverFeast-2019-Save-the-Date-Blog.jpg
ORGANIZER;CN="Deschutes River Conservancy":MAILTO:marisa@deschutesriver.org
GEO:44.0521916;-121.3621946
X-APPLE-STRUCTURED-LOCATION;VALUE=URI;X-ADDRESS=Unitarian Universalist Fellowship 61980 Skyline Ranch Road Bend OR United States;X-APPLE-RADIUS=500;X-TITLE=61980 Skyline Ranch Road:geo:-121.3621946,44.0521916
END:VEVENT
END:VCALENDAR