BEGIN:VCALENDAR
VERSION:2.0
PRODID:-//The Environmental Center - ECPv6.15.20//NONSGML v1.0//EN
CALSCALE:GREGORIAN
METHOD:PUBLISH
X-WR-CALNAME:The Environmental Center
X-ORIGINAL-URL:https://envirocenter.org
X-WR-CALDESC:Events for The Environmental Center
REFRESH-INTERVAL;VALUE=DURATION:PT1H
X-Robots-Tag:noindex
X-PUBLISHED-TTL:PT1H
BEGIN:VTIMEZONE
TZID:America/Los_Angeles
BEGIN:DAYLIGHT
TZOFFSETFROM:-0800
TZOFFSETTO:-0700
TZNAME:PDT
DTSTART:20170312T100000
END:DAYLIGHT
BEGIN:STANDARD
TZOFFSETFROM:-0700
TZOFFSETTO:-0800
TZNAME:PST
DTSTART:20171105T090000
END:STANDARD
BEGIN:DAYLIGHT
TZOFFSETFROM:-0800
TZOFFSETTO:-0700
TZNAME:PDT
DTSTART:20180311T100000
END:DAYLIGHT
BEGIN:STANDARD
TZOFFSETFROM:-0700
TZOFFSETTO:-0800
TZNAME:PST
DTSTART:20181104T090000
END:STANDARD
BEGIN:DAYLIGHT
TZOFFSETFROM:-0800
TZOFFSETTO:-0700
TZNAME:PDT
DTSTART:20190310T100000
END:DAYLIGHT
BEGIN:STANDARD
TZOFFSETFROM:-0700
TZOFFSETTO:-0800
TZNAME:PST
DTSTART:20191103T090000
END:STANDARD
BEGIN:DAYLIGHT
TZOFFSETFROM:-0800
TZOFFSETTO:-0700
TZNAME:PDT
DTSTART:20200308T100000
END:DAYLIGHT
BEGIN:STANDARD
TZOFFSETFROM:-0700
TZOFFSETTO:-0800
TZNAME:PST
DTSTART:20201101T090000
END:STANDARD
BEGIN:DAYLIGHT
TZOFFSETFROM:-0800
TZOFFSETTO:-0700
TZNAME:PDT
DTSTART:20210314T100000
END:DAYLIGHT
BEGIN:STANDARD
TZOFFSETFROM:-0700
TZOFFSETTO:-0800
TZNAME:PST
DTSTART:20211107T090000
END:STANDARD
BEGIN:DAYLIGHT
TZOFFSETFROM:-0800
TZOFFSETTO:-0700
TZNAME:PDT
DTSTART:20220313T100000
END:DAYLIGHT
BEGIN:STANDARD
TZOFFSETFROM:-0700
TZOFFSETTO:-0800
TZNAME:PST
DTSTART:20221106T090000
END:STANDARD
BEGIN:DAYLIGHT
TZOFFSETFROM:-0800
TZOFFSETTO:-0700
TZNAME:PDT
DTSTART:20230312T100000
END:DAYLIGHT
BEGIN:STANDARD
TZOFFSETFROM:-0700
TZOFFSETTO:-0800
TZNAME:PST
DTSTART:20231105T090000
END:STANDARD
BEGIN:DAYLIGHT
TZOFFSETFROM:-0800
TZOFFSETTO:-0700
TZNAME:PDT
DTSTART:20240310T100000
END:DAYLIGHT
BEGIN:STANDARD
TZOFFSETFROM:-0700
TZOFFSETTO:-0800
TZNAME:PST
DTSTART:20241103T090000
END:STANDARD
END:VTIMEZONE
BEGIN:VEVENT
DTSTART;TZID=America/Los_Angeles:20230321T160000
DTEND;TZID=America/Los_Angeles:20230321T180000
DTSTAMP:20260419T153621
CREATED:20230222T215839Z
LAST-MODIFIED:20230222T215839Z
UID:10003961-1679414400-1679421600@envirocenter.org
SUMMARY:Happy Hour in the Garden
DESCRIPTION:Join us in our Kansas Avenue Learning Garden for our ongoing volunteer work party series. In 2022\, volunteers contributed over 200 hours to help keep our learning garden maintained over the growing season. We couldn’t do it without you! \nThis event is open to all ages and gardening abilities! No experience or tools required. Beer and non-alcoholic beverages are provided for all who volunteer. Each event includes seasonal ongoing tasks as well as special projects as needed throughout the growing season. Volunteers are welcome to pop in for an hour or stay the whole time. No need to RSVP or commit ahead of time. (Pro tip – put the following dates in your phone calendar now – then when it pops up you can decide if it works out for you or not!) \nIn 2023\, Happy Hour in the Garden will once again run twice a month from March through October. This schedule throughout the extent of the growing season offers meaningful volunteer experiences for all who come\, and deeper care for the garden when it needs it. \nFor Spring 2023\, our Happy Hours will be 4-6pm\, on the 1st & 3rd Tuesdays of the month. \nMarch & April Happy Hours sponsored by Wild Ride Brewing \n\nMarch 7 & 21\nApril 4 & 18\n\nMay & June Happy Hours sponsored by Worthy Environmental \n\nMay 2 & 16\nJune 6 & 20\n\nStay tuned for confirmation of dates for July through October\, as these might switch to the 2nd & 4th…) \nContact Denise\, Garden Program Manager\, if you have any questions about getting involved.
URL:https://envirocenter.org/event/happy-hour-in-the-garden-14/
LOCATION:The Environmental Center\, 16 NW Kansas Avenue\, Bend\, OR\, 97703
CATEGORIES:Food,Garden,Volunteer,Youth Education
ATTACH;FMTTYPE=image/jpeg:https://envirocenter.org/wp-content/uploads/2018/04/DSC6905-e1524508190728.jpg
ORGANIZER;CN="Denise Rowcroft%2C The Environmental Center":MAILTO:denise@envirocenter.org
GEO:44.055562;-121.3143083
X-APPLE-STRUCTURED-LOCATION;VALUE=URI;X-ADDRESS=The Environmental Center 16 NW Kansas Avenue Bend OR 97703;X-APPLE-RADIUS=500;X-TITLE=16 NW Kansas Avenue:geo:-121.3143083,44.055562
END:VEVENT
BEGIN:VEVENT
DTSTART;TZID=America/Los_Angeles:20221018T160000
DTEND;TZID=America/Los_Angeles:20221018T180000
DTSTAMP:20260419T153621
CREATED:20220502T231517Z
LAST-MODIFIED:20220613T220721Z
UID:10003819-1666108800-1666116000@envirocenter.org
SUMMARY:Happy Hour in the Garden
DESCRIPTION:This year\, Happy Hour in the Garden will run from March through October. Instead of weekly\, this volunteer event will be on the *1st & 3rd Tuesdays*\, kicking off Tuesday\, March 1st. Stop by anytime between 4-6 on the following dates to help out in the garden and enjoy a bubbly beverage. Family friendly\, no experience or tools necessary. \nContact Denise Rowcroft\, Garden Program Manager\, if you have any questions about getting involved. \n\nMarch 1 & 15 (March & April beer sponsored by Worthy Garden Club)\nApril 5 & 19\nMay 3 & 17 (May & June beer sponsored by Boneyard Beer)\nJune 7 & 21\n\nDue to summer trips\, please note that summer dates (July & August) are the 2nd & 4th Tuesdays of the month! \n\n*July 12 & 26* (July & August beer sponsored by Deschutes Brewery)\n*August 9 & 23* (Note\, this is the 2nd & 4th Tuesday\, rescheduled due to planned time off)\nSeptember 6 & 20 (Sept & Oct beer sponsored by 10 Barrel Brewing Co)\nOctober 4 & 18
URL:https://envirocenter.org/event/happy-hour-in-the-garden-11/2022-10-18/
LOCATION:The Environmental Center\, 16 NW Kansas Avenue\, Bend\, OR\, 97703
CATEGORIES:Garden
ATTACH;FMTTYPE=image/jpeg:https://envirocenter.org/wp-content/uploads/2022/03/HH-in-the-Garden.jpg
ORGANIZER;CN="Denise Rowcroft%2C The Environmental Center":MAILTO:denise@envirocenter.org
GEO:44.055562;-121.3143083
X-APPLE-STRUCTURED-LOCATION;VALUE=URI;X-ADDRESS=The Environmental Center 16 NW Kansas Avenue Bend OR 97703;X-APPLE-RADIUS=500;X-TITLE=16 NW Kansas Avenue:geo:-121.3143083,44.055562
END:VEVENT
BEGIN:VEVENT
DTSTART;TZID=America/Los_Angeles:20220920T160000
DTEND;TZID=America/Los_Angeles:20220920T180000
DTSTAMP:20260419T153621
CREATED:20220502T231517Z
LAST-MODIFIED:20220613T220721Z
UID:10003818-1663689600-1663696800@envirocenter.org
SUMMARY:Happy Hour in the Garden
DESCRIPTION:This year\, Happy Hour in the Garden will run from March through October. Instead of weekly\, this volunteer event will be on the *1st & 3rd Tuesdays*\, kicking off Tuesday\, March 1st. Stop by anytime between 4-6 on the following dates to help out in the garden and enjoy a bubbly beverage. Family friendly\, no experience or tools necessary. \nContact Denise Rowcroft\, Garden Program Manager\, if you have any questions about getting involved. \n\nMarch 1 & 15 (March & April beer sponsored by Worthy Garden Club)\nApril 5 & 19\nMay 3 & 17 (May & June beer sponsored by Boneyard Beer)\nJune 7 & 21\n\nDue to summer trips\, please note that summer dates (July & August) are the 2nd & 4th Tuesdays of the month! \n\n*July 12 & 26* (July & August beer sponsored by Deschutes Brewery)\n*August 9 & 23* (Note\, this is the 2nd & 4th Tuesday\, rescheduled due to planned time off)\nSeptember 6 & 20 (Sept & Oct beer sponsored by 10 Barrel Brewing Co)\nOctober 4 & 18
URL:https://envirocenter.org/event/happy-hour-in-the-garden-11/2022-09-20/
LOCATION:The Environmental Center\, 16 NW Kansas Avenue\, Bend\, OR\, 97703
CATEGORIES:Garden
ATTACH;FMTTYPE=image/jpeg:https://envirocenter.org/wp-content/uploads/2022/03/HH-in-the-Garden.jpg
ORGANIZER;CN="Denise Rowcroft%2C The Environmental Center":MAILTO:denise@envirocenter.org
GEO:44.055562;-121.3143083
X-APPLE-STRUCTURED-LOCATION;VALUE=URI;X-ADDRESS=The Environmental Center 16 NW Kansas Avenue Bend OR 97703;X-APPLE-RADIUS=500;X-TITLE=16 NW Kansas Avenue:geo:-121.3143083,44.055562
END:VEVENT
BEGIN:VEVENT
DTSTART;TZID=America/Los_Angeles:20220823T160000
DTEND;TZID=America/Los_Angeles:20220823T180000
DTSTAMP:20260419T153621
CREATED:20220502T232049Z
LAST-MODIFIED:20220822T195926Z
UID:10003822-1661270400-1661277600@envirocenter.org
SUMMARY:Happy Hour in the Garden
DESCRIPTION:This year\, Happy Hour in the Garden will run from March through October. Instead of weekly\, this volunteer event will be on the *1st & 3rd Tuesdays*\, kicking off Tuesday\, March 1st. Stop by anytime between 4-6 on the following dates to help out in the garden and enjoy a bubbly beverage. Family friendly\, no experience or tools necessary. \nContact Denise Rowcroft\, Garden Program Manager\, if you have any questions about getting involved. \n\nMarch 1 & 15 (March & April beer sponsored by Worthy Garden Club)\nApril 5 & 19\nMay 3 & 17 (May & June beer sponsored by Boneyard Beer)\nJune 7 & 21\n\nDue to summer trips\, please note that summer dates (July & August) are the 2nd & 4th Tuesdays of the month! \n\n*July 12 & 26* (July & August beer sponsored by Deschutes Brewery)\n*August 9 & 23* (Note\, this is the 2nd & 4th Tuesday\, rescheduled due to planned time off)\nSeptember 6 & 20 (Sept & Oct beer sponsored by 10 Barrel Brewing Co)\nOctober 4 & 18
URL:https://envirocenter.org/event/happy-hour-in-the-garden-12/2022-08-23/
LOCATION:The Environmental Center\, 16 NW Kansas Avenue\, Bend\, OR\, 97703
CATEGORIES:Garden
ATTACH;FMTTYPE=image/jpeg:https://envirocenter.org/wp-content/uploads/2022/03/HH-in-the-Garden.jpg
ORGANIZER;CN="Denise Rowcroft%2C The Environmental Center":MAILTO:denise@envirocenter.org
GEO:44.055562;-121.3143083
X-APPLE-STRUCTURED-LOCATION;VALUE=URI;X-ADDRESS=The Environmental Center 16 NW Kansas Avenue Bend OR 97703;X-APPLE-RADIUS=500;X-TITLE=16 NW Kansas Avenue:geo:-121.3143083,44.055562
END:VEVENT
BEGIN:VEVENT
DTSTART;TZID=America/Los_Angeles:20220809T160000
DTEND;TZID=America/Los_Angeles:20220809T180000
DTSTAMP:20260419T153621
CREATED:20220502T232049Z
LAST-MODIFIED:20220822T195926Z
UID:10003821-1660060800-1660068000@envirocenter.org
SUMMARY:Happy Hour in the Garden
DESCRIPTION:This year\, Happy Hour in the Garden will run from March through October. Instead of weekly\, this volunteer event will be on the *1st & 3rd Tuesdays*\, kicking off Tuesday\, March 1st. Stop by anytime between 4-6 on the following dates to help out in the garden and enjoy a bubbly beverage. Family friendly\, no experience or tools necessary. \nContact Denise Rowcroft\, Garden Program Manager\, if you have any questions about getting involved. \n\nMarch 1 & 15 (March & April beer sponsored by Worthy Garden Club)\nApril 5 & 19\nMay 3 & 17 (May & June beer sponsored by Boneyard Beer)\nJune 7 & 21\n\nDue to summer trips\, please note that summer dates (July & August) are the 2nd & 4th Tuesdays of the month! \n\n*July 12 & 26* (July & August beer sponsored by Deschutes Brewery)\n*August 9 & 23* (Note\, this is the 2nd & 4th Tuesday\, rescheduled due to planned time off)\nSeptember 6 & 20 (Sept & Oct beer sponsored by 10 Barrel Brewing Co)\nOctober 4 & 18
URL:https://envirocenter.org/event/happy-hour-in-the-garden-12/2022-08-09/
LOCATION:The Environmental Center\, 16 NW Kansas Avenue\, Bend\, OR\, 97703
CATEGORIES:Garden
ATTACH;FMTTYPE=image/jpeg:https://envirocenter.org/wp-content/uploads/2022/03/HH-in-the-Garden.jpg
ORGANIZER;CN="Denise Rowcroft%2C The Environmental Center":MAILTO:denise@envirocenter.org
GEO:44.055562;-121.3143083
X-APPLE-STRUCTURED-LOCATION;VALUE=URI;X-ADDRESS=The Environmental Center 16 NW Kansas Avenue Bend OR 97703;X-APPLE-RADIUS=500;X-TITLE=16 NW Kansas Avenue:geo:-121.3143083,44.055562
END:VEVENT
BEGIN:VEVENT
DTSTART;TZID=America/Los_Angeles:20220712T160000
DTEND;TZID=America/Los_Angeles:20220712T180000
DTSTAMP:20260419T153621
CREATED:20220502T230232Z
LAST-MODIFIED:20220613T221131Z
UID:10003814-1657641600-1657648800@envirocenter.org
SUMMARY:Happy Hour in the Garden
DESCRIPTION:This year\, Happy Hour in the Garden will run from March through October. Instead of weekly\, this volunteer event will be on the *1st & 3rd Tuesdays*\, kicking off Tuesday\, March 1st. Stop by anytime between 4-6 on the following dates to help out in the garden and enjoy a bubbly beverage. Family friendly\, no experience or tools necessary. \nContact Denise Rowcroft\, Garden Program Manager\, if you have any questions about getting involved. \n\nMarch 1 & 15 (March & April beer sponsored by Worthy Garden Club)\nApril 5 & 19\nMay 3 & 17 (May & June beer sponsored by Boneyard Beer)\nJune 7 & 21\n\nDue to summer trips\, please note that summer dates (July & August) are the 2nd & 4th Tuesdays of the month! \n\nJuly 12 & 26 (July & August beer sponsored by Deschutes Brewery)\n*August 9 & 23* (Note\, this is the 2nd & 4th Tuesday\, rescheduled due to planned time off)\nSeptember 6 & 20 (Sept & Oct beer sponsored by 10 Barrel Brewing Co)\nOctober 4 & 18
URL:https://envirocenter.org/event/happy-hour-in-the-garden-10-2022-07-05/
LOCATION:The Environmental Center\, 16 NW Kansas Avenue\, Bend\, OR\, 97703
CATEGORIES:Garden
ATTACH;FMTTYPE=image/jpeg:https://envirocenter.org/wp-content/uploads/2022/03/HH-in-the-Garden.jpg
ORGANIZER;CN="Denise Rowcroft%2C The Environmental Center":MAILTO:denise@envirocenter.org
GEO:44.055562;-121.3143083
X-APPLE-STRUCTURED-LOCATION;VALUE=URI;X-ADDRESS=The Environmental Center 16 NW Kansas Avenue Bend OR 97703;X-APPLE-RADIUS=500;X-TITLE=16 NW Kansas Avenue:geo:-121.3143083,44.055562
END:VEVENT
BEGIN:VEVENT
DTSTART;TZID=America/Los_Angeles:20220621T160000
DTEND;TZID=America/Los_Angeles:20220621T180000
DTSTAMP:20260419T153621
CREATED:20220502T231517Z
LAST-MODIFIED:20220613T220721Z
UID:10003817-1655827200-1655834400@envirocenter.org
SUMMARY:Happy Hour in the Garden
DESCRIPTION:This year\, Happy Hour in the Garden will run from March through October. Instead of weekly\, this volunteer event will be on the *1st & 3rd Tuesdays*\, kicking off Tuesday\, March 1st. Stop by anytime between 4-6 on the following dates to help out in the garden and enjoy a bubbly beverage. Family friendly\, no experience or tools necessary. \nContact Denise Rowcroft\, Garden Program Manager\, if you have any questions about getting involved. \n\nMarch 1 & 15 (March & April beer sponsored by Worthy Garden Club)\nApril 5 & 19\nMay 3 & 17 (May & June beer sponsored by Boneyard Beer)\nJune 7 & 21\n\nDue to summer trips\, please note that summer dates (July & August) are the 2nd & 4th Tuesdays of the month! \n\n*July 12 & 26* (July & August beer sponsored by Deschutes Brewery)\n*August 9 & 23* (Note\, this is the 2nd & 4th Tuesday\, rescheduled due to planned time off)\nSeptember 6 & 20 (Sept & Oct beer sponsored by 10 Barrel Brewing Co)\nOctober 4 & 18
URL:https://envirocenter.org/event/happy-hour-in-the-garden-11/2022-06-21/
LOCATION:The Environmental Center\, 16 NW Kansas Avenue\, Bend\, OR\, 97703
CATEGORIES:Garden
ATTACH;FMTTYPE=image/jpeg:https://envirocenter.org/wp-content/uploads/2022/03/HH-in-the-Garden.jpg
ORGANIZER;CN="Denise Rowcroft%2C The Environmental Center":MAILTO:denise@envirocenter.org
GEO:44.055562;-121.3143083
X-APPLE-STRUCTURED-LOCATION;VALUE=URI;X-ADDRESS=The Environmental Center 16 NW Kansas Avenue Bend OR 97703;X-APPLE-RADIUS=500;X-TITLE=16 NW Kansas Avenue:geo:-121.3143083,44.055562
END:VEVENT
BEGIN:VEVENT
DTSTART;TZID=America/Los_Angeles:20220517T160000
DTEND;TZID=America/Los_Angeles:20220517T180000
DTSTAMP:20260419T153621
CREATED:20220502T231517Z
LAST-MODIFIED:20220613T220721Z
UID:10003816-1652803200-1652810400@envirocenter.org
SUMMARY:Happy Hour in the Garden
DESCRIPTION:This year\, Happy Hour in the Garden will run from March through October. Instead of weekly\, this volunteer event will be on the *1st & 3rd Tuesdays*\, kicking off Tuesday\, March 1st. Stop by anytime between 4-6 on the following dates to help out in the garden and enjoy a bubbly beverage. Family friendly\, no experience or tools necessary. \nContact Denise Rowcroft\, Garden Program Manager\, if you have any questions about getting involved. \n\nMarch 1 & 15 (March & April beer sponsored by Worthy Garden Club)\nApril 5 & 19\nMay 3 & 17 (May & June beer sponsored by Boneyard Beer)\nJune 7 & 21\n\nDue to summer trips\, please note that summer dates (July & August) are the 2nd & 4th Tuesdays of the month! \n\n*July 12 & 26* (July & August beer sponsored by Deschutes Brewery)\n*August 9 & 23* (Note\, this is the 2nd & 4th Tuesday\, rescheduled due to planned time off)\nSeptember 6 & 20 (Sept & Oct beer sponsored by 10 Barrel Brewing Co)\nOctober 4 & 18
URL:https://envirocenter.org/event/happy-hour-in-the-garden-11/2022-05-17/
LOCATION:The Environmental Center\, 16 NW Kansas Avenue\, Bend\, OR\, 97703
CATEGORIES:Garden
ATTACH;FMTTYPE=image/jpeg:https://envirocenter.org/wp-content/uploads/2022/03/HH-in-the-Garden.jpg
ORGANIZER;CN="Denise Rowcroft%2C The Environmental Center":MAILTO:denise@envirocenter.org
GEO:44.055562;-121.3143083
X-APPLE-STRUCTURED-LOCATION;VALUE=URI;X-ADDRESS=The Environmental Center 16 NW Kansas Avenue Bend OR 97703;X-APPLE-RADIUS=500;X-TITLE=16 NW Kansas Avenue:geo:-121.3143083,44.055562
END:VEVENT
BEGIN:VEVENT
DTSTART;TZID=America/Los_Angeles:20220502T160000
DTEND;TZID=America/Los_Angeles:20220502T180000
DTSTAMP:20260419T153621
CREATED:20220502T231517Z
LAST-MODIFIED:20220613T220721Z
UID:10003815-1651507200-1651514400@envirocenter.org
SUMMARY:Happy Hour in the Garden
DESCRIPTION:This year\, Happy Hour in the Garden will run from March through October. Instead of weekly\, this volunteer event will be on the *1st & 3rd Tuesdays*\, kicking off Tuesday\, March 1st. Stop by anytime between 4-6 on the following dates to help out in the garden and enjoy a bubbly beverage. Family friendly\, no experience or tools necessary. \nContact Denise Rowcroft\, Garden Program Manager\, if you have any questions about getting involved. \n\nMarch 1 & 15 (March & April beer sponsored by Worthy Garden Club)\nApril 5 & 19\nMay 3 & 17 (May & June beer sponsored by Boneyard Beer)\nJune 7 & 21\n\nDue to summer trips\, please note that summer dates (July & August) are the 2nd & 4th Tuesdays of the month! \n\n*July 12 & 26* (July & August beer sponsored by Deschutes Brewery)\n*August 9 & 23* (Note\, this is the 2nd & 4th Tuesday\, rescheduled due to planned time off)\nSeptember 6 & 20 (Sept & Oct beer sponsored by 10 Barrel Brewing Co)\nOctober 4 & 18
URL:https://envirocenter.org/event/happy-hour-in-the-garden-11/2022-05-02/
LOCATION:The Environmental Center\, 16 NW Kansas Avenue\, Bend\, OR\, 97703
CATEGORIES:Garden
ATTACH;FMTTYPE=image/jpeg:https://envirocenter.org/wp-content/uploads/2022/03/HH-in-the-Garden.jpg
ORGANIZER;CN="Denise Rowcroft%2C The Environmental Center":MAILTO:denise@envirocenter.org
GEO:44.055562;-121.3143083
X-APPLE-STRUCTURED-LOCATION;VALUE=URI;X-ADDRESS=The Environmental Center 16 NW Kansas Avenue Bend OR 97703;X-APPLE-RADIUS=500;X-TITLE=16 NW Kansas Avenue:geo:-121.3143083,44.055562
END:VEVENT
BEGIN:VEVENT
DTSTART;TZID=America/Los_Angeles:20191005T100000
DTEND;TZID=America/Los_Angeles:20191005T120000
DTSTAMP:20260419T153621
CREATED:20190909T224809Z
LAST-MODIFIED:20190917T163810Z
UID:10003222-1570269600-1570276800@envirocenter.org
SUMMARY:Fall Garden Work Party
DESCRIPTION:Join us in the garden to help with fall garden projects and some winterization work. We will have coffee\, juice and snacks on hand. Tools provided\, family friendly. This will also be an opportunity to pick up garden bulbs ordered with our Fall Garden Bulb Fundraiser.
URL:https://envirocenter.org/event/fall-garden-work-party-3/
CATEGORIES:Garden
ATTACH;FMTTYPE=image/jpeg:https://envirocenter.org/wp-content/uploads/2019/09/flower-garden-path-e1568738281437.jpg
ORGANIZER;CN="Denise Rowcroft%2C The Environmental Center":MAILTO:denise@envirocenter.org
END:VEVENT
BEGIN:VEVENT
DTSTART;TZID=America/Los_Angeles:20180604T163000
DTEND;TZID=America/Los_Angeles:20180604T183000
DTSTAMP:20260419T153621
CREATED:20180521T192034Z
LAST-MODIFIED:20180521T200838Z
UID:10001186-1528129800-1528137000@envirocenter.org
SUMMARY:Garden Educator Network Meeting
DESCRIPTION:Please join us at Three Rivers School in Sunriver for an end of year Regional Gathering for farm and garden based educators in Central Oregon.   The purpose of the Gathering is to share resources\, provide networking opportunities\, and address region-specific challenges.  Our focus for this June event is to share what you have been up to in your school garden projects this spring\, as well as your plans for (or questions about) summer maintenance. Plus\, we will hear from the Three Rivers Wellness Committee and see their new small indoor garden made out of shopping carts! \nThe Environmental Center has taken on a new role as Regional Education Hub Lead for the Oregon Farm to School and School Garden Network for Central Oregon.  In this role\, we’ll provide region specific resources and ongoing responsive technical assistance\, work to address region-specific challenges and networking opportunities including Regional Gatherings.  For questions or support contact Denise Rowcroft\, denise@envirocenter.org\, 541-385-6908 x14
URL:https://envirocenter.org/event/garden-educator-network-meeting-2/
LOCATION:Three Rivers Elementary School\, 56900 Enterprise Dr\, Sunriver\, OR\, 97707\, United States
CATEGORIES:Garden,Youth Education
ATTACH;FMTTYPE=image/png:https://envirocenter.org/wp-content/uploads/2018/05/ODA-SCBGP-Logo-Small.png
ORGANIZER;CN="Denise Rowcroft%2C The Environmental Center":MAILTO:denise@envirocenter.org
GEO:43.8679088;-121.4337143
X-APPLE-STRUCTURED-LOCATION;VALUE=URI;X-ADDRESS=Three Rivers Elementary School 56900 Enterprise Dr Sunriver OR 97707 United States;X-APPLE-RADIUS=500;X-TITLE=56900 Enterprise Dr:geo:-121.4337143,43.8679088
END:VEVENT
END:VCALENDAR