BEGIN:VCALENDAR
VERSION:2.0
PRODID:-//The Environmental Center - ECPv6.15.20//NONSGML v1.0//EN
CALSCALE:GREGORIAN
METHOD:PUBLISH
X-ORIGINAL-URL:https://envirocenter.org
X-WR-CALDESC:Events for The Environmental Center
REFRESH-INTERVAL;VALUE=DURATION:PT1H
X-Robots-Tag:noindex
X-PUBLISHED-TTL:PT1H
BEGIN:VTIMEZONE
TZID:America/Los_Angeles
BEGIN:DAYLIGHT
TZOFFSETFROM:-0800
TZOFFSETTO:-0700
TZNAME:PDT
DTSTART:20180311T100000
END:DAYLIGHT
BEGIN:STANDARD
TZOFFSETFROM:-0700
TZOFFSETTO:-0800
TZNAME:PST
DTSTART:20181104T090000
END:STANDARD
BEGIN:DAYLIGHT
TZOFFSETFROM:-0800
TZOFFSETTO:-0700
TZNAME:PDT
DTSTART:20190310T100000
END:DAYLIGHT
BEGIN:STANDARD
TZOFFSETFROM:-0700
TZOFFSETTO:-0800
TZNAME:PST
DTSTART:20191103T090000
END:STANDARD
BEGIN:DAYLIGHT
TZOFFSETFROM:-0800
TZOFFSETTO:-0700
TZNAME:PDT
DTSTART:20200308T100000
END:DAYLIGHT
BEGIN:STANDARD
TZOFFSETFROM:-0700
TZOFFSETTO:-0800
TZNAME:PST
DTSTART:20201101T090000
END:STANDARD
BEGIN:DAYLIGHT
TZOFFSETFROM:-0800
TZOFFSETTO:-0700
TZNAME:PDT
DTSTART:20210314T100000
END:DAYLIGHT
BEGIN:STANDARD
TZOFFSETFROM:-0700
TZOFFSETTO:-0800
TZNAME:PST
DTSTART:20211107T090000
END:STANDARD
BEGIN:DAYLIGHT
TZOFFSETFROM:-0800
TZOFFSETTO:-0700
TZNAME:PDT
DTSTART:20220313T100000
END:DAYLIGHT
BEGIN:STANDARD
TZOFFSETFROM:-0700
TZOFFSETTO:-0800
TZNAME:PST
DTSTART:20221106T090000
END:STANDARD
BEGIN:DAYLIGHT
TZOFFSETFROM:-0800
TZOFFSETTO:-0700
TZNAME:PDT
DTSTART:20230312T100000
END:DAYLIGHT
BEGIN:STANDARD
TZOFFSETFROM:-0700
TZOFFSETTO:-0800
TZNAME:PST
DTSTART:20231105T090000
END:STANDARD
BEGIN:DAYLIGHT
TZOFFSETFROM:-0800
TZOFFSETTO:-0700
TZNAME:PDT
DTSTART:20240310T100000
END:DAYLIGHT
BEGIN:STANDARD
TZOFFSETFROM:-0700
TZOFFSETTO:-0800
TZNAME:PST
DTSTART:20241103T090000
END:STANDARD
BEGIN:DAYLIGHT
TZOFFSETFROM:-0800
TZOFFSETTO:-0700
TZNAME:PDT
DTSTART:20250309T100000
END:DAYLIGHT
BEGIN:STANDARD
TZOFFSETFROM:-0700
TZOFFSETTO:-0800
TZNAME:PST
DTSTART:20251102T090000
END:STANDARD
END:VTIMEZONE
BEGIN:VEVENT
DTSTART;TZID=America/Los_Angeles:20240313T183000
DTEND;TZID=America/Los_Angeles:20240313T210000
DTSTAMP:20260419T053623
CREATED:20240227T172626Z
LAST-MODIFIED:20240304T182413Z
UID:10004174-1710354600-1710363600@envirocenter.org
SUMMARY:REEL ROCK 18
DESCRIPTION:Presented by Mountain Supply. A benefit for Bend Endurance Academy and Vámonos Outside!\nGeneral admission\, doors open at 6:30 PM. \nFollow the philosophical journey of Japanese climbing phenom Sachi Amma\, as he evolves from three-time world champion to traditional climbing purist\, culminating in a visionary first ascent on the mythical Mt. Mizugaki. (30 min) \nANGIE SCARTH-JOHNSON & HAZEL FINDLAY IN – YEAH BUDDY \nAustralian climber Angie Scarth-Johnson\, who first made her mark setting records at a young age\, teams up with veteran adventure climber Hazel Findlay to explore the best of Mallorca’s deep-water soloing. (25 min) \nJOSH WHARTON & VINCE ANDERSON IN – JIRISHANCA \nRenowned alpinists Josh Wharton and Vince Anderson attempt a free ascent of the Jirishanca\, an epic 20\,000-foot peak in the Peruvian Andes. The duo will have to tackle 5.13 face climbing\, horizontal ice roofs\, technical mixed terrain and treacherous snow mushrooms as they reconcile the inherent risk of climbing with their love of alpine adventure. (40 min) \nMATT GROOM & DANYIL BOLDYREV IN – CLIMBING NEVER DIE \nClimbing journalist Matt Groom journeys deep into war-torn Ukraine to discover a community held together by climbing and patriotism\, but indelibly changed by war. (35 min) \nGET TICKETS
URL:https://envirocenter.org/event/reel-rock-18/
LOCATION:Tower Theatre\, 835 NW Wall St.\, Bend\, OR\, 97701\, United States
CATEGORIES:Film,Outdoors & Adventure,Public Lands
ATTACH;FMTTYPE=image/jpeg:https://envirocenter.org/wp-content/uploads/2024/02/reelrock18.jpeg
GEO:44.058743;-121.314914
X-APPLE-STRUCTURED-LOCATION;VALUE=URI;X-ADDRESS=Tower Theatre 835 NW Wall St. Bend OR 97701 United States;X-APPLE-RADIUS=500;X-TITLE=835 NW Wall St.:geo:-121.314914,44.058743
END:VEVENT
BEGIN:VEVENT
DTSTART;VALUE=DATE:20190426
DTEND;VALUE=DATE:20190429
DTSTAMP:20260419T053623
CREATED:20190417T172617Z
LAST-MODIFIED:20190417T172617Z
UID:10001327-1556236800-1556495999@envirocenter.org
SUMMARY:Bend Bike Swap
DESCRIPTION:Buy and Sell Used Bikes and Gear!\n\n\nBend Bike Swap will be organized by the Bend Endurance Academy and hosted by Thump Coffee in Northwest Crossing. The Bend Endurance Academy will continue the tradition of offering an assortment of gear for mountain biking\, road cycling\, cyclocross while making customer service a high priority. Commissions from sales raise important funds to support BEA’s Youth and Junior Development Programs. \nFriday April 26: \n\nAll pre-checked items are transported to the Swap site at Thump Coffee\nOnline registration ends at Noon\nFinal chance to register your items on-site at Thump Coffee 3 – 7 PM\n\nSaturday April 27: \n\nSwap is OPEN 10 – 6 PM\n\nSunday April 28: \n\nSwap is OPEN 9:30 – 3 PM\nSellers must collect all unsold items 4 – 6 PM
URL:https://envirocenter.org/event/bend-bike-swap-3/
LOCATION:Thump Coffee\, 549 NW York\, Bend\, OR\, 97703\, United States
GEO:44.0557868;-121.358133
X-APPLE-STRUCTURED-LOCATION;VALUE=URI;X-ADDRESS=Thump Coffee 549 NW York Bend OR 97703 United States;X-APPLE-RADIUS=500;X-TITLE=549 NW York:geo:-121.358133,44.0557868
END:VEVENT
END:VCALENDAR