BEGIN:VCALENDAR
VERSION:2.0
PRODID:-//The Environmental Center - ECPv6.15.20//NONSGML v1.0//EN
CALSCALE:GREGORIAN
METHOD:PUBLISH
X-WR-CALNAME:The Environmental Center
X-ORIGINAL-URL:https://envirocenter.org
X-WR-CALDESC:Events for The Environmental Center
REFRESH-INTERVAL;VALUE=DURATION:PT1H
X-Robots-Tag:noindex
X-PUBLISHED-TTL:PT1H
BEGIN:VTIMEZONE
TZID:America/Los_Angeles
BEGIN:DAYLIGHT
TZOFFSETFROM:-0800
TZOFFSETTO:-0700
TZNAME:PDT
DTSTART:20250309T100000
END:DAYLIGHT
BEGIN:STANDARD
TZOFFSETFROM:-0700
TZOFFSETTO:-0800
TZNAME:PST
DTSTART:20251102T090000
END:STANDARD
BEGIN:DAYLIGHT
TZOFFSETFROM:-0800
TZOFFSETTO:-0700
TZNAME:PDT
DTSTART:20260308T100000
END:DAYLIGHT
BEGIN:STANDARD
TZOFFSETFROM:-0700
TZOFFSETTO:-0800
TZNAME:PST
DTSTART:20261101T090000
END:STANDARD
BEGIN:DAYLIGHT
TZOFFSETFROM:-0800
TZOFFSETTO:-0700
TZNAME:PDT
DTSTART:20270314T100000
END:DAYLIGHT
BEGIN:STANDARD
TZOFFSETFROM:-0700
TZOFFSETTO:-0800
TZNAME:PST
DTSTART:20271107T090000
END:STANDARD
END:VTIMEZONE
BEGIN:VEVENT
DTSTART;TZID=America/Los_Angeles:20260402T170000
DTEND;TZID=America/Los_Angeles:20260402T190000
DTSTAMP:20260421T062403
CREATED:20260120T235216Z
LAST-MODIFIED:20260120T235349Z
UID:10004720-1775149200-1775156400@envirocenter.org
SUMMARY:Repair Cafe with School of Ranch & Open Space
DESCRIPTION:
URL:https://envirocenter.org/event/repair-cafe-with-school-of-ranch-open-space/
LOCATION:Open Space Event Studios\, 220 NE Lafayette Ave\, Bend\, OR\, 97701\, United States
CATEGORIES:Repair Cafe,Repair Cafe|Rethink Waste,Rethink Waste
GEO:44.0622509;-121.3034125
X-APPLE-STRUCTURED-LOCATION;VALUE=URI;X-ADDRESS=Open Space Event Studios 220 NE Lafayette Ave Bend OR 97701 United States;X-APPLE-RADIUS=500;X-TITLE=220 NE Lafayette Ave:geo:-121.3034125,44.0622509
END:VEVENT
BEGIN:VEVENT
DTSTART;TZID=America/Los_Angeles:20260403T080000
DTEND;TZID=America/Los_Angeles:20260403T170000
DTSTAMP:20260421T062403
CREATED:20260330T220840Z
LAST-MODIFIED:20260330T220840Z
UID:10004746-1775203200-1775235600@envirocenter.org
SUMMARY:Film Screening: The Antidote
DESCRIPTION:Restorative Justice & Equity invites you to a community film screening of The Antidote\, followed by guided reflection and discussion. This gathering is designed to be a comfortable\, welcoming\, and collaborative space where community members can connect\, reflect\, and engage with one another. All are welcome ages 15+.
URL:https://envirocenter.org/event/film-screening-the-antidote/
LOCATION:Latino Community Association\, 2445 NE Division Street\, Suite 200\, Bend\, OR\, 97703\, United States
ATTACH;FMTTYPE=image/jpeg:https://envirocenter.org/wp-content/uploads/2026/03/IMG_8890.jpg
GEO:44.0742797;-121.3063352
X-APPLE-STRUCTURED-LOCATION;VALUE=URI;X-ADDRESS=Latino Community Association 2445 NE Division Street Suite 200 Bend OR 97703 United States;X-APPLE-RADIUS=500;X-TITLE=2445 NE Division Street\, Suite 200:geo:-121.3063352,44.0742797
END:VEVENT
BEGIN:VEVENT
DTSTART;TZID=America/Los_Angeles:20260404T163000
DTEND;TZID=America/Los_Angeles:20260404T193000
DTSTAMP:20260421T062403
CREATED:20260311T152206Z
LAST-MODIFIED:20260311T152206Z
UID:10004732-1775320200-1775331000@envirocenter.org
SUMMARY:Cheetah Conservation Fund Presentation
DESCRIPTION:Dr. Laurie Marker\, Cheetah Conservation Fund’s Executive Founder and Director\, and a Time Magazine “Hero for the Planet” headlines this special educational and fundraiser event. Learn about Cheetah conservation\, shop for Namibian crafts\, join our silent auction\, enjoy refreshments. April 4\, 4:30-7:30pm\, Embark\, 2843 NW Lolo Dr\, Bend. RSVP: wildid@gmail.com. Free.
URL:https://envirocenter.org/event/cheetah-conservation-fund-presentation/
LOCATION:Embark\, 2843 NW Lolo Dr.\, Bend\, OR\, 97703\, United States
ATTACH;FMTTYPE=image/jpeg:https://envirocenter.org/wp-content/uploads/2026/03/Screenshot-2026-03-10-at-6.48.02-PM.jpg
GEO:44.0531904;-121.3629071
X-APPLE-STRUCTURED-LOCATION;VALUE=URI;X-ADDRESS=Embark 2843 NW Lolo Dr. Bend OR 97703 United States;X-APPLE-RADIUS=500;X-TITLE=2843 NW Lolo Dr.:geo:-121.3629071,44.0531904
END:VEVENT
END:VCALENDAR