BEGIN:VCALENDAR
VERSION:2.0
PRODID:-//The Environmental Center - ECPv6.15.20//NONSGML v1.0//EN
CALSCALE:GREGORIAN
METHOD:PUBLISH
X-ORIGINAL-URL:https://envirocenter.org
X-WR-CALDESC:Events for The Environmental Center
REFRESH-INTERVAL;VALUE=DURATION:PT1H
X-Robots-Tag:noindex
X-PUBLISHED-TTL:PT1H
BEGIN:VTIMEZONE
TZID:America/Los_Angeles
BEGIN:DAYLIGHT
TZOFFSETFROM:-0800
TZOFFSETTO:-0700
TZNAME:PDT
DTSTART:20250309T100000
END:DAYLIGHT
BEGIN:STANDARD
TZOFFSETFROM:-0700
TZOFFSETTO:-0800
TZNAME:PST
DTSTART:20251102T090000
END:STANDARD
BEGIN:DAYLIGHT
TZOFFSETFROM:-0800
TZOFFSETTO:-0700
TZNAME:PDT
DTSTART:20260308T100000
END:DAYLIGHT
BEGIN:STANDARD
TZOFFSETFROM:-0700
TZOFFSETTO:-0800
TZNAME:PST
DTSTART:20261101T090000
END:STANDARD
BEGIN:DAYLIGHT
TZOFFSETFROM:-0800
TZOFFSETTO:-0700
TZNAME:PDT
DTSTART:20270314T100000
END:DAYLIGHT
BEGIN:STANDARD
TZOFFSETFROM:-0700
TZOFFSETTO:-0800
TZNAME:PST
DTSTART:20271107T090000
END:STANDARD
END:VTIMEZONE
BEGIN:VEVENT
DTSTART;TZID=America/Los_Angeles:20260127T180000
DTEND;TZID=America/Los_Angeles:20260127T200000
DTSTAMP:20260422T153140
CREATED:20260109T214118Z
LAST-MODIFIED:20260109T214118Z
UID:10004719-1769536800-1769544000@envirocenter.org
SUMMARY:When the Impossible Become Possible: A first hand account of what it takes to complete the World’s Toughest Row
DESCRIPTION:Please join AdventurUs\, SheJumps\, and Between Evergreens\, for the fourth annual Bend Women’s Speaker Series – “Empowering Women Through Adventure” at Embark Coworking Community. \nWe are so excited to kick off our speaker series with local Kristen Hofer\, one of the 4 women on the Hericane Rowing team. Her sister Jen joined our speaker series in March 2024\, before the trip happened\, and now we get to hear how this adventure went! Get ready to be inspired by a tale of teamwork\, inner strength\, and what it means to achieve something beyond your wildest dreams. \nFrom Kristen: In the Summer of 2024 I was a part of a 4-women team that raced in the World’s Toughest Row\, a 2\,800 mile unsupported row from California to Hawaii. Our team spent 2 years training physically and mentally\, learning new skills\, building a campaign\, and pushing ourselves beyond what we ever thought was possible; all before even making it to the starting line. I want to share my story of deciding to take on this challenge with no previous rowing experience\, overcoming my own fear and self doubt\, and how I found sources of strength in myself\, my community\, and the strong women who inspire me. \n \nOur team set out on June 8\, 2024 and together we faced extreme weather\, sleep deprivation\, equipment failure\, and so much more. On July 19th 2024\, we finished our mid-pacific crossing in 40 days\, 22 hours\, and 14 minutes\, all while raising $35\,000 for Planned Parenthood.  \nEVENT Overview\nWhen: 🗓️  Tuesday\, January 27th\, 6:30-7:30pm (Doors open @ 6pm) \nWhere: 📍Embark Coworking Community – 2843 NW Lolo Drive\, Bend \nBeverages provided by our friends at Crux
URL:https://envirocenter.org/event/when-the-impossible-become-possible-a-first-hand-account-of-what-it-takes-to-complete-the-worlds-toughest-row/
LOCATION:Embark\, 2843 NW Lolo Dr.\, Bend\, OR\, 97703\, United States
ATTACH;FMTTYPE=image/jpeg:https://envirocenter.org/wp-content/uploads/2026/01/Screenshot-2026-01-09-at-1.40.23-PM.jpg
GEO:44.0531904;-121.3629071
X-APPLE-STRUCTURED-LOCATION;VALUE=URI;X-ADDRESS=Embark 2843 NW Lolo Dr. Bend OR 97703 United States;X-APPLE-RADIUS=500;X-TITLE=2843 NW Lolo Dr.:geo:-121.3629071,44.0531904
END:VEVENT
BEGIN:VEVENT
DTSTART;TZID=America/Los_Angeles:20260127T190000
DTEND;TZID=America/Los_Angeles:20260127T200000
DTSTAMP:20260422T153140
CREATED:20260123T181036Z
LAST-MODIFIED:20260123T181036Z
UID:10004722-1769540400-1769544000@envirocenter.org
SUMMARY:Brilliant Beavers: Cultivating Climate Resilience
DESCRIPTION:Join us at Oregon Natural Desert Association’s first online event of the 2026 High Desert Speaker Series with an evening all about beavers. Come learn about the important role of beavers in helping wildlife adapt and ecosystems thrive in a changing climate with Dr. Emily Fairfax\, Assistant Professor of Geography at the University of Minnesota and beaver researcher. \nDr. Fairfax will elaborate on how beavers support a healthy environment\, particularly their ability to retain precious desert water and combat drought. She will also outline a natural history of beavers and why we should care about helping them recover their populations in Oregon’s high desert. Jefferson Jacobs\, ONDA’s riparian restoration manager\, will join to share how our stream restoration work is grounded in creating beaver habitat to support the health of the entire ecosystem.
URL:https://envirocenter.org/event/brilliant-beavers-cultivating-climate-resilience/
ATTACH;FMTTYPE=image/jpeg:https://envirocenter.org/wp-content/uploads/2026/01/Screenshot-2026-01-23-at-10.10.18-AM.jpg
END:VEVENT
BEGIN:VEVENT
DTSTART;TZID=America/Los_Angeles:20260128T190000
DTEND;TZID=America/Los_Angeles:20260128T203000
DTSTAMP:20260422T153140
CREATED:20260105T234446Z
LAST-MODIFIED:20260105T234501Z
UID:10004711-1769626800-1769632200@envirocenter.org
SUMMARY:Nature Nights: Central Oregon’s Stealthy Sierra Nevada Red Fox
DESCRIPTION:The Sierra Nevada red fox may be one of the rarest mammals in North America—but don’t tell it that. This elusive\, mountain-loving carnivore has a knack for showing up only when it feels like it…which is not often. Join Deschutes Land Trust and Jamie Bowles\, Regional Habitat Biologist with the Oregon Department of Fish and Wildlife and unofficial “fox whisperer\,” for a lively dive into what we’re learning about these high-elevation Houdinis. Jamie will share new findings on where the foxes roam\, what habitats they actually prefer (versus the ones they let us find)\, and why studying them often involves snow\, patience\, and the occasional sense of humor. Attendees will leave with a clearer picture of the fox’s status in the Central Cascades\, a few behind-the-scenes field stories\, and a renewed appreciation for one of Oregon’s most charming and frustratingly stealthy animals. This presentation is free\, but you must get your ticket online.
URL:https://envirocenter.org/event/nature-nights-central-oregons-stealthy-sierra-nevada-red-fox/
LOCATION:Tower Theatre\, 835 NW Wall St.\, Bend\, OR\, 97701\, United States
ATTACH;FMTTYPE=image/jpeg:https://envirocenter.org/wp-content/uploads/2026/01/Screenshot-2026-01-05-at-3.43.20-PM.jpg
GEO:44.058743;-121.314914
X-APPLE-STRUCTURED-LOCATION;VALUE=URI;X-ADDRESS=Tower Theatre 835 NW Wall St. Bend OR 97701 United States;X-APPLE-RADIUS=500;X-TITLE=835 NW Wall St.:geo:-121.314914,44.058743
END:VEVENT
END:VCALENDAR