BEGIN:VCALENDAR
VERSION:2.0
PRODID:-//The Environmental Center - ECPv6.15.20//NONSGML v1.0//EN
CALSCALE:GREGORIAN
METHOD:PUBLISH
X-WR-CALNAME:The Environmental Center
X-ORIGINAL-URL:https://envirocenter.org
X-WR-CALDESC:Events for The Environmental Center
REFRESH-INTERVAL;VALUE=DURATION:PT1H
X-Robots-Tag:noindex
X-PUBLISHED-TTL:PT1H
BEGIN:VTIMEZONE
TZID:America/Los_Angeles
BEGIN:DAYLIGHT
TZOFFSETFROM:-0800
TZOFFSETTO:-0700
TZNAME:PDT
DTSTART:20210314T100000
END:DAYLIGHT
BEGIN:STANDARD
TZOFFSETFROM:-0700
TZOFFSETTO:-0800
TZNAME:PST
DTSTART:20211107T090000
END:STANDARD
BEGIN:DAYLIGHT
TZOFFSETFROM:-0800
TZOFFSETTO:-0700
TZNAME:PDT
DTSTART:20220313T100000
END:DAYLIGHT
BEGIN:STANDARD
TZOFFSETFROM:-0700
TZOFFSETTO:-0800
TZNAME:PST
DTSTART:20221106T090000
END:STANDARD
BEGIN:DAYLIGHT
TZOFFSETFROM:-0800
TZOFFSETTO:-0700
TZNAME:PDT
DTSTART:20230312T100000
END:DAYLIGHT
BEGIN:STANDARD
TZOFFSETFROM:-0700
TZOFFSETTO:-0800
TZNAME:PST
DTSTART:20231105T090000
END:STANDARD
END:VTIMEZONE
BEGIN:VEVENT
DTSTART;VALUE=DATE:20220710
DTEND;VALUE=DATE:20220711
DTSTAMP:20260420T014632
CREATED:20220624T045739Z
LAST-MODIFIED:20230503T210451Z
UID:10001969-1657443600-1657449000@envirocenter.org
SUMMARY:Vermicomposting with Worthy Garden Club
DESCRIPTION:Learn how to harness the power of worms to turn your food waste into compost for your garden! \n\n\nAbout this event\n\n\n\nVermicomposting is the method of using worms to convert food and other organic waste into fertilizer. It is a great way to reduce household food waste\, produce inexpensive fertilizer\, and requires less maintenance than traditional composting methods. In this workshop participants will learn about \n\nBenefits of composting with worms\nTools\, materials\, and steps to start a vermicompost bin\nHow to feed your worms\nTroubleshooting and maintaining your worm bin\nHarvesting and using finished castings\n\nRegister here!
URL:https://envirocenter.org/event/vermicomposting-with-worthy-garden-club-2022-07-10/
LOCATION:Deschutes Brewery Public House\, 1044 NW Bond St\, Bend\, OR\, 97701\, United States
GEO:44.0593984;-121.3113079
X-APPLE-STRUCTURED-LOCATION;VALUE=URI;X-ADDRESS=Deschutes Brewery Public House 1044 NW Bond St Bend OR 97701 United States;X-APPLE-RADIUS=500;X-TITLE=1044 NW Bond St:geo:-121.3113079,44.0593984
END:VEVENT
BEGIN:VEVENT
DTSTART;VALUE=DATE:20220711
DTEND;VALUE=DATE:20220712
DTSTAMP:20260420T014632
CREATED:20220624T045739Z
LAST-MODIFIED:20230503T210451Z
UID:10001970-1657530000-1657535400@envirocenter.org
SUMMARY:Vermicomposting with Worthy Garden Club
DESCRIPTION:Learn how to harness the power of worms to turn your food waste into compost for your garden! \n\n\nAbout this event\n\n\n\nVermicomposting is the method of using worms to convert food and other organic waste into fertilizer. It is a great way to reduce household food waste\, produce inexpensive fertilizer\, and requires less maintenance than traditional composting methods. In this workshop participants will learn about \n\nBenefits of composting with worms\nTools\, materials\, and steps to start a vermicompost bin\nHow to feed your worms\nTroubleshooting and maintaining your worm bin\nHarvesting and using finished castings\n\nRegister here!
URL:https://envirocenter.org/event/vermicomposting-with-worthy-garden-club-2022-07-10/
LOCATION:Deschutes Brewery Public House\, 1044 NW Bond St\, Bend\, OR\, 97701\, United States
GEO:44.0593984;-121.3113079
X-APPLE-STRUCTURED-LOCATION;VALUE=URI;X-ADDRESS=Deschutes Brewery Public House 1044 NW Bond St Bend OR 97701 United States;X-APPLE-RADIUS=500;X-TITLE=1044 NW Bond St:geo:-121.3113079,44.0593984
END:VEVENT
BEGIN:VEVENT
DTSTART;VALUE=DATE:20220711
DTEND;VALUE=DATE:20220712
DTSTAMP:20260420T014632
CREATED:20220702T004650Z
LAST-MODIFIED:20230503T210456Z
UID:10003859-1657557000-1657560600@envirocenter.org
SUMMARY:Food Waste and Composting Workshop - Sisters
DESCRIPTION:Learn how to reduce food waste and why it matters\, and explore pros and cons of various composting systems. Located in the Sisters High School Lecture-Drama Room & Greenhouse \n\n\n\n\nDid you know that wasted food makes up over 25% of waste at Knott Landfill by tonnage – making it the largest category of waste in the landfill? Yet\, in Deschutes County\, 1 in 8 people is food insecure\, meaning they don’t always know where their next meal will come from. \nAnd perhaps most astounding of all\, the average family of four tosses $1600 worth of food every year. We’re better than that. It’s time to rethink food waste\, and we want to help you do it. \nThis free interactive workshop will dig into why food waste matters\, how to reduce food waste in the first place\, and strategies for composting at home or in our community. Workshop will cover pros and cons of different styles of compost bins outside in our Learning Garden. Open to adults and youth\, composting beginners and pros! Attendees will be entered into a drawing for an at home composting system. \nPlus\, attendees will be entered to win a raffle prize for a home compost system! \nPresented by our Rethink Waste and Garden Education Programs\, in partnership with Seed to Table \n\n\n\n\n\n\n\nRegister Here!
URL:https://envirocenter.org/event/33759/
LOCATION:Deschutes Brewery Public House\, 1044 NW Bond St\, Bend\, OR\, 97701\, United States
CATEGORIES:Food|Garden|Rethink Waste|Sustainability
GEO:44.0593984;-121.3113079
X-APPLE-STRUCTURED-LOCATION;VALUE=URI;X-ADDRESS=Deschutes Brewery Public House 1044 NW Bond St Bend OR 97701 United States;X-APPLE-RADIUS=500;X-TITLE=1044 NW Bond St:geo:-121.3113079,44.0593984
END:VEVENT
BEGIN:VEVENT
DTSTART;VALUE=DATE:20220711
DTEND;VALUE=DATE:20220712
DTSTAMP:20260420T014632
CREATED:20220702T033050Z
LAST-MODIFIED:20230503T210456Z
UID:10003860-1657566000-1657571400@envirocenter.org
SUMMARY:Coastal Oregon Conservation and the Land-Sea Connection
DESCRIPTION:Worthy Garden Club welcomes Paul Engelmeyer from Portland Audubon to talk about Coastal Oregon conservation and the land-sea connection. Drawing upon his years of service for Oregon’s Ocean Policy Advisory Council as well as his experience managing multiple coastal lands\, Paul will cover a range of coastal Oregon conservation issues and strategies as well as updates on Oregon’s five marine reserves\, the Cape Perpetua Marine Reserve and Seabird Protected Area.
URL:https://envirocenter.org/event/coastal-oregon-conservation-and-the-land-sea-connection/
LOCATION:Deschutes Brewery Public House\, 1044 NW Bond St\, Bend\, OR\, 97701\, United States
CATEGORIES:Advocacy
GEO:44.0593984;-121.3113079
X-APPLE-STRUCTURED-LOCATION;VALUE=URI;X-ADDRESS=Deschutes Brewery Public House 1044 NW Bond St Bend OR 97701 United States;X-APPLE-RADIUS=500;X-TITLE=1044 NW Bond St:geo:-121.3113079,44.0593984
END:VEVENT
BEGIN:VEVENT
DTSTART;VALUE=DATE:20220712
DTEND;VALUE=DATE:20220713
DTSTAMP:20260420T014632
CREATED:20220629T004807Z
LAST-MODIFIED:20230503T210452Z
UID:10003851-1657620000-1657627200@envirocenter.org
SUMMARY:Summer on the Farm
DESCRIPTION:Join Seed to Table every Tuesday from June 28-August 16th for Summer on the Farm!\n\nThis is a time for kids and families to hang out at Seed to Table and engage with staff in different gardening and cooking activities.\nFree\, and open to all ages.
URL:https://envirocenter.org/event/summer-on-the-farm-2022-06-28/
LOCATION:Deschutes Brewery Public House\, 1044 NW Bond St\, Bend\, OR\, 97701\, United States
CATEGORIES:Garden|Youth Education
GEO:44.0593984;-121.3113079
X-APPLE-STRUCTURED-LOCATION;VALUE=URI;X-ADDRESS=Deschutes Brewery Public House 1044 NW Bond St Bend OR 97701 United States;X-APPLE-RADIUS=500;X-TITLE=1044 NW Bond St:geo:-121.3113079,44.0593984
END:VEVENT
BEGIN:VEVENT
DTSTART;VALUE=DATE:20220712
DTEND;VALUE=DATE:20220713
DTSTAMP:20260420T014632
CREATED:20220524T010634Z
LAST-MODIFIED:20230503T210439Z
UID:10003824-1657627200-1657632600@envirocenter.org
SUMMARY:Heat Pump Water Heaters- Builders share their experience
DESCRIPTION:Join the Electrify Coalition and hear from 3 home builders about their experience installing heat pump water heaters in new homes.
URL:https://envirocenter.org/event/heat-pump-water-heaters-builders-share-their-experience/
LOCATION:Deschutes Brewery Public House\, 1044 NW Bond St\, Bend\, OR\, 97701\, United States
CATEGORIES:Energy|Online event
GEO:44.0593984;-121.3113079
X-APPLE-STRUCTURED-LOCATION;VALUE=URI;X-ADDRESS=Deschutes Brewery Public House 1044 NW Bond St Bend OR 97701 United States;X-APPLE-RADIUS=500;X-TITLE=1044 NW Bond St:geo:-121.3113079,44.0593984
END:VEVENT
BEGIN:VEVENT
DTSTART;TZID=America/Los_Angeles:20220712T160000
DTEND;TZID=America/Los_Angeles:20220712T180000
DTSTAMP:20260420T014632
CREATED:20220502T230232Z
LAST-MODIFIED:20220613T221131Z
UID:10003814-1657641600-1657648800@envirocenter.org
SUMMARY:Happy Hour in the Garden
DESCRIPTION:This year\, Happy Hour in the Garden will run from March through October. Instead of weekly\, this volunteer event will be on the *1st & 3rd Tuesdays*\, kicking off Tuesday\, March 1st. Stop by anytime between 4-6 on the following dates to help out in the garden and enjoy a bubbly beverage. Family friendly\, no experience or tools necessary. \nContact Denise Rowcroft\, Garden Program Manager\, if you have any questions about getting involved. \n\nMarch 1 & 15 (March & April beer sponsored by Worthy Garden Club)\nApril 5 & 19\nMay 3 & 17 (May & June beer sponsored by Boneyard Beer)\nJune 7 & 21\n\nDue to summer trips\, please note that summer dates (July & August) are the 2nd & 4th Tuesdays of the month! \n\nJuly 12 & 26 (July & August beer sponsored by Deschutes Brewery)\n*August 9 & 23* (Note\, this is the 2nd & 4th Tuesday\, rescheduled due to planned time off)\nSeptember 6 & 20 (Sept & Oct beer sponsored by 10 Barrel Brewing Co)\nOctober 4 & 18
URL:https://envirocenter.org/event/happy-hour-in-the-garden-10-2022-07-05/
LOCATION:The Environmental Center\, 16 NW Kansas Avenue\, Bend\, OR\, 97703
CATEGORIES:Garden
ATTACH;FMTTYPE=image/jpeg:https://envirocenter.org/wp-content/uploads/2022/03/HH-in-the-Garden.jpg
ORGANIZER;CN="Denise Rowcroft%2C The Environmental Center":MAILTO:denise@envirocenter.org
GEO:44.055562;-121.3143083
X-APPLE-STRUCTURED-LOCATION;VALUE=URI;X-ADDRESS=The Environmental Center 16 NW Kansas Avenue Bend OR 97703;X-APPLE-RADIUS=500;X-TITLE=16 NW Kansas Avenue:geo:-121.3143083,44.055562
END:VEVENT
BEGIN:VEVENT
DTSTART;VALUE=DATE:20220714
DTEND;VALUE=DATE:20220715
DTSTAMP:20260420T014632
CREATED:20220712T005620Z
LAST-MODIFIED:20230503T210457Z
UID:10003862-1657796400-1657803600@envirocenter.org
SUMMARY:City of Bend Environment and Climate Committee Meeting: Home Energy Score
DESCRIPTION:Thursday\, July 14\, 2022 Meeting Information\nHYBRID MEETING NOTICE\nThe Environment and Climate Committee will conduct a meeting virtually through Zoom and in person at the City Council Chambers\, 710 NW Wall Street\, Thursday\, July 14\, 2022 from 11:00 a.m. to 1:00 p.m.\nTo Attend by Computer; Pre-register here: https://bendoregon-gov.zoom.us/j/85493552948?pwd=roU3yjyzmVhsmmNTsaceNMFY55vRvc.1#success\nYou will receive an email confirmation with a personal link/information to connect via computer or phone \nTo Attend by Phone (No Pre-registering Required): \nCall-in Phone Number: 1-888-788-0099\nWebinar ID: 854 9355 2948\nPasscode: 062878\nYouTube Link: https://youtu.be/3NL1julxsu8\nTechnical Difficulties Connecting to this Meeting: Call 541-410-9341 \nFor additional information\, please contact: Cassie Lacy\, Senior Management Analyst\, at (541) 323-8587 or by email at clacy@bendoregon.gov.
URL:https://envirocenter.org/event/city-of-bend-environment-and-climate-committee-meeting-home-energy-score/
LOCATION:Deschutes Brewery Public House\, 1044 NW Bond St\, Bend\, OR\, 97701\, United States
CATEGORIES:Advocacy|Climate|Energy|Online event|Sustainability
GEO:44.0593984;-121.3113079
X-APPLE-STRUCTURED-LOCATION;VALUE=URI;X-ADDRESS=Deschutes Brewery Public House 1044 NW Bond St Bend OR 97701 United States;X-APPLE-RADIUS=500;X-TITLE=1044 NW Bond St:geo:-121.3113079,44.0593984
END:VEVENT
BEGIN:VEVENT
DTSTART;VALUE=DATE:20220714
DTEND;VALUE=DATE:20220715
DTSTAMP:20260420T014632
CREATED:20220618T050415Z
LAST-MODIFIED:20230503T210450Z
UID:10001976-1657798200-1657803600@envirocenter.org
SUMMARY:Getting from Here to There: Transportation Visions and Realities for Central Oregon
DESCRIPTION:The July Transportation Forum will provide insights on current transportation and transit projects in Central Oregon\, including an update on the status of Bend’s Transportation System Plan (TSP—20-year assessment and plan for transportation needs) as well as a review of available Federal and State funding for transportation and transit improvements. Innovative regional priority changes incorporate responses to climate change\, accommodating more electric vehicles\, and increasing transit and bike/pedestrian mobility. Yet a significant question remains: Without dedicated funding streams for transportation\, can Central Oregon fulfill these priorities and optimize transit for all\, particularly in the face of our relentless growth?
URL:https://envirocenter.org/event/getting-from-here-to-there-transportation-visions-and-realities-for-central-oregon/
LOCATION:Deschutes Brewery Public House\, 1044 NW Bond St\, Bend\, OR\, 97701\, United States
CATEGORIES:Advocacy|Transportation
GEO:44.0593984;-121.3113079
X-APPLE-STRUCTURED-LOCATION;VALUE=URI;X-ADDRESS=Deschutes Brewery Public House 1044 NW Bond St Bend OR 97701 United States;X-APPLE-RADIUS=500;X-TITLE=1044 NW Bond St:geo:-121.3113079,44.0593984
END:VEVENT
BEGIN:VEVENT
DTSTART;VALUE=DATE:20220714
DTEND;VALUE=DATE:20220715
DTSTAMP:20260420T014632
CREATED:20220712T034418Z
LAST-MODIFIED:20230503T210457Z
UID:10003863-1657798200-1657803600@envirocenter.org
SUMMARY:Listen & Envision: Bend Vision Project Community Workshop
DESCRIPTION:At the virtual ‘Listen & Envision’ workshop\, Bend residents will discuss community values\, challenges\, and ways to make Bend a better place. \n\n\nAbout this event\n\n\n\nWe have a once-in-a-generation opportunity to stand up for the greater Bend area. With input and support from community members and partners\, the Envision Bend nonprofit organization is overseeing an inclusive process to craft an Action Plan to make Bend a great place for all. \nWe want to make sure the Action Plan is bold and visionary — and that it represents the priorities of people in the community. This five-year Action Plan will include a vision statement\, strategies\, projects\, and programs\, as well as lead partnering organizations to see the work to fruition. The Action Plan is scheduled to be completed and released to the community in 2023. \nCommunity input is vital to the Action Plan. As part of what is known as the Bend Vision Project\, the Envision Bend organization is hosting a series of virtual “Listen & Envision” workshops to gather input on community challenges and solutions from residents\, so that local priorities can be reflected in the plan. We want to make sure that the plan tackles the most pressing challenges and delivers for all of those who call the greater Bend area home. \nJoin a virtual event and have your voice heard. During the 1.5-hour virtual workshop\, you will hear about the Bend Vision Project’s planning process and you will have the opportunity to provide input about the future of the community. The event will be led by a moderator who will help guide the conversation around a series of questions \nIf you cannot attend this workshop but would like to get involved in the Bend Vision Project\, please visit envisionbend.org. \nIf you have questions\, please reach out to steve@envisionbend.org.
URL:https://envirocenter.org/event/listen-envision-bend-vision-project-community-workshop-2022-07-14/
LOCATION:Deschutes Brewery Public House\, 1044 NW Bond St\, Bend\, OR\, 97701\, United States
CATEGORIES:Advocacy|Climate|Diversity|Energy|Inclusion|Online event|Social Justice|Sustainability|Transportation
GEO:44.0593984;-121.3113079
X-APPLE-STRUCTURED-LOCATION;VALUE=URI;X-ADDRESS=Deschutes Brewery Public House 1044 NW Bond St Bend OR 97701 United States;X-APPLE-RADIUS=500;X-TITLE=1044 NW Bond St:geo:-121.3113079,44.0593984
END:VEVENT
BEGIN:VEVENT
DTSTART;VALUE=DATE:20220714
DTEND;VALUE=DATE:20220715
DTSTAMP:20260420T014632
CREATED:20220624T023552Z
LAST-MODIFIED:20230503T210451Z
UID:10001971-1657800000-1657805400@envirocenter.org
SUMMARY:Indigenous Perspectives on Earth\, Water and Sky featuring Rena Priest
DESCRIPTION:Register now for the webinar “A Sense of Place: Indigenous Perspectives of Earth\, Water and Sky\,” featuring Rena Priest\, enrolled member of the Lummi Nation and Washington State Poet Laureate -Space is limited so please register now.
URL:https://envirocenter.org/event/indigenous-perspectives-on-earth-water-and-sky-featuring-rena-priest/
LOCATION:Deschutes Brewery Public House\, 1044 NW Bond St\, Bend\, OR\, 97701\, United States
CATEGORIES:Online event
GEO:44.0593984;-121.3113079
X-APPLE-STRUCTURED-LOCATION;VALUE=URI;X-ADDRESS=Deschutes Brewery Public House 1044 NW Bond St Bend OR 97701 United States;X-APPLE-RADIUS=500;X-TITLE=1044 NW Bond St:geo:-121.3113079,44.0593984
END:VEVENT
BEGIN:VEVENT
DTSTART;VALUE=DATE:20220714
DTEND;VALUE=DATE:20220715
DTSTAMP:20260420T014632
CREATED:20160803T235848Z
LAST-MODIFIED:20230503T200442Z
UID:10000886-1657818900-1657828800@envirocenter.org
SUMMARY:Bend COTA Work Events
DESCRIPTION:When:  Thursday Aug 11\, Tuesday Aug 16\, Tuesday Aug 23 and Tuesday Aug 30\, 5:15 to Dusk \nWhere:  Meet at the old Ray’s parking lot\, NE corner of Simpson Ave and Century Drive in Bend \nWorksite:  Varies \nThere’s only one thing better than mountain biking in Bend\, OR and that’s riding in Bend\, knowing that you helped build and maintain the trails you love. \nPlease bring a hydration pack with water and a snack. \nBe sure to bring appropriate layers to accommodate whatever the weather may be. \nQuestions?  contact@cotamtb.com \nAll COTA trail work events require the following safety measures: \nAll participants are required to have the following protective clothing and equipment: \n\nSturdy shoes or boots\nGloves\nEye protection with clear or light colored lens\nLong pants\n\nDue to COTA’s insurance requirements and the inherent dangers of trail work\, we must implement the following policy regarding children at work events: \n\nFor anyone 14 years of age or younger\, we require one parent\, guardian\, or responsible adult for supervision of every four kids attending any COTA trail work events.\nAll minors under the age of 18 must have a parent or guardian available to sign our waiver.\n\nAnyone who arrives for a work event may be turned away if he/she cannot meet the above requirements.
URL:https://envirocenter.org/event/bend-cota-work-events-2016-08-11/
LOCATION:Deschutes Brewery Public House\, 1044 NW Bond St\, Bend\, OR\, 97701\, United States
GEO:44.0593984;-121.3113079
X-APPLE-STRUCTURED-LOCATION;VALUE=URI;X-ADDRESS=Deschutes Brewery Public House 1044 NW Bond St Bend OR 97701 United States;X-APPLE-RADIUS=500;X-TITLE=1044 NW Bond St:geo:-121.3113079,44.0593984
END:VEVENT
BEGIN:VEVENT
DTSTART;VALUE=DATE:20220714
DTEND;VALUE=DATE:20220715
DTSTAMP:20260420T014632
CREATED:20220615T055103Z
LAST-MODIFIED:20230503T210446Z
UID:10003838-1657821600-1657828800@envirocenter.org
SUMMARY:Raise the Deschutes Seminar Series
DESCRIPTION:What’s Wrong with Our Rivers?\nHydrology and Water Management in the Upper Deschutes Basin\n​Presenters: DRC and Oregon Water Resources Department ​(Jonathan LaMarche) \nDeschutes River Conservancy’s Raise the Deschutes Seminar Series was created to increase regional water knowledge\, understanding of local issues\, and awareness of available solutions.
URL:https://envirocenter.org/event/raise-the-deschutes-seminar-series/
LOCATION:Deschutes Brewery Public House\, 1044 NW Bond St\, Bend\, OR\, 97701\, United States
CATEGORIES:Water
GEO:44.0593984;-121.3113079
X-APPLE-STRUCTURED-LOCATION;VALUE=URI;X-ADDRESS=Deschutes Brewery Public House 1044 NW Bond St Bend OR 97701 United States;X-APPLE-RADIUS=500;X-TITLE=1044 NW Bond St:geo:-121.3113079,44.0593984
END:VEVENT
BEGIN:VEVENT
DTSTART;TZID=America/Los_Angeles:20220716T090000
DTEND;TZID=America/Los_Angeles:20220716T153000
DTSTAMP:20260420T014632
CREATED:20220706T225940Z
LAST-MODIFIED:20220706T231722Z
UID:10003861-1657962000-1657985400@envirocenter.org
SUMMARY:High Desert Garden Tour
DESCRIPTION:Join us for the 27th annual High Desert Garden Tour!\nThis year will feature six gardens in the Bend area. Ticket books are $10.00 per person and include map/driving directions to garden locations. Children 18 and under are free. Ticket books will be available beginning Thursday\, July 7th: In Bend\, Moonfire and Sun Nursery\, Strictly Organic Coffee and Whistle Stop Farm and Flowers. In Redmond:OSU Extension Service. In Prineville: OSU Extension Service. In Madras: OSU Extension Service. Thank you to our sponsors Moofire and Sun Garden Center\, Strictly Organic Coffee Company\, Whistle Stop Farm and Flowers\, High Desert Farms\, Madras Garden Depot\, McPheeters Turf\, Mike’s Tree Farm & Nursery\, Landsystems Nursery. \n\nLocation details will be provided to attendees.\n\n\n\nJul 16\, 2022 9:00 am – 3:30 pm \n$10.00 \n\n\nContact for questions and requests for accessibility-related accommodations \nLisa Cowan\nlisa.cowan@oregonstate.edu\n\n541-548-6088
URL:https://envirocenter.org/event/high-desert-garden-tour-4/
CATEGORIES:Food,Garden
ATTACH;FMTTYPE=image/jpeg:https://envirocenter.org/wp-content/uploads/2022/07/OSU20Extension20Service20logo_1516229154260.jpg_10030954_ver1.0.jpg
END:VEVENT
END:VCALENDAR