BEGIN:VCALENDAR
VERSION:2.0
PRODID:-//The Environmental Center - ECPv6.15.20//NONSGML v1.0//EN
CALSCALE:GREGORIAN
METHOD:PUBLISH
X-WR-CALNAME:The Environmental Center
X-ORIGINAL-URL:https://envirocenter.org
X-WR-CALDESC:Events for The Environmental Center
REFRESH-INTERVAL;VALUE=DURATION:PT1H
X-Robots-Tag:noindex
X-PUBLISHED-TTL:PT1H
BEGIN:VTIMEZONE
TZID:America/Los_Angeles
BEGIN:DAYLIGHT
TZOFFSETFROM:-0800
TZOFFSETTO:-0700
TZNAME:PDT
DTSTART:20200308T100000
END:DAYLIGHT
BEGIN:STANDARD
TZOFFSETFROM:-0700
TZOFFSETTO:-0800
TZNAME:PST
DTSTART:20201101T090000
END:STANDARD
BEGIN:DAYLIGHT
TZOFFSETFROM:-0800
TZOFFSETTO:-0700
TZNAME:PDT
DTSTART:20210314T100000
END:DAYLIGHT
BEGIN:STANDARD
TZOFFSETFROM:-0700
TZOFFSETTO:-0800
TZNAME:PST
DTSTART:20211107T090000
END:STANDARD
BEGIN:DAYLIGHT
TZOFFSETFROM:-0800
TZOFFSETTO:-0700
TZNAME:PDT
DTSTART:20220313T100000
END:DAYLIGHT
BEGIN:STANDARD
TZOFFSETFROM:-0700
TZOFFSETTO:-0800
TZNAME:PST
DTSTART:20221106T090000
END:STANDARD
END:VTIMEZONE
BEGIN:VEVENT
DTSTART;VALUE=DATE:20210605
DTEND;VALUE=DATE:20210608
DTSTAMP:20260419T232044
CREATED:20210604T210625Z
LAST-MODIFIED:20230503T201259Z
UID:10001779-1622851200-1623110399@envirocenter.org
SUMMARY:Screening & Discussion of “Kiss the Ground”
DESCRIPTION:With less than 10 years left to shift the path of our planet and combat climate change\, the UN Decade on Ecosystem Restoration calls to prevent\, halt\, and reverse the degradation of ecosystems on every continent and in every ocean. \nOn World Environment Day\, join the Food and Agriculture Organization of the United Nations (FAO) and the United Nations Environment Programme (UNEP) to mark the launch of the UN Decade by viewing an exclusive screening of the critically-acclaimed environmental feature documentary\, “Kiss the Ground\,” and joining a virtual discussion about the film. \nYou are invited to watch the documentary between June 5-7 and tune into the interactive panel discussion with experts and featured guests from the film on Monday\, June 7 from 11 am – 12 PM EST. This session will highlight innovative ways regenerative agriculture is reviving ecosystems around the world and how you can be part of the movement. \n\n\n\n\n\n\n\nJoin the discussion
URL:https://envirocenter.org/event/screening-discussion-of-kiss-the-ground/
LOCATION:Deschutes Brewery Public House\, 1044 NW Bond St\, Bend\, OR\, 97701\, United States
CATEGORIES:Film|Food
GEO:44.0593984;-121.3113079
X-APPLE-STRUCTURED-LOCATION;VALUE=URI;X-ADDRESS=Deschutes Brewery Public House 1044 NW Bond St Bend OR 97701 United States;X-APPLE-RADIUS=500;X-TITLE=1044 NW Bond St:geo:-121.3113079,44.0593984
END:VEVENT
BEGIN:VEVENT
DTSTART;VALUE=DATE:20210605
DTEND;VALUE=DATE:20210620
DTSTAMP:20260419T232044
CREATED:20210603T023936Z
LAST-MODIFIED:20230503T201254Z
UID:10003609-1622851200-1624147199@envirocenter.org
SUMMARY:Central Oregon Pride Month! June 2021
DESCRIPTION:Pride Month is here! Join all month long for events throughout Central Oregon; including:\n\n– City of Bend Pride Proclamation\n– LGBTQ+ Film Screenings with BendFilm\n– Pride edition of ‘Oh Yess’ @Dogwood\n– Cult of Tuck Drag Show returns!\n– LGBTQ+ Rock Climbing\n– Pride Night Fridays @Bos\n– Bend Your Wrist Vogue Dance\n– Drag Brunch!… and many more\n\nDetails\, dates\, and locations to be announced on OUTCentralOregon page.
URL:https://envirocenter.org/event/central-oregon-pride-month-june-2021/
LOCATION:Deschutes Brewery Public House\, 1044 NW Bond St\, Bend\, OR\, 97701\, United States
CATEGORIES:Inclusion
GEO:44.0593984;-121.3113079
X-APPLE-STRUCTURED-LOCATION;VALUE=URI;X-ADDRESS=Deschutes Brewery Public House 1044 NW Bond St Bend OR 97701 United States;X-APPLE-RADIUS=500;X-TITLE=1044 NW Bond St:geo:-121.3113079,44.0593984
END:VEVENT
BEGIN:VEVENT
DTSTART;VALUE=DATE:20210608
DTEND;VALUE=DATE:20210609
DTSTAMP:20260419T232044
CREATED:20210525T130055Z
LAST-MODIFIED:20230503T201252Z
UID:10001765-1623110400-1623196799@envirocenter.org
SUMMARY:CULTIVATING HEALTHY COMMUNITIES (a Virtual Conference): Confronting Health Threats\, Climate Disasters\, and Biodiversity Collapse with a Toxic-Free Future
DESCRIPTION:Virtual Conference—May 25\, June 1\, June 8 and June 15\, 2021\n\nScientific understanding. Collective action. Systemic change. A toxic-free future. Organic transition. The serious and existential environmental and health challenges that we face bring an urgency to the focus of this Forum and the work that is going on in communities around the U.S. and the world. Central to the solution is the elimination of petroleum-based pesticides and fertilizers in exchange for regenerative organic land management and nontoxic materials that stop the harm from toxic chemical production\, use\, and disposal. We recognize that this is the only way to protect our children and families\, those in workplaces\, pets\, pollinators\, and the rich diversity of organisms essential to life.
URL:https://envirocenter.org/event/cultivating-healthy-communities-a-virtual-conference-confronting-health-threats-climate-disasters-and-biodiversity-collapse-with-a-toxic-free-future-2021-05-25/
LOCATION:Deschutes Brewery Public House\, 1044 NW Bond St\, Bend\, OR\, 97701\, United States
CATEGORIES:Advocacy|Environmental Justice|Online event
GEO:44.0593984;-121.3113079
X-APPLE-STRUCTURED-LOCATION;VALUE=URI;X-ADDRESS=Deschutes Brewery Public House 1044 NW Bond St Bend OR 97701 United States;X-APPLE-RADIUS=500;X-TITLE=1044 NW Bond St:geo:-121.3113079,44.0593984
END:VEVENT
BEGIN:VEVENT
DTSTART;VALUE=DATE:20210608
DTEND;VALUE=DATE:20210609
DTSTAMP:20260419T232044
CREATED:20210603T031838Z
LAST-MODIFIED:20230503T201254Z
UID:10003612-1623164400-1623168000@envirocenter.org
SUMMARY:Unique Winter Vegetables to Grow
DESCRIPTION:Take a deep dive into some of the more underappreciated winter vegetables! You’ll cover garlic\, radicchio (a form of leaf chicory) celeriac\, or celery root\, brussel sprouts\, cabbage\, cauliflower\, collards\, winter squash and purple sprouting broccoli\, to name a few. Basic winter gardening techniques to add these delectable veggies to your plates in winter will also be covered.
URL:https://envirocenter.org/event/unique-winter-vegetables-to-grow/
LOCATION:Deschutes Brewery Public House\, 1044 NW Bond St\, Bend\, OR\, 97701\, United States
CATEGORIES:Food|Garden|Online event
GEO:44.0593984;-121.3113079
X-APPLE-STRUCTURED-LOCATION;VALUE=URI;X-ADDRESS=Deschutes Brewery Public House 1044 NW Bond St Bend OR 97701 United States;X-APPLE-RADIUS=500;X-TITLE=1044 NW Bond St:geo:-121.3113079,44.0593984
END:VEVENT
BEGIN:VEVENT
DTSTART;VALUE=DATE:20210608
DTEND;VALUE=DATE:20210609
DTSTAMP:20260419T232044
CREATED:20220503T061517Z
LAST-MODIFIED:20230503T210432Z
UID:10003575-1623168000-1623175200@envirocenter.org
SUMMARY:Happy Hour in the Garden
DESCRIPTION:This year\, Happy Hour in the Garden will run from March through October. Instead of weekly\, this volunteer event will be on the *1st & 3rd Tuesdays*\, kicking off Tuesday\, March 1st. Stop by anytime between 4-6 on the following dates to help out in the garden and enjoy a bubbly beverage. Family friendly\, no experience or tools necessary. \nContact Denise Rowcroft\, Garden Program Manager\, if you have any questions about getting involved. \n\nMarch 1 & 15 (March & April beer sponsored by Worthy Garden Club)\nApril 5 & 19\nMay 3 & 17 (May & June beer sponsored by Boneyard Beer)\nJune 7 & 21\n\nDue to summer trips\, please note that summer dates (July & August) are the 2nd & 4th Tuesdays of the month! \n\n*July 12 & 26* (July & August beer sponsored by Deschutes Brewery)\n*August 9 & 23* (Note\, this is the 2nd & 4th Tuesday\, rescheduled due to planned time off)\nSeptember 6 & 20 (Sept & Oct beer sponsored by 10 Barrel Brewing Co)\nOctober 4 & 18
URL:https://envirocenter.org/event/happy-hour-in-the-garden-11-2022-05-02/
LOCATION:Deschutes Brewery Public House\, 1044 NW Bond St\, Bend\, OR\, 97701\, United States
CATEGORIES:Garden
GEO:44.0593984;-121.3113079
X-APPLE-STRUCTURED-LOCATION;VALUE=URI;X-ADDRESS=Deschutes Brewery Public House 1044 NW Bond St Bend OR 97701 United States;X-APPLE-RADIUS=500;X-TITLE=1044 NW Bond St:geo:-121.3113079,44.0593984
END:VEVENT
BEGIN:VEVENT
DTSTART;VALUE=DATE:20210608
DTEND;VALUE=DATE:20210609
DTSTAMP:20260419T232044
CREATED:20210504T030923Z
LAST-MODIFIED:20230503T201237Z
UID:10003588-1623175200-1623178800@envirocenter.org
SUMMARY:High Desert Wonders
DESCRIPTION:Whether you’re a new member of the desert conservation community\, or want to be introduced to the vast beauty of Central and eastern Oregon\, you’re invited to join Oregon Natural Desert Asssociation to get to know the High Desert Wonders. Their team will share stunning imagery\, tips to plan your next visit\, and provide ways to advocate for this special landscape.
URL:https://envirocenter.org/event/high-desert-wonders/
LOCATION:Deschutes Brewery Public House\, 1044 NW Bond St\, Bend\, OR\, 97701\, United States
CATEGORIES:Online event
GEO:44.0593984;-121.3113079
X-APPLE-STRUCTURED-LOCATION;VALUE=URI;X-ADDRESS=Deschutes Brewery Public House 1044 NW Bond St Bend OR 97701 United States;X-APPLE-RADIUS=500;X-TITLE=1044 NW Bond St:geo:-121.3113079,44.0593984
END:VEVENT
BEGIN:VEVENT
DTSTART;VALUE=DATE:20210609
DTEND;VALUE=DATE:20210610
DTSTAMP:20260419T232044
CREATED:20210603T040403Z
LAST-MODIFIED:20230503T201258Z
UID:10001774-1623232800-1623238200@envirocenter.org
SUMMARY:Pressure Canning Preserve-Along
DESCRIPTION:Practice or review pressure canning steps and tips in this hands-on interactive session. Session guides will be sent by email on Friday\, June 4 prior to this workshop with ingredients\, supplies and steps to take in advance. \nPLEASE NOTE: Payments are non-refundable if you find you cannot attend
URL:https://envirocenter.org/event/pressure-canning-preserve-along/
LOCATION:Deschutes Brewery Public House\, 1044 NW Bond St\, Bend\, OR\, 97701\, United States
CATEGORIES:Food|Online event
GEO:44.0593984;-121.3113079
X-APPLE-STRUCTURED-LOCATION;VALUE=URI;X-ADDRESS=Deschutes Brewery Public House 1044 NW Bond St Bend OR 97701 United States;X-APPLE-RADIUS=500;X-TITLE=1044 NW Bond St:geo:-121.3113079,44.0593984
END:VEVENT
BEGIN:VEVENT
DTSTART;VALUE=DATE:20210609
DTEND;VALUE=DATE:20210610
DTSTAMP:20260419T232044
CREATED:20210603T035625Z
LAST-MODIFIED:20230503T201255Z
UID:10003618-1623240000-1623245400@envirocenter.org
SUMMARY:Virtual Event: A Guide to Restoring the Little Things That Run the World
DESCRIPTION:Join Dr. Doug Tallamy\, entomologist and author of Nature’s Best Hope\, for this lively discussion. A recent UN report predicts that as many as 1 million species will disappear from planet earth because of human activities. Many of these are insects and nearly all species at risk rely on insects. Insects have already declined 45% since 1974. How do we create beautiful landscapes brimming with life; landscapes that support the pollinators\, herbivores\, detritivores\, predators and parasitoids that run the ecosystems on which we depend? Tallamy will remind us of the many essential roles insects play\, and describe the simple changes we must make to keep insects on the ground\, in the air and yes\, on our plants. Also learn about the Native Plant Society of Oregon: High Desert Chapter\, the Bend Pollinator Pathway\, and how you can get involved. What can we plant and what actions can we take to support native pollinators in Central Oregon? \nThis virtual event is FREE but registration is required. 
URL:https://envirocenter.org/event/virtual-event-a-guide-to-restoring-the-little-things-that-run-the-world/
LOCATION:Deschutes Brewery Public House\, 1044 NW Bond St\, Bend\, OR\, 97701\, United States
CATEGORIES:Garden|Online event
GEO:44.0593984;-121.3113079
X-APPLE-STRUCTURED-LOCATION;VALUE=URI;X-ADDRESS=Deschutes Brewery Public House 1044 NW Bond St Bend OR 97701 United States;X-APPLE-RADIUS=500;X-TITLE=1044 NW Bond St:geo:-121.3113079,44.0593984
END:VEVENT
BEGIN:VEVENT
DTSTART;VALUE=DATE:20210609
DTEND;VALUE=DATE:20210610
DTSTAMP:20260419T232044
CREATED:20210604T071447Z
LAST-MODIFIED:20230503T201259Z
UID:10001778-1623254400-1623258000@envirocenter.org
SUMMARY:Summer Bees & Plants
DESCRIPTION:Join Beyond Toxics for a webinar to learn about native bees and attend a virtual native plant tour! August Jackson (Mount Pisgah Arboretum) will give a brief look at some of Oregon’s bee species that thrive in the heat of summer\, and discuss what you can do to support them in your area. Then Kelsey Irvine (City of Eugene) will take you on a virtual tour of the Native Plant Nursery in Alton Baker Park and show you some blooming native pollinator plants to support these heat-loving summer bees! There will be time for q&a at the end. All are welcome!
URL:https://envirocenter.org/event/summer-bees-plants/
LOCATION:Deschutes Brewery Public House\, 1044 NW Bond St\, Bend\, OR\, 97701\, United States
GEO:44.0593984;-121.3113079
X-APPLE-STRUCTURED-LOCATION;VALUE=URI;X-ADDRESS=Deschutes Brewery Public House 1044 NW Bond St Bend OR 97701 United States;X-APPLE-RADIUS=500;X-TITLE=1044 NW Bond St:geo:-121.3113079,44.0593984
END:VEVENT
BEGIN:VEVENT
DTSTART;VALUE=DATE:20210610
DTEND;VALUE=DATE:20210611
DTSTAMP:20260419T232044
CREATED:20210520T121133Z
LAST-MODIFIED:20230503T201247Z
UID:10001760-1623344400-1623349800@envirocenter.org
SUMMARY:Bend YP DevLabs: Persuasive Communication – Accomplish Your Goals
DESCRIPTION:We all have to give a persuasive speech sometime. Whether that be in asking for a raise or a promotion\, in a job interview\, giving a presentation to your team\, or selling someone on your product or service. In this development lab\, you will learn from public speaking coach Joanne Matthews how to understand your audience and custom tailor a persuasive message to them that will meet your goals.
URL:https://envirocenter.org/event/bend-yp-devlabs-persuasive-communication-accomplish-your-goals/
LOCATION:Deschutes Brewery Public House\, 1044 NW Bond St\, Bend\, OR\, 97701\, United States
GEO:44.0593984;-121.3113079
X-APPLE-STRUCTURED-LOCATION;VALUE=URI;X-ADDRESS=Deschutes Brewery Public House 1044 NW Bond St Bend OR 97701 United States;X-APPLE-RADIUS=500;X-TITLE=1044 NW Bond St:geo:-121.3113079,44.0593984
END:VEVENT
BEGIN:VEVENT
DTSTART;VALUE=DATE:20210610
DTEND;VALUE=DATE:20210611
DTSTAMP:20260419T232044
CREATED:20160803T235848Z
LAST-MODIFIED:20230503T200442Z
UID:10000829-1623345300-1623355200@envirocenter.org
SUMMARY:Bend COTA Work Events
DESCRIPTION:When:  Thursday Aug 11\, Tuesday Aug 16\, Tuesday Aug 23 and Tuesday Aug 30\, 5:15 to Dusk \nWhere:  Meet at the old Ray’s parking lot\, NE corner of Simpson Ave and Century Drive in Bend \nWorksite:  Varies \nThere’s only one thing better than mountain biking in Bend\, OR and that’s riding in Bend\, knowing that you helped build and maintain the trails you love. \nPlease bring a hydration pack with water and a snack. \nBe sure to bring appropriate layers to accommodate whatever the weather may be. \nQuestions?  contact@cotamtb.com \nAll COTA trail work events require the following safety measures: \nAll participants are required to have the following protective clothing and equipment: \n\nSturdy shoes or boots\nGloves\nEye protection with clear or light colored lens\nLong pants\n\nDue to COTA’s insurance requirements and the inherent dangers of trail work\, we must implement the following policy regarding children at work events: \n\nFor anyone 14 years of age or younger\, we require one parent\, guardian\, or responsible adult for supervision of every four kids attending any COTA trail work events.\nAll minors under the age of 18 must have a parent or guardian available to sign our waiver.\n\nAnyone who arrives for a work event may be turned away if he/she cannot meet the above requirements.
URL:https://envirocenter.org/event/bend-cota-work-events-2016-08-11/
LOCATION:Deschutes Brewery Public House\, 1044 NW Bond St\, Bend\, OR\, 97701\, United States
GEO:44.0593984;-121.3113079
X-APPLE-STRUCTURED-LOCATION;VALUE=URI;X-ADDRESS=Deschutes Brewery Public House 1044 NW Bond St Bend OR 97701 United States;X-APPLE-RADIUS=500;X-TITLE=1044 NW Bond St:geo:-121.3113079,44.0593984
END:VEVENT
BEGIN:VEVENT
DTSTART;VALUE=DATE:20210611
DTEND;VALUE=DATE:20210612
DTSTAMP:20260419T232044
CREATED:20210521T033237Z
LAST-MODIFIED:20230503T201248Z
UID:10003603-1623402000-1623412800@envirocenter.org
SUMMARY:Whychus Creek at Pine Meadow Ranch Weed Pull
DESCRIPTION:Join Pine Meadow Ranch and Coalition for the Deschutes to pull knapweed and other invasive weeds along Whychus Creek as it flows through the ranch. \nWhere: Pine Meadow Ranch\, Sisters \nFor more information and to register\, send an email to Inge@CoalitionfortheDeschutes.org \nYou’ll start each of the weed pulls with an overview of logistics and safety protocols and talk about the what and why of pulling invasive plants. Participants will be required to sign a release waiver. Covid-19 protocols will be observed. \nWhy pull invasive weeds: \n\nNoxious weeds invade a variety of habitats\, including wildlands such as the National Forest and Deschutes River corridor.\nThey displace and compete with native vegetation\, thus reducing wildlife forage\, erosion control\, and overall watershed health.\nThe Bend/Ft. Rock District of the Deschutes National Forest has documented approximately 2\,300 acres of infestations. Some of these infestations are in our favorite places to recreate.\nWe need your help with controlling noxious weeds so we can continue to enjoy these special places!
URL:https://envirocenter.org/event/whychus-creek-at-pine-meadow-ranch-weed-pull/
LOCATION:Deschutes Brewery Public House\, 1044 NW Bond St\, Bend\, OR\, 97701\, United States
GEO:44.0593984;-121.3113079
X-APPLE-STRUCTURED-LOCATION;VALUE=URI;X-ADDRESS=Deschutes Brewery Public House 1044 NW Bond St Bend OR 97701 United States;X-APPLE-RADIUS=500;X-TITLE=1044 NW Bond St:geo:-121.3113079,44.0593984
END:VEVENT
BEGIN:VEVENT
DTSTART;VALUE=DATE:20210612
DTEND;VALUE=DATE:20210613
DTSTAMP:20260419T232044
CREATED:20210603T070330Z
LAST-MODIFIED:20230503T201259Z
UID:10001776-1623456000-1623542399@envirocenter.org
SUMMARY:National Get Outdoors Day
DESCRIPTION:Saturday\, June 12 is National Get Outdoors day and sites managed by the US Forest Service and Bureau of Land Management will be fee-free! Popular areas include the Columbia River Gorge National Scenic Area\, Newberry Volcanic Monument\, and National Forests for the US Forest Service and Alsea Falls and Shotgun Creek BLM day-use areas. \nNational get outdoors day is held on the second Saturday of June annually and is part of National Great Outdoors month. It is coordinated by the Outdoor Recreation Roundtable and US Forest Service. It began as a way to encourage first-time participants and families with kids to get outdoors and enjoy nearby recreation areas. \nFind out more about other USFS fee-free days on the US Forest Service Region 6 website.
URL:https://envirocenter.org/event/national-get-outdoors-day/
LOCATION:Deschutes Brewery Public House\, 1044 NW Bond St\, Bend\, OR\, 97701\, United States
CATEGORIES:Public Lands
GEO:44.0593984;-121.3113079
X-APPLE-STRUCTURED-LOCATION;VALUE=URI;X-ADDRESS=Deschutes Brewery Public House 1044 NW Bond St Bend OR 97701 United States;X-APPLE-RADIUS=500;X-TITLE=1044 NW Bond St:geo:-121.3113079,44.0593984
END:VEVENT
END:VCALENDAR