BEGIN:VCALENDAR
VERSION:2.0
PRODID:-//The Environmental Center - ECPv6.15.20//NONSGML v1.0//EN
CALSCALE:GREGORIAN
METHOD:PUBLISH
X-ORIGINAL-URL:https://envirocenter.org
X-WR-CALDESC:Events for The Environmental Center
REFRESH-INTERVAL;VALUE=DURATION:PT1H
X-Robots-Tag:noindex
X-PUBLISHED-TTL:PT1H
BEGIN:VTIMEZONE
TZID:America/Los_Angeles
BEGIN:DAYLIGHT
TZOFFSETFROM:-0800
TZOFFSETTO:-0700
TZNAME:PDT
DTSTART:20200308T100000
END:DAYLIGHT
BEGIN:STANDARD
TZOFFSETFROM:-0700
TZOFFSETTO:-0800
TZNAME:PST
DTSTART:20201101T090000
END:STANDARD
BEGIN:DAYLIGHT
TZOFFSETFROM:-0800
TZOFFSETTO:-0700
TZNAME:PDT
DTSTART:20210314T100000
END:DAYLIGHT
BEGIN:STANDARD
TZOFFSETFROM:-0700
TZOFFSETTO:-0800
TZNAME:PST
DTSTART:20211107T090000
END:STANDARD
BEGIN:DAYLIGHT
TZOFFSETFROM:-0800
TZOFFSETTO:-0700
TZNAME:PDT
DTSTART:20220313T100000
END:DAYLIGHT
BEGIN:STANDARD
TZOFFSETFROM:-0700
TZOFFSETTO:-0800
TZNAME:PST
DTSTART:20221106T090000
END:STANDARD
END:VTIMEZONE
BEGIN:VEVENT
DTSTART;VALUE=DATE:20210416
DTEND;VALUE=DATE:20210426
DTSTAMP:20260420T003155
CREATED:20210412T065341Z
LAST-MODIFIED:20230503T201228Z
UID:10001726-1618599600-1619384400@envirocenter.org
SUMMARY:Celebrate Earth Day with film screening of Microplastic Madness
DESCRIPTION:The Environmental Center and Bendfilm are teaming up to bring you a free screening of Microplastic Madness. Followed by a live panel discussion. \nMicroplastic Madness is an optimistic take on the local and global plastic pollution crisis as told through a refreshing urban youth point of view with an inspiring take action message. \nThe live panel discussion on 4/22 at 6:00PM will help connect global plastic pollution in the oceans to our local Central Oregon actions. Panelists include microplastics scientists Dr. Janice Brahney and Dr. Elise Granek\, the film’s producer\, and local legislator Phil Chang. \n\nView trailer here!
URL:https://envirocenter.org/event/celebrate-earth-day-with-film-screening-of-microplastic-madness/
LOCATION:Deschutes Brewery Public House\, 1044 NW Bond St\, Bend\, OR\, 97701\, United States
CATEGORIES:Advocacy|Climate|Earth Day|Film|Online event|Rethink Waste|Youth Education
GEO:44.0593984;-121.3113079
X-APPLE-STRUCTURED-LOCATION;VALUE=URI;X-ADDRESS=Deschutes Brewery Public House 1044 NW Bond St Bend OR 97701 United States;X-APPLE-RADIUS=500;X-TITLE=1044 NW Bond St:geo:-121.3113079,44.0593984
END:VEVENT
BEGIN:VEVENT
DTSTART;VALUE=DATE:20210422
DTEND;VALUE=DATE:20210426
DTSTAMP:20260420T003155
CREATED:20210412T002141Z
LAST-MODIFIED:20210412T002141Z
UID:10001727-1619049600-1619395199@envirocenter.org
SUMMARY:Harney County Migratory Bird Festival
DESCRIPTION:Spend an amazing weekend witnessing the spectacular spring  migration in the Harney Basin of Southeast Oregon. View thousands of migratory birds as they rest and feed in the open spaces of Oregon’s  high desert. Held annually in April in Harney County. \nThe Harney County Migratory Bird Festival was first held in 1981 ​to celebrate the large annual migration of birds passing through Harney Basin on the Pacific Flyway. Harney Basin is one of the three most important areas left in the western United States for spring migratory birds stopping on their way north. \n​Over 300 species of birds use the refuge throughout each year\, making Harney Basin a bird watcher’s paradise. Today\, we continue to celebrate the migratory birds’ return each year with guided tours led by experts\, workshops\, and fun activities for both youth and adults.
URL:https://envirocenter.org/event/harney-county-migratory-bird-festival-2/
CATEGORIES:Earth Day,Online event,Youth Education
ATTACH;FMTTYPE=image/jpeg:https://envirocenter.org/wp-content/uploads/2021/04/Proud-Partners_.jpg
ORGANIZER;CN="Friends of Malheur National Wildlife Refuge":MAILTO:friends@malheurfriends.org
END:VEVENT
BEGIN:VEVENT
DTSTART;VALUE=DATE:20210425
DTEND;VALUE=DATE:20210426
DTSTAMP:20260420T003155
CREATED:20210504T025603Z
LAST-MODIFIED:20230503T201236Z
UID:10001737-1619373600-1619379000@envirocenter.org
SUMMARY:Virtual Workshop: Looking Out for Neonatal Wildlife
DESCRIPTION:One of the most exciting parts of spring is the arrival of baby season. Baby birds\, squirrels\, rabbits\, deer and other wildlife can be easily observed in the landscape. Some animals are fiercely independent within a few days of life while others need longer term care by a parent. This virtual workshop will review the development and behavior of commonly encountered wildlife in our area to help you better recognize when a baby animal may need help and intervention from humans.
URL:https://envirocenter.org/event/virtual-workshop-looking-out-for-neonatal-wildlife-2/
LOCATION:Deschutes Brewery Public House\, 1044 NW Bond St\, Bend\, OR\, 97701\, United States
CATEGORIES:Online event|Youth Education
GEO:44.0593984;-121.3113079
X-APPLE-STRUCTURED-LOCATION;VALUE=URI;X-ADDRESS=Deschutes Brewery Public House 1044 NW Bond St Bend OR 97701 United States;X-APPLE-RADIUS=500;X-TITLE=1044 NW Bond St:geo:-121.3113079,44.0593984
END:VEVENT
BEGIN:VEVENT
DTSTART;VALUE=DATE:20210427
DTEND;VALUE=DATE:20210501
DTSTAMP:20260420T003155
CREATED:20210330T155425Z
LAST-MODIFIED:20210330T155425Z
UID:10003547-1619481600-1619827199@envirocenter.org
SUMMARY:Oregon Active Transportation Summit
DESCRIPTION:During the summit you will examine how our transportation investments\, programs and plans can leave us all with clean\, equitable solutions for the future of our planet and community. \nThe summit will highlight the kinds of transportation decisions being made in the face of the climate crisis. The summit will highlight the change-makers and thought-leaders who can guide us into a sustainable future.
URL:https://envirocenter.org/event/oregon-active-transportation-summit-2/
CATEGORIES:Advocacy,Climate,Online event,Online Networking
ATTACH;FMTTYPE=image/jpeg:https://envirocenter.org/wp-content/uploads/2021/03/OATS.jpg
END:VEVENT
BEGIN:VEVENT
DTSTART;VALUE=DATE:20210427
DTEND;VALUE=DATE:20210428
DTSTAMP:20260420T003155
CREATED:20210401T015437Z
LAST-MODIFIED:20230503T201222Z
UID:10003553-1619539200-1619550000@envirocenter.org
SUMMARY:Monuments: A Moment of Recalibration
DESCRIPTION:What purpose do monuments serve? And whose story do they tell? Join Confluence for a conversation to explore ways to elevate and amplify a broader version of history. This program centers on tensions over monuments to missionary Marcus Whitman\, at Whitman College and representing WA State in the US Capitol. This panel includes leading thinkers and leaders from NW Tribes who will consider historical narratives and power dynamics\, symbolic representation and the evolving understanding of our history.
URL:https://envirocenter.org/event/monuments-a-moment-of-recalibration/
LOCATION:Deschutes Brewery Public House\, 1044 NW Bond St\, Bend\, OR\, 97701\, United States
CATEGORIES:Online event
GEO:44.0593984;-121.3113079
X-APPLE-STRUCTURED-LOCATION;VALUE=URI;X-ADDRESS=Deschutes Brewery Public House 1044 NW Bond St Bend OR 97701 United States;X-APPLE-RADIUS=500;X-TITLE=1044 NW Bond St:geo:-121.3113079,44.0593984
END:VEVENT
BEGIN:VEVENT
DTSTART;VALUE=DATE:20210427
DTEND;VALUE=DATE:20210428
DTSTAMP:20260420T003155
CREATED:20210401T060150Z
LAST-MODIFIED:20230503T201222Z
UID:10003556-1619546400-1619553600@envirocenter.org
SUMMARY:Virtual Lecture: Reaching for the Sky: Lessons on Forest Canopies from Science
DESCRIPTION:Looming right above our heads is one of the last unexplored frontiers on earth: the forest canopy. During this virtual lecture\, Dr. David Anderson\, ornithologist and founder of Canopy Watch International\, will share recent efforts to grow the art and science of canopy access methods.
URL:https://envirocenter.org/event/virtual-lecture-reaching-for-the-sky-lessons-on-forest-canopies-from-science/
LOCATION:Deschutes Brewery Public House\, 1044 NW Bond St\, Bend\, OR\, 97701\, United States
CATEGORIES:Online event|Youth Education
GEO:44.0593984;-121.3113079
X-APPLE-STRUCTURED-LOCATION;VALUE=URI;X-ADDRESS=Deschutes Brewery Public House 1044 NW Bond St Bend OR 97701 United States;X-APPLE-RADIUS=500;X-TITLE=1044 NW Bond St:geo:-121.3113079,44.0593984
END:VEVENT
BEGIN:VEVENT
DTSTART;VALUE=DATE:20210427
DTEND;VALUE=DATE:20210428
DTSTAMP:20260420T003155
CREATED:20210420T023044Z
LAST-MODIFIED:20230503T201233Z
UID:10001729-1619548200-1619553600@envirocenter.org
SUMMARY:InFARMation: Creative Ways to Access Land and Capital Virtual Zoom Meeting
DESCRIPTION:The average farmer in Oregon is 60 years old. Without a plan to get new farmers onto the land\, when the older generation hangs up their tools in the next decade we stand to lose 25-50% of farmland currently in production to conglomeration or development. Join Friends of Family Farmers to talk about creative ways farmers and organizations are working collaboratively to protect farms and ranches in Oregon.
URL:https://envirocenter.org/event/infarmation-creative-ways-to-access-land-and-capital-virtual-zoom-meeting/
LOCATION:Deschutes Brewery Public House\, 1044 NW Bond St\, Bend\, OR\, 97701\, United States
CATEGORIES:Advocacy|Equity
GEO:44.0593984;-121.3113079
X-APPLE-STRUCTURED-LOCATION;VALUE=URI;X-ADDRESS=Deschutes Brewery Public House 1044 NW Bond St Bend OR 97701 United States;X-APPLE-RADIUS=500;X-TITLE=1044 NW Bond St:geo:-121.3113079,44.0593984
END:VEVENT
BEGIN:VEVENT
DTSTART;VALUE=DATE:20210428
DTEND;VALUE=DATE:20210429
DTSTAMP:20260420T003155
CREATED:20210223T134741Z
LAST-MODIFIED:20230503T201203Z
UID:10003525-1619625600-1619631000@envirocenter.org
SUMMARY:Upcoming broadchats
DESCRIPTION:The Central Oregon Bitterbrush Broads\, a chapter of the Great Old Broads for Wilderness will have a number of broadchats (educational opportunities) that will be virtual until folks can meet in person again.  For more information or to sign up to participate\, contact Mary Fleischmann at maryriverwoman@bendcable.com. \n  \nApril 28th: Invasive species – what do they look like\, how to report their locations to the state. Learn how to use a very useful app when you are out on your hikes to identify and report invasive species.
URL:https://envirocenter.org/event/upcoming-broadchats-3/
LOCATION:Deschutes Brewery Public House\, 1044 NW Bond St\, Bend\, OR\, 97701\, United States
CATEGORIES:Online event|Online Networking
GEO:44.0593984;-121.3113079
X-APPLE-STRUCTURED-LOCATION;VALUE=URI;X-ADDRESS=Deschutes Brewery Public House 1044 NW Bond St Bend OR 97701 United States;X-APPLE-RADIUS=500;X-TITLE=1044 NW Bond St:geo:-121.3113079,44.0593984
END:VEVENT
BEGIN:VEVENT
DTSTART;VALUE=DATE:20210429
DTEND;VALUE=DATE:20210430
DTSTAMP:20260420T003155
CREATED:20210422T122906Z
LAST-MODIFIED:20230503T201234Z
UID:10001735-1619690400-1619694000@envirocenter.org
SUMMARY:Assessing Trails: LiDAR Assisted Trail Topography Evaluation (LATTE)
DESCRIPTION:This webinar will discuss a state-of-the-art LiDAR technology solution for trail management\, LATTE. This scientific approach to assessment removes the subjective variability inherent in common approaches. The methodology incorporates geospatial technologies used in other industries to produce measured baseline conditions\, as well as subsequent changes. These results can then be converted into trail maintenance and construction/reconstruction data that will guide in the management of trail resources\, prioritization of agenda and real time data on existing conditions. Data results can be processed from the office to set up a strategic management plan based on comprehensive measurements rather than subjective observations. \nJoin Matt Woodson of Okanogan Trail Construction\, Inc. and Zachary Radel of Cooper Aerial Survey Co. for the latest on this groundbreaking trail technology.
URL:https://envirocenter.org/event/assessing-trails-lidar-assisted-trail-topography-evaluation-latte/
LOCATION:Deschutes Brewery Public House\, 1044 NW Bond St\, Bend\, OR\, 97701\, United States
CATEGORIES:Online event|Public Lands
GEO:44.0593984;-121.3113079
X-APPLE-STRUCTURED-LOCATION;VALUE=URI;X-ADDRESS=Deschutes Brewery Public House 1044 NW Bond St Bend OR 97701 United States;X-APPLE-RADIUS=500;X-TITLE=1044 NW Bond St:geo:-121.3113079,44.0593984
END:VEVENT
BEGIN:VEVENT
DTSTART;VALUE=DATE:20210429
DTEND;VALUE=DATE:20210430
DTSTAMP:20260420T003155
CREATED:20160803T235848Z
LAST-MODIFIED:20230503T200442Z
UID:10000823-1619716500-1619726400@envirocenter.org
SUMMARY:Bend COTA Work Events
DESCRIPTION:When:  Thursday Aug 11\, Tuesday Aug 16\, Tuesday Aug 23 and Tuesday Aug 30\, 5:15 to Dusk \nWhere:  Meet at the old Ray’s parking lot\, NE corner of Simpson Ave and Century Drive in Bend \nWorksite:  Varies \nThere’s only one thing better than mountain biking in Bend\, OR and that’s riding in Bend\, knowing that you helped build and maintain the trails you love. \nPlease bring a hydration pack with water and a snack. \nBe sure to bring appropriate layers to accommodate whatever the weather may be. \nQuestions?  contact@cotamtb.com \nAll COTA trail work events require the following safety measures: \nAll participants are required to have the following protective clothing and equipment: \n\nSturdy shoes or boots\nGloves\nEye protection with clear or light colored lens\nLong pants\n\nDue to COTA’s insurance requirements and the inherent dangers of trail work\, we must implement the following policy regarding children at work events: \n\nFor anyone 14 years of age or younger\, we require one parent\, guardian\, or responsible adult for supervision of every four kids attending any COTA trail work events.\nAll minors under the age of 18 must have a parent or guardian available to sign our waiver.\n\nAnyone who arrives for a work event may be turned away if he/she cannot meet the above requirements.
URL:https://envirocenter.org/event/bend-cota-work-events-2016-08-11/
LOCATION:Deschutes Brewery Public House\, 1044 NW Bond St\, Bend\, OR\, 97701\, United States
GEO:44.0593984;-121.3113079
X-APPLE-STRUCTURED-LOCATION;VALUE=URI;X-ADDRESS=Deschutes Brewery Public House 1044 NW Bond St Bend OR 97701 United States;X-APPLE-RADIUS=500;X-TITLE=1044 NW Bond St:geo:-121.3113079,44.0593984
END:VEVENT
BEGIN:VEVENT
DTSTART;VALUE=DATE:20210429
DTEND;VALUE=DATE:20210430
DTSTAMP:20260420T003155
CREATED:20210326T075917Z
LAST-MODIFIED:20230503T201220Z
UID:10001717-1619719200-1619726400@envirocenter.org
SUMMARY:Let's Talk Community Food with Orlando Martín López Gómez
DESCRIPTION:Join High Desert Food & Farm Alliance as as they speak (virtually) with Orlando Martín López Gómez about issues faced across North America regarding food security\, including community solutions. His contagious energy will be sure to engage you and get you excited about working together to eradicate hunger.
URL:https://envirocenter.org/event/lets-talk-community-food-with-orlando-martin-lopez-gomez/
LOCATION:Deschutes Brewery Public House\, 1044 NW Bond St\, Bend\, OR\, 97701\, United States
CATEGORIES:Advocacy|Equity|Food|Online event
GEO:44.0593984;-121.3113079
X-APPLE-STRUCTURED-LOCATION;VALUE=URI;X-ADDRESS=Deschutes Brewery Public House 1044 NW Bond St Bend OR 97701 United States;X-APPLE-RADIUS=500;X-TITLE=1044 NW Bond St:geo:-121.3113079,44.0593984
END:VEVENT
BEGIN:VEVENT
DTSTART;VALUE=DATE:20210501
DTEND;VALUE=DATE:20210502
DTSTAMP:20260420T003155
CREATED:20210302T084338Z
LAST-MODIFIED:20230503T201209Z
UID:10003531-1619857800-1619870400@envirocenter.org
SUMMARY:Central Oregon Cave Clean Up
DESCRIPTION:Here is an opportunity to volunteer with Wanderlust Tours and other local businesses to help cleanup the Central Oregon caves! Wanderlust Tours partners with the Oregon High Desert Grotto\, Deschutes National Forest\, Visit Central Oregon and other local businesses to clean up our local caves. \n  \nINCLUDES\n\nGear: Helmet\, headlamp\nTransportation: to and from the event\, departing fromWanderlust’s office\n\nPLEASE BRING\n\nLayers: Warm layers— the caves are cool!\nMiscellaneous Gear: Gloves\, Close-toed shoes\, water bottle\nSnacks: Bring snacks (if desired)
URL:https://envirocenter.org/event/central-oregon-cave-clean-up/
LOCATION:Deschutes Brewery Public House\, 1044 NW Bond St\, Bend\, OR\, 97701\, United States
CATEGORIES:Volunteer
GEO:44.0593984;-121.3113079
X-APPLE-STRUCTURED-LOCATION;VALUE=URI;X-ADDRESS=Deschutes Brewery Public House 1044 NW Bond St Bend OR 97701 United States;X-APPLE-RADIUS=500;X-TITLE=1044 NW Bond St:geo:-121.3113079,44.0593984
END:VEVENT
BEGIN:VEVENT
DTSTART;VALUE=DATE:20210501
DTEND;VALUE=DATE:20210502
DTSTAMP:20260420T003155
CREATED:20210513T060930Z
LAST-MODIFIED:20230503T201246Z
UID:10001736-1619863200-1619866800@envirocenter.org
SUMMARY:Family Birding Adventure
DESCRIPTION:Join a naturalist as you explore the botanic garden\, nature trail\, and shore of Lake Aspen in search of Sunriver’s birds. You’ll learn how to spot\, identify\, and count common birds in the area. This family-friendly program is suited for all ages. \nBring your binoculars if you have them. Additional binoculars will be available to borrow. Expect to walk up to 2 miles. Capacity is limited and masks are required during the hike. Please no dogs or strollers for this program. \nDaytime admission to the nature center is included in your program registration. Please feel free to enjoy the nature center upon your return.
URL:https://envirocenter.org/event/family-birding-adventure-3/
LOCATION:Deschutes Brewery Public House\, 1044 NW Bond St\, Bend\, OR\, 97701\, United States
CATEGORIES:Youth Education
GEO:44.0593984;-121.3113079
X-APPLE-STRUCTURED-LOCATION;VALUE=URI;X-ADDRESS=Deschutes Brewery Public House 1044 NW Bond St Bend OR 97701 United States;X-APPLE-RADIUS=500;X-TITLE=1044 NW Bond St:geo:-121.3113079,44.0593984
END:VEVENT
END:VCALENDAR