BEGIN:VCALENDAR
VERSION:2.0
PRODID:-//The Environmental Center - ECPv6.15.20//NONSGML v1.0//EN
CALSCALE:GREGORIAN
METHOD:PUBLISH
X-ORIGINAL-URL:https://envirocenter.org
X-WR-CALDESC:Events for The Environmental Center
REFRESH-INTERVAL;VALUE=DURATION:PT1H
X-Robots-Tag:noindex
X-PUBLISHED-TTL:PT1H
BEGIN:VTIMEZONE
TZID:America/Los_Angeles
BEGIN:DAYLIGHT
TZOFFSETFROM:-0800
TZOFFSETTO:-0700
TZNAME:PDT
DTSTART:20200308T100000
END:DAYLIGHT
BEGIN:STANDARD
TZOFFSETFROM:-0700
TZOFFSETTO:-0800
TZNAME:PST
DTSTART:20201101T090000
END:STANDARD
BEGIN:DAYLIGHT
TZOFFSETFROM:-0800
TZOFFSETTO:-0700
TZNAME:PDT
DTSTART:20210314T100000
END:DAYLIGHT
BEGIN:STANDARD
TZOFFSETFROM:-0700
TZOFFSETTO:-0800
TZNAME:PST
DTSTART:20211107T090000
END:STANDARD
BEGIN:DAYLIGHT
TZOFFSETFROM:-0800
TZOFFSETTO:-0700
TZNAME:PDT
DTSTART:20220313T100000
END:DAYLIGHT
BEGIN:STANDARD
TZOFFSETFROM:-0700
TZOFFSETTO:-0800
TZNAME:PST
DTSTART:20221106T090000
END:STANDARD
END:VTIMEZONE
BEGIN:VEVENT
DTSTART;VALUE=DATE:20210413
DTEND;VALUE=DATE:20210414
DTSTAMP:20260420T003155
CREATED:20210401T060459Z
LAST-MODIFIED:20230503T201225Z
UID:10001718-1618340400-1618344000@envirocenter.org
SUMMARY:Red Planet Mars
DESCRIPTION:Mars and Earth have much in common. They’re both small rocky planets\, and although Mars is smaller\, both planets have a similar length of day.  Both planets have ice at the poles\, and Mars may even have water flowing like Earth.  Mars also may have quakes and similar geologic features. Scientists have been gathering evidence that Mars\, too\, may hold ancient life\, in the form of microbes.  This lecture will be given by Jim Todd\, Director of Space Science Education at the Oregon Museum of Science & Industry (OMSI).
URL:https://envirocenter.org/event/red-planet-mars/
LOCATION:Deschutes Brewery Public House\, 1044 NW Bond St\, Bend\, OR\, 97701\, United States
CATEGORIES:Online event|Youth Education
GEO:44.0593984;-121.3113079
X-APPLE-STRUCTURED-LOCATION;VALUE=URI;X-ADDRESS=Deschutes Brewery Public House 1044 NW Bond St Bend OR 97701 United States;X-APPLE-RADIUS=500;X-TITLE=1044 NW Bond St:geo:-121.3113079,44.0593984
END:VEVENT
BEGIN:VEVENT
DTSTART;VALUE=DATE:20210414
DTEND;VALUE=DATE:20210415
DTSTAMP:20260420T003155
CREATED:20210414T064356Z
LAST-MODIFIED:20230503T201229Z
UID:10003563-1618390800-1618396200@envirocenter.org
SUMMARY:Oregon Home Builder Roundtable: Chasing Opportunities in Energy Code
DESCRIPTION:Live Webinar | April 14 (9-10:30AM) \nJoin Energy Trust of Oregon for this webinar that will take a deep dive into 2021 Oregon Residential Specialty Code requirements\, focusing on the following:  \n\nBringing ducts and air handlers inside (the thermal boundary)\nBalanced ventilation options\n\nThe first hour of the webinar will be a presentation\, followed by 30 minutes dedicated for questions. Register for the webinar today.
URL:https://envirocenter.org/event/oregon-home-builder-roundtable-chasing-opportunities-in-energy-code/
LOCATION:Deschutes Brewery Public House\, 1044 NW Bond St\, Bend\, OR\, 97701\, United States
CATEGORIES:Energy
GEO:44.0593984;-121.3113079
X-APPLE-STRUCTURED-LOCATION;VALUE=URI;X-ADDRESS=Deschutes Brewery Public House 1044 NW Bond St Bend OR 97701 United States;X-APPLE-RADIUS=500;X-TITLE=1044 NW Bond St:geo:-121.3113079,44.0593984
END:VEVENT
BEGIN:VEVENT
DTSTART;VALUE=DATE:20210414
DTEND;VALUE=DATE:20210415
DTSTAMP:20260420T003155
CREATED:20210401T214256Z
LAST-MODIFIED:20230503T201225Z
UID:10001720-1618416000-1618419600@envirocenter.org
SUMMARY:Bring Back the Pollinators: What you can do to help support bees
DESCRIPTION:With the arrival of spring\, many of us living in Oregon turn our thoughts toward flowers and gardens and the plant lover’s favorite friend: the bee! \nGet a glimpse into the amazing diversity of bees and other pollinators. Debbie Schlenoff of the Lane County Audubon Society and Aimee Code of the Xerces Society\, will discuss the unique needs and behaviors of the hundreds of bee species that inhabit Oregon. They’ll describe the alarming decline in bee species and also let you know about the many opportunities to help bees survive and thrive. You’ll learn about everything from pollinator-friendly gardening to community science\, and much more.
URL:https://envirocenter.org/event/bring-back-the-pollinators-what-you-can-do-to-help-support-bees/
LOCATION:Deschutes Brewery Public House\, 1044 NW Bond St\, Bend\, OR\, 97701\, United States
CATEGORIES:Online event|Youth Education
GEO:44.0593984;-121.3113079
X-APPLE-STRUCTURED-LOCATION;VALUE=URI;X-ADDRESS=Deschutes Brewery Public House 1044 NW Bond St Bend OR 97701 United States;X-APPLE-RADIUS=500;X-TITLE=1044 NW Bond St:geo:-121.3113079,44.0593984
END:VEVENT
BEGIN:VEVENT
DTSTART;VALUE=DATE:20210414
DTEND;VALUE=DATE:20210415
DTSTAMP:20260420T003155
CREATED:20210401T015136Z
LAST-MODIFIED:20230503T201222Z
UID:10003552-1618416000-1618426800@envirocenter.org
SUMMARY:Confluence Conversation: A Native Lens on Regenerative Ecosystems
DESCRIPTION:Since settler colonialism\, seasonal flooding along the Columbia has been a threat\, a destabilizing force to be mitigated. Native understanding knows that seasonal flooding brings necessary replenishment and resources for sustainable ecosystem health. Join David Lewis and Eric Quaempts for a discussion about Traditional life along the watersheds and how Native knowledge is addressing concerns for healthier watersheds today and moving forward. \nThis partnered event is the first of a three-part series offered by the Columbia Slough Watershed Council. The series examines the history of the watershed and its management to help inform current developments of a new watershed district with a stronger commitment to improved wildlife habitat\, water quality\, and the promotion of equity and social justice. \nSupport for this program comes from the Oregon Cultural Trust and the Multnomah County Drainage District.
URL:https://envirocenter.org/event/confluence-conversation-a-native-lens-on-regenerative-ecosystems/
LOCATION:Deschutes Brewery Public House\, 1044 NW Bond St\, Bend\, OR\, 97701\, United States
CATEGORIES:Advocacy|Climate|Online event
GEO:44.0593984;-121.3113079
X-APPLE-STRUCTURED-LOCATION;VALUE=URI;X-ADDRESS=Deschutes Brewery Public House 1044 NW Bond St Bend OR 97701 United States;X-APPLE-RADIUS=500;X-TITLE=1044 NW Bond St:geo:-121.3113079,44.0593984
END:VEVENT
BEGIN:VEVENT
DTSTART;VALUE=DATE:20210415
DTEND;VALUE=DATE:20210416
DTSTAMP:20260420T003155
CREATED:20210330T233253Z
LAST-MODIFIED:20230503T201221Z
UID:10003548-1618470000-1618475400@envirocenter.org
SUMMARY:Farmers as Agents of Change in Greening Agriculture: Challenges & Opportunities
DESCRIPTION:Join FAO North America and the Embassy of Denmark in the USA\, to learn about the challenges and opportunities facing farmers in ushering in a green transition towards more sustainable agriculture and food production.
URL:https://envirocenter.org/event/farmers-as-agents-of-change-in-greening-agriculture-challenges-opportunities/
LOCATION:Deschutes Brewery Public House\, 1044 NW Bond St\, Bend\, OR\, 97701\, United States
CATEGORIES:Advocacy|Climate|Food|Online event
GEO:44.0593984;-121.3113079
X-APPLE-STRUCTURED-LOCATION;VALUE=URI;X-ADDRESS=Deschutes Brewery Public House 1044 NW Bond St Bend OR 97701 United States;X-APPLE-RADIUS=500;X-TITLE=1044 NW Bond St:geo:-121.3113079,44.0593984
END:VEVENT
BEGIN:VEVENT
DTSTART;VALUE=DATE:20210415
DTEND;VALUE=DATE:20210416
DTSTAMP:20260420T003155
CREATED:20160803T235848Z
LAST-MODIFIED:20230503T200442Z
UID:10000821-1618506900-1618516800@envirocenter.org
SUMMARY:Bend COTA Work Events
DESCRIPTION:When:  Thursday Aug 11\, Tuesday Aug 16\, Tuesday Aug 23 and Tuesday Aug 30\, 5:15 to Dusk \nWhere:  Meet at the old Ray’s parking lot\, NE corner of Simpson Ave and Century Drive in Bend \nWorksite:  Varies \nThere’s only one thing better than mountain biking in Bend\, OR and that’s riding in Bend\, knowing that you helped build and maintain the trails you love. \nPlease bring a hydration pack with water and a snack. \nBe sure to bring appropriate layers to accommodate whatever the weather may be. \nQuestions?  contact@cotamtb.com \nAll COTA trail work events require the following safety measures: \nAll participants are required to have the following protective clothing and equipment: \n\nSturdy shoes or boots\nGloves\nEye protection with clear or light colored lens\nLong pants\n\nDue to COTA’s insurance requirements and the inherent dangers of trail work\, we must implement the following policy regarding children at work events: \n\nFor anyone 14 years of age or younger\, we require one parent\, guardian\, or responsible adult for supervision of every four kids attending any COTA trail work events.\nAll minors under the age of 18 must have a parent or guardian available to sign our waiver.\n\nAnyone who arrives for a work event may be turned away if he/she cannot meet the above requirements.
URL:https://envirocenter.org/event/bend-cota-work-events-2016-08-11/
LOCATION:Deschutes Brewery Public House\, 1044 NW Bond St\, Bend\, OR\, 97701\, United States
GEO:44.0593984;-121.3113079
X-APPLE-STRUCTURED-LOCATION;VALUE=URI;X-ADDRESS=Deschutes Brewery Public House 1044 NW Bond St Bend OR 97701 United States;X-APPLE-RADIUS=500;X-TITLE=1044 NW Bond St:geo:-121.3113079,44.0593984
END:VEVENT
BEGIN:VEVENT
DTSTART;VALUE=DATE:20210415
DTEND;VALUE=DATE:20210416
DTSTAMP:20260420T003155
CREATED:20210402T042216Z
LAST-MODIFIED:20230503T201226Z
UID:10001721-1618509600-1618516800@envirocenter.org
SUMMARY:Reaping What You Sow: Refugee Caravans at the U.S.-Mexico Border
DESCRIPTION:Discover how the long and troubled history of U.S. military and covert interventions in Central America and failed U.S. economic assistance and climate change policies are responsible for the waves of desperate people currently fleeing El Salvador\, Guatemala\, and Honduras\, and why the United States has a legal and moral responsibility to admit them as refugees.
URL:https://envirocenter.org/event/reaping-what-you-sow-refugee-caravans-at-the-u-s-mexico-border/
LOCATION:Deschutes Brewery Public House\, 1044 NW Bond St\, Bend\, OR\, 97701\, United States
CATEGORIES:Film|Inclusion|Online event|Social Justice
GEO:44.0593984;-121.3113079
X-APPLE-STRUCTURED-LOCATION;VALUE=URI;X-ADDRESS=Deschutes Brewery Public House 1044 NW Bond St Bend OR 97701 United States;X-APPLE-RADIUS=500;X-TITLE=1044 NW Bond St:geo:-121.3113079,44.0593984
END:VEVENT
BEGIN:VEVENT
DTSTART;VALUE=DATE:20210416
DTEND;VALUE=DATE:20210426
DTSTAMP:20260420T003155
CREATED:20210412T065341Z
LAST-MODIFIED:20230503T201228Z
UID:10001726-1618599600-1619384400@envirocenter.org
SUMMARY:Celebrate Earth Day with film screening of Microplastic Madness
DESCRIPTION:The Environmental Center and Bendfilm are teaming up to bring you a free screening of Microplastic Madness. Followed by a live panel discussion. \nMicroplastic Madness is an optimistic take on the local and global plastic pollution crisis as told through a refreshing urban youth point of view with an inspiring take action message. \nThe live panel discussion on 4/22 at 6:00PM will help connect global plastic pollution in the oceans to our local Central Oregon actions. Panelists include microplastics scientists Dr. Janice Brahney and Dr. Elise Granek\, the film’s producer\, and local legislator Phil Chang. \n\nView trailer here!
URL:https://envirocenter.org/event/celebrate-earth-day-with-film-screening-of-microplastic-madness/
LOCATION:Deschutes Brewery Public House\, 1044 NW Bond St\, Bend\, OR\, 97701\, United States
CATEGORIES:Advocacy|Climate|Earth Day|Film|Online event|Rethink Waste|Youth Education
GEO:44.0593984;-121.3113079
X-APPLE-STRUCTURED-LOCATION;VALUE=URI;X-ADDRESS=Deschutes Brewery Public House 1044 NW Bond St Bend OR 97701 United States;X-APPLE-RADIUS=500;X-TITLE=1044 NW Bond St:geo:-121.3113079,44.0593984
END:VEVENT
BEGIN:VEVENT
DTSTART;VALUE=DATE:20210417
DTEND;VALUE=DATE:20210425
DTSTAMP:20260420T003155
CREATED:20210417T071100Z
LAST-MODIFIED:20230503T201233Z
UID:10001728-1618617600-1619308799@envirocenter.org
SUMMARY:Emerald Earth Film Festival
DESCRIPTION:Center for Environmental Futures presents: Emerald Earth 2021 Film Festival \nThis year’s EEFF theme is “Toxins.” Once you register\, you will be able to stream the films on demand! \nHere is the line-up: \n\nPainted Nails by Erica Jordan and Dianne Griffin\nEast LA Interchange by Betsy Kalin\nAround Crab Orchard by Sarah Kanouse\n\nThe EEFF is hosted by  Center for Environmental Futures. \nThere will also be a series of conversations with the film producers on April 19th\, 20th\, and 21st. To register and find out more\, visit: https://cef.uoregon.edu/emerald-earth-2021-toxins/
URL:https://envirocenter.org/event/emerald-earth-film-festival/
LOCATION:Deschutes Brewery Public House\, 1044 NW Bond St\, Bend\, OR\, 97701\, United States
CATEGORIES:Earth Day|Film|Online event
GEO:44.0593984;-121.3113079
X-APPLE-STRUCTURED-LOCATION;VALUE=URI;X-ADDRESS=Deschutes Brewery Public House 1044 NW Bond St Bend OR 97701 United States;X-APPLE-RADIUS=500;X-TITLE=1044 NW Bond St:geo:-121.3113079,44.0593984
END:VEVENT
END:VCALENDAR