BEGIN:VCALENDAR
VERSION:2.0
PRODID:-//The Environmental Center - ECPv6.15.20//NONSGML v1.0//EN
CALSCALE:GREGORIAN
METHOD:PUBLISH
X-ORIGINAL-URL:https://envirocenter.org
X-WR-CALDESC:Events for The Environmental Center
REFRESH-INTERVAL;VALUE=DURATION:PT1H
X-Robots-Tag:noindex
X-PUBLISHED-TTL:PT1H
BEGIN:VTIMEZONE
TZID:America/Los_Angeles
BEGIN:DAYLIGHT
TZOFFSETFROM:-0800
TZOFFSETTO:-0700
TZNAME:PDT
DTSTART:20200308T100000
END:DAYLIGHT
BEGIN:STANDARD
TZOFFSETFROM:-0700
TZOFFSETTO:-0800
TZNAME:PST
DTSTART:20201101T090000
END:STANDARD
BEGIN:DAYLIGHT
TZOFFSETFROM:-0800
TZOFFSETTO:-0700
TZNAME:PDT
DTSTART:20210314T100000
END:DAYLIGHT
BEGIN:STANDARD
TZOFFSETFROM:-0700
TZOFFSETTO:-0800
TZNAME:PST
DTSTART:20211107T090000
END:STANDARD
BEGIN:DAYLIGHT
TZOFFSETFROM:-0800
TZOFFSETTO:-0700
TZNAME:PDT
DTSTART:20220313T100000
END:DAYLIGHT
BEGIN:STANDARD
TZOFFSETFROM:-0700
TZOFFSETTO:-0800
TZNAME:PST
DTSTART:20221106T090000
END:STANDARD
END:VTIMEZONE
BEGIN:VEVENT
DTSTART;VALUE=DATE:20210322
DTEND;VALUE=DATE:20210323
DTSTAMP:20260419T115922
CREATED:20210112T035558Z
LAST-MODIFIED:20230503T201139Z
UID:10001652-1616432400-1616436000@envirocenter.org
SUMMARY:OLCV Book Club: Eager: The Surprising\, Secret Life of Beavers and Why They Matter by Ben Goldfarb
DESCRIPTION:OLCV’s Environmental Book Club is back for 2021!  \nWhether or not you’ve attended their past meetings\, OLCV invites you to join their next bookn club—Eager: The Surprising\, Secret Life of Beavers and Why They Matter by Ben Goldfarb. In this creative non-fiction book\, Goldfarb explores the profound impact that beavers have on our world\, from wetland creation\, to salmon health\, to drought prevention\, to fighting climate change. Eager looks back at how the decline of beavers has changed landscapes worldwide\, and how activists—called ‘Beaver Believers’—are working to restore this influential species to its former glory.
URL:https://envirocenter.org/event/olcv-book-club-eager-the-surprising-secret-life-of-beavers-and-why-they-matter-by-ben-goldfarb/
LOCATION:Deschutes Brewery Public House\, 1044 NW Bond St\, Bend\, OR\, 97701\, United States
CATEGORIES:Online event|Online Networking
GEO:44.0593984;-121.3113079
X-APPLE-STRUCTURED-LOCATION;VALUE=URI;X-ADDRESS=Deschutes Brewery Public House 1044 NW Bond St Bend OR 97701 United States;X-APPLE-RADIUS=500;X-TITLE=1044 NW Bond St:geo:-121.3113079,44.0593984
END:VEVENT
BEGIN:VEVENT
DTSTART;VALUE=DATE:20210323
DTEND;VALUE=DATE:20210324
DTSTAMP:20260419T115922
CREATED:20210306T012517Z
LAST-MODIFIED:20230503T201213Z
UID:10001701-1616482800-1616486400@envirocenter.org
SUMMARY:U.S. Food Infrastructure and Hunger: Lessons from COVID-19 Crisis\, Guidance for the Future
DESCRIPTION:Join the Alliance to End Hunger\, and a panel of experts from agriculture\, food infrastructure\, and hunger relief sectors for a discussion on how you can be better prepared for future shocks by taking concrete actions today.
URL:https://envirocenter.org/event/u-s-food-infrastructure-and-hunger-lessons-from-covid-19-crisis-guidance-for-the-future/
LOCATION:Deschutes Brewery Public House\, 1044 NW Bond St\, Bend\, OR\, 97701\, United States
CATEGORIES:Advocacy|Food|Online event
GEO:44.0593984;-121.3113079
X-APPLE-STRUCTURED-LOCATION;VALUE=URI;X-ADDRESS=Deschutes Brewery Public House 1044 NW Bond St Bend OR 97701 United States;X-APPLE-RADIUS=500;X-TITLE=1044 NW Bond St:geo:-121.3113079,44.0593984
END:VEVENT
BEGIN:VEVENT
DTSTART;VALUE=DATE:20210323
DTEND;VALUE=DATE:20210324
DTSTAMP:20260419T115922
CREATED:20210319T010042Z
LAST-MODIFIED:20230503T201219Z
UID:10001712-1616500800-1616504400@envirocenter.org
SUMMARY:Toxics Free Schools - HB 2406 - Deep Dive
DESCRIPTION:This meeting is open to the public. Beyond Toxics will take a deep dive into HB 2406\, Toxics Free Schools\, and share data from Northwest Center For Alternatives to Pesticides’ (NCAP) Schools Survey and Report\, created to monitor the integrity of the Oregon School Integrated Pest Management (IPM) law. They will also discuss alternatives to pesticides in managing school grounds and the importance of choosing preventative approaches to pest and weed management. This bill aims to create a path towards stronger School IPM laws in Oregon that prioritize children’s health and lest toxic pest management solutions.
URL:https://envirocenter.org/event/toxics-free-schools-hb-2406-deep-dive/
LOCATION:Deschutes Brewery Public House\, 1044 NW Bond St\, Bend\, OR\, 97701\, United States
CATEGORIES:Advocacy|Environmental Justice|Online event|Youth Education
GEO:44.0593984;-121.3113079
X-APPLE-STRUCTURED-LOCATION;VALUE=URI;X-ADDRESS=Deschutes Brewery Public House 1044 NW Bond St Bend OR 97701 United States;X-APPLE-RADIUS=500;X-TITLE=1044 NW Bond St:geo:-121.3113079,44.0593984
END:VEVENT
BEGIN:VEVENT
DTSTART;VALUE=DATE:20210323
DTEND;VALUE=DATE:20210324
DTSTAMP:20260419T115922
CREATED:20210227T032909Z
LAST-MODIFIED:20230503T201208Z
UID:10001695-1616522400-1616527800@envirocenter.org
SUMMARY:Adapting to a Future with Fire: Preparing Our Communities and Our Landscapes
DESCRIPTION:Great Old Broads for Wilderness are  hosting a four-part webcast series this month on fire. While the first of the presentations on March 2nd  – Fire in the Forest: A Natural Process and Unnatural Changes -has already filled up (it will simul-cast to their Facebook page)\, be sure to take a look at the other three offerings. Click here for more details on each presentation and and follow the links below sign up!
URL:https://envirocenter.org/event/adapting-to-a-future-with-fire-preparing-our-communities-and-our-landscapes/
LOCATION:Deschutes Brewery Public House\, 1044 NW Bond St\, Bend\, OR\, 97701\, United States
CATEGORIES:Online event
GEO:44.0593984;-121.3113079
X-APPLE-STRUCTURED-LOCATION;VALUE=URI;X-ADDRESS=Deschutes Brewery Public House 1044 NW Bond St Bend OR 97701 United States;X-APPLE-RADIUS=500;X-TITLE=1044 NW Bond St:geo:-121.3113079,44.0593984
END:VEVENT
BEGIN:VEVENT
DTSTART;VALUE=DATE:20210323
DTEND;VALUE=DATE:20210324
DTSTAMP:20260419T115922
CREATED:20210303T075350Z
LAST-MODIFIED:20230503T201209Z
UID:10003534-1616526000-1616529600@envirocenter.org
SUMMARY:Indivisible Bend and KPOV present Roy Zimmerman Live from the Left Coast
DESCRIPTION:Join KPOV’s Virtual Benefit Concert presented by Indivisible Bend. You’ll get great music and lots of laughter\, a chance to support KPOV\, and a full week to watch the exclusive YouTube video — all from the comfort of your own home\, or\, wherever. What could be better than that? \n\n\nSecure your virtual front row seat today!
URL:https://envirocenter.org/event/indivisible-bend-and-kpov-present-roy-zimmerman-live-from-the-left-coast/
LOCATION:Deschutes Brewery Public House\, 1044 NW Bond St\, Bend\, OR\, 97701\, United States
CATEGORIES:Music|Online event
GEO:44.0593984;-121.3113079
X-APPLE-STRUCTURED-LOCATION;VALUE=URI;X-ADDRESS=Deschutes Brewery Public House 1044 NW Bond St Bend OR 97701 United States;X-APPLE-RADIUS=500;X-TITLE=1044 NW Bond St:geo:-121.3113079,44.0593984
END:VEVENT
BEGIN:VEVENT
DTSTART;VALUE=DATE:20210324
DTEND;VALUE=DATE:20210325
DTSTAMP:20260419T115922
CREATED:20210223T140059Z
LAST-MODIFIED:20230503T201203Z
UID:10003526-1616578200-1616605200@envirocenter.org
SUMMARY:OLCV/OCN 2021 Virtual Lobby Day: The Clean Green Virtual Lobby Machine!
DESCRIPTION:On March 24th\, Oregon’s environmental community is going to make a big\, virtual splash! It’s a virtual grassroots lobby day with Oregon lawmakers! Can you join us? The OLCV/OCN Lobby Day gives you the chance to meet with your lawmakers and make a lasting impact on them; it gives you the chance to tell your story\, and to urge them to make the environment a priority during the legislative session. RSVP below!
URL:https://envirocenter.org/event/olcv-ocn-2021-virtual-lobby-day-the-clean-green-virtual-lobby-machine/
LOCATION:Deschutes Brewery Public House\, 1044 NW Bond St\, Bend\, OR\, 97701\, United States
CATEGORIES:Advocacy|Climate|Online event
GEO:44.0593984;-121.3113079
X-APPLE-STRUCTURED-LOCATION;VALUE=URI;X-ADDRESS=Deschutes Brewery Public House 1044 NW Bond St Bend OR 97701 United States;X-APPLE-RADIUS=500;X-TITLE=1044 NW Bond St:geo:-121.3113079,44.0593984
END:VEVENT
BEGIN:VEVENT
DTSTART;VALUE=DATE:20210324
DTEND;VALUE=DATE:20210325
DTSTAMP:20260419T115922
CREATED:20210223T134101Z
LAST-MODIFIED:20230503T201203Z
UID:10003524-1616601600-1616607000@envirocenter.org
SUMMARY:Upcoming broadchats
DESCRIPTION:The Central Oregon Bitterbrush Broads\, a chapter of the Great Old Broads for Wilderness will have a number of broadchats (educational opportunities) that will be virtual until folks can meet in person again.  For more information or to sign up to participate\, contact Mary Fleischmann at maryriverwoman@bendcable.com. \n  \nMarch 24th: Eastside screenings\, what does are the impacts to our forests with trees larger than 21 inches being logged? Join us for this very important conversation.
URL:https://envirocenter.org/event/upcoming-broadchats-2/
LOCATION:Deschutes Brewery Public House\, 1044 NW Bond St\, Bend\, OR\, 97701\, United States
CATEGORIES:Online event|Online Networking
GEO:44.0593984;-121.3113079
X-APPLE-STRUCTURED-LOCATION;VALUE=URI;X-ADDRESS=Deschutes Brewery Public House 1044 NW Bond St Bend OR 97701 United States;X-APPLE-RADIUS=500;X-TITLE=1044 NW Bond St:geo:-121.3113079,44.0593984
END:VEVENT
BEGIN:VEVENT
DTSTART;VALUE=DATE:20210324
DTEND;VALUE=DATE:20210325
DTSTAMP:20260419T115922
CREATED:20210306T093051Z
LAST-MODIFIED:20230503T201214Z
UID:10001706-1616608800-1616614200@envirocenter.org
SUMMARY:Webcast: Old-growth forests across the US
DESCRIPTION:Joan Maloof was so inspired by what she saw visiting old-growth forests that she founded a national organization to preserve them and help make them accessible for the next generation. Join Maloof as she describes what makes the ancient forests so special\, where they are located in Oregon\, and how you can help protect them.
URL:https://envirocenter.org/event/webcast-old-growth-forests-across-the-us/
LOCATION:Deschutes Brewery Public House\, 1044 NW Bond St\, Bend\, OR\, 97701\, United States
CATEGORIES:Online event
GEO:44.0593984;-121.3113079
X-APPLE-STRUCTURED-LOCATION;VALUE=URI;X-ADDRESS=Deschutes Brewery Public House 1044 NW Bond St Bend OR 97701 United States;X-APPLE-RADIUS=500;X-TITLE=1044 NW Bond St:geo:-121.3113079,44.0593984
END:VEVENT
BEGIN:VEVENT
DTSTART;VALUE=DATE:20210325
DTEND;VALUE=DATE:20210326
DTSTAMP:20260419T115922
CREATED:20210312T045446Z
LAST-MODIFIED:20230503T201214Z
UID:10003539-1616671800-1616674500@envirocenter.org
SUMMARY:Legislative Update with Sen. Jeff Merkley
DESCRIPTION:Join the Bend Chamber and Senator Jeff Merkley for a legislative update. Senator Merkley will discuss the proposed COVID-19 relief package\, a Federal stimulus update and other key legislative proposals planned for 2021. \nThis webinar will be followed by a brief Q&A session with Senator Merkley.
URL:https://envirocenter.org/event/legislative-update-with-sen-jeff-merkley/
LOCATION:Deschutes Brewery Public House\, 1044 NW Bond St\, Bend\, OR\, 97701\, United States
CATEGORIES:Online event
GEO:44.0593984;-121.3113079
X-APPLE-STRUCTURED-LOCATION;VALUE=URI;X-ADDRESS=Deschutes Brewery Public House 1044 NW Bond St Bend OR 97701 United States;X-APPLE-RADIUS=500;X-TITLE=1044 NW Bond St:geo:-121.3113079,44.0593984
END:VEVENT
BEGIN:VEVENT
DTSTART;VALUE=DATE:20210325
DTEND;VALUE=DATE:20210326
DTSTAMP:20260419T115922
CREATED:20160803T235848Z
LAST-MODIFIED:20230503T200442Z
UID:10000818-1616692500-1616702400@envirocenter.org
SUMMARY:Bend COTA Work Events
DESCRIPTION:When:  Thursday Aug 11\, Tuesday Aug 16\, Tuesday Aug 23 and Tuesday Aug 30\, 5:15 to Dusk \nWhere:  Meet at the old Ray’s parking lot\, NE corner of Simpson Ave and Century Drive in Bend \nWorksite:  Varies \nThere’s only one thing better than mountain biking in Bend\, OR and that’s riding in Bend\, knowing that you helped build and maintain the trails you love. \nPlease bring a hydration pack with water and a snack. \nBe sure to bring appropriate layers to accommodate whatever the weather may be. \nQuestions?  contact@cotamtb.com \nAll COTA trail work events require the following safety measures: \nAll participants are required to have the following protective clothing and equipment: \n\nSturdy shoes or boots\nGloves\nEye protection with clear or light colored lens\nLong pants\n\nDue to COTA’s insurance requirements and the inherent dangers of trail work\, we must implement the following policy regarding children at work events: \n\nFor anyone 14 years of age or younger\, we require one parent\, guardian\, or responsible adult for supervision of every four kids attending any COTA trail work events.\nAll minors under the age of 18 must have a parent or guardian available to sign our waiver.\n\nAnyone who arrives for a work event may be turned away if he/she cannot meet the above requirements.
URL:https://envirocenter.org/event/bend-cota-work-events-2016-08-11/
LOCATION:Deschutes Brewery Public House\, 1044 NW Bond St\, Bend\, OR\, 97701\, United States
GEO:44.0593984;-121.3113079
X-APPLE-STRUCTURED-LOCATION;VALUE=URI;X-ADDRESS=Deschutes Brewery Public House 1044 NW Bond St Bend OR 97701 United States;X-APPLE-RADIUS=500;X-TITLE=1044 NW Bond St:geo:-121.3113079,44.0593984
END:VEVENT
BEGIN:VEVENT
DTSTART;VALUE=DATE:20210325
DTEND;VALUE=DATE:20210326
DTSTAMP:20260419T115922
CREATED:20210306T080525Z
LAST-MODIFIED:20230503T201213Z
UID:10001704-1616697000-1616702400@envirocenter.org
SUMMARY:Oregon’s History of African American and Japanese Timber Workers
DESCRIPTION:This webinar will provide an introduction to the story of African American and Japanese timber workers in the state of Oregon. We hope you can join  to learn more about Oregon’s multicultural timber industry and the communities that helped build it. \nFeatured speakers: \nGwendolyn Trice\, Founder & Executive Director of the Maxville Heritage Interpretive Center \nLinda Tamura\, Professor Emerita of Education at Willamette University and a co-editor-in-chief of The Oregon Encyclopedia \nModerator: Lisa Arkin\, Executive Director of Beyond Toxics.
URL:https://envirocenter.org/event/oregons-history-of-african-american-and-japanese-timber-workers/
LOCATION:Deschutes Brewery Public House\, 1044 NW Bond St\, Bend\, OR\, 97701\, United States
CATEGORIES:Online event
GEO:44.0593984;-121.3113079
X-APPLE-STRUCTURED-LOCATION;VALUE=URI;X-ADDRESS=Deschutes Brewery Public House 1044 NW Bond St Bend OR 97701 United States;X-APPLE-RADIUS=500;X-TITLE=1044 NW Bond St:geo:-121.3113079,44.0593984
END:VEVENT
BEGIN:VEVENT
DTSTART;VALUE=DATE:20210325
DTEND;VALUE=DATE:20210326
DTSTAMP:20260419T115922
CREATED:20210316T042641Z
LAST-MODIFIED:20230503T201215Z
UID:10001708-1616697000-1616702400@envirocenter.org
SUMMARY:Virtual Green Drinks: Repair Edition
DESCRIPTION:The Environmental Center is partnering with Good Bike Co. in Prineville and OSPIRG Foundation to bring you Green Drinks: Right to Repair Edition. RSVP IN ADVANCE. \nWe’ve invited Good Bike Co. to talk about spring bicycle prep\, maintenance\, and to demonstrate an easy repair how-to all about prolonging the life of your bicycle. \nCharlie Fisher\, State Director of OSPIRG\, will then give an overview of Oregon’s Right to Repair legislation that is currently active in the Senate Committee on Business and Labor. \nLearn more about Good Bike and OSPIRG: \nhttps://goodbikeco.com/shop \nhttps://ospirg.org/
URL:https://envirocenter.org/event/virtual-green-drinks-repair-edition/
LOCATION:Deschutes Brewery Public House\, 1044 NW Bond St\, Bend\, OR\, 97701\, United States
CATEGORIES:Advocacy|Green Drinks|Online event|Rethink Waste
GEO:44.0593984;-121.3113079
X-APPLE-STRUCTURED-LOCATION;VALUE=URI;X-ADDRESS=Deschutes Brewery Public House 1044 NW Bond St Bend OR 97701 United States;X-APPLE-RADIUS=500;X-TITLE=1044 NW Bond St:geo:-121.3113079,44.0593984
END:VEVENT
BEGIN:VEVENT
DTSTART;TZID=America/Los_Angeles:20210326T100000
DTEND;TZID=America/Los_Angeles:20210326T110000
DTSTAMP:20260419T115922
CREATED:20210319T044905Z
LAST-MODIFIED:20210319T044905Z
UID:10001714-1616752800-1616756400@envirocenter.org
SUMMARY:Sunriver Nature Hike
DESCRIPTION:Spring is in the air\, so gather your family and explore! During this naturalist guided hike you’ll journey through forest and meadow habitats to the river looking for signs of wildlife awakening with spring. \nThis family-friendly excursion requires walking along muddy trails. Appropriate footwear is recommended. Masks and social distancing are required for this hike. \n 
URL:https://envirocenter.org/event/sunriver-nature-hike-2/
CATEGORIES:Youth Education
ATTACH;FMTTYPE=image/jpeg:https://envirocenter.org/wp-content/uploads/2021/03/nature-walk-1536x770-2.jpg
ORGANIZER;CN="Sunriver Nature Center & Oregon Observatory":MAILTO:office@sunrivernaturecenter.org
END:VEVENT
BEGIN:VEVENT
DTSTART;VALUE=DATE:20210327
DTEND;VALUE=DATE:20210328
DTSTAMP:20260419T115922
CREATED:20210301T131236Z
LAST-MODIFIED:20230503T201208Z
UID:10003528-1616846400-1616857200@envirocenter.org
SUMMARY:2021 Spring Ochoco Creek Instream Cleanup
DESCRIPTION:The Rotary Club of Crook County is once again teaming up with Crook County Parks and Recreation\, Deschutes Land Trust\, SOLVE\, Crook County\, Republic Services and Crooked River Brewing to do an in stream cleanup of Ochoco Creek before high water hits. CCPRD will help with logistics and collect the trash bags during the cleanup. Republic Services is donating a 10 yard dumpster and Crook County is paying for the dumping fees at the landfill. \nVolunteers are needed to do a thorough instream and bankside cleanup on March 27th. The reach of Ochoco Creek to cleanup is from Combs Flatt Rd to Gardner Street\, within the City of Prineville. If enough volunteers are recruited cleanup will be expanded to outside of the City to the Ochoco Lumber Company property and also to the north east – hopefully to the confluence with the Crooked River. \nDue to the complexities of working in the creek\, no one under 12 will be allowed to be in the Creek itself and youths between 12-18 must be accompanied by a responsible adult. Any age can help cleanup the banks and along Ochoco Creek pathway\, but children under 12 should have a parent or designated guardian with them.
URL:https://envirocenter.org/event/2021-spring-ochoco-creek-instream-cleanup/
LOCATION:Deschutes Brewery Public House\, 1044 NW Bond St\, Bend\, OR\, 97701\, United States
CATEGORIES:Volunteer
GEO:44.0593984;-121.3113079
X-APPLE-STRUCTURED-LOCATION;VALUE=URI;X-ADDRESS=Deschutes Brewery Public House 1044 NW Bond St Bend OR 97701 United States;X-APPLE-RADIUS=500;X-TITLE=1044 NW Bond St:geo:-121.3113079,44.0593984
END:VEVENT
BEGIN:VEVENT
DTSTART;VALUE=DATE:20210327
DTEND;VALUE=DATE:20210328
DTSTAMP:20260419T115922
CREATED:20210301T131543Z
LAST-MODIFIED:20230503T201208Z
UID:10003529-1616850000-1616857200@envirocenter.org
SUMMARY:Community Clean-up Day in Prineville
DESCRIPTION:Join SOLVE for a Community Clean-up Day in Prineville. Groups/Individuals will meet in Pioneer Park and be assigned a clean-up location. Check-in starts at 12:30 and clean-up starts at 1 and goes until 3 pm.\n\n\n\n\nContact Eli Tomlinson (541-447-1209) at Crook County Parks and Recreation for any questions. \nCrook County Parks and Recreation District | https://ccprd.org/
URL:https://envirocenter.org/event/community-clean-up-day-in-prineville/
LOCATION:Deschutes Brewery Public House\, 1044 NW Bond St\, Bend\, OR\, 97701\, United States
CATEGORIES:Volunteer
GEO:44.0593984;-121.3113079
X-APPLE-STRUCTURED-LOCATION;VALUE=URI;X-ADDRESS=Deschutes Brewery Public House 1044 NW Bond St Bend OR 97701 United States;X-APPLE-RADIUS=500;X-TITLE=1044 NW Bond St:geo:-121.3113079,44.0593984
END:VEVENT
END:VCALENDAR