BEGIN:VCALENDAR
VERSION:2.0
PRODID:-//The Environmental Center - ECPv6.15.20//NONSGML v1.0//EN
CALSCALE:GREGORIAN
METHOD:PUBLISH
X-WR-CALNAME:The Environmental Center
X-ORIGINAL-URL:https://envirocenter.org
X-WR-CALDESC:Events for The Environmental Center
REFRESH-INTERVAL;VALUE=DURATION:PT1H
X-Robots-Tag:noindex
X-PUBLISHED-TTL:PT1H
BEGIN:VTIMEZONE
TZID:America/Los_Angeles
BEGIN:DAYLIGHT
TZOFFSETFROM:-0800
TZOFFSETTO:-0700
TZNAME:PDT
DTSTART:20190310T100000
END:DAYLIGHT
BEGIN:STANDARD
TZOFFSETFROM:-0700
TZOFFSETTO:-0800
TZNAME:PST
DTSTART:20191103T090000
END:STANDARD
BEGIN:DAYLIGHT
TZOFFSETFROM:-0800
TZOFFSETTO:-0700
TZNAME:PDT
DTSTART:20200308T100000
END:DAYLIGHT
BEGIN:STANDARD
TZOFFSETFROM:-0700
TZOFFSETTO:-0800
TZNAME:PST
DTSTART:20201101T090000
END:STANDARD
BEGIN:DAYLIGHT
TZOFFSETFROM:-0800
TZOFFSETTO:-0700
TZNAME:PDT
DTSTART:20210314T100000
END:DAYLIGHT
BEGIN:STANDARD
TZOFFSETFROM:-0700
TZOFFSETTO:-0800
TZNAME:PST
DTSTART:20211107T090000
END:STANDARD
END:VTIMEZONE
BEGIN:VEVENT
DTSTART;VALUE=DATE:20200615
DTEND;VALUE=DATE:20200616
DTSTAMP:20260419T071802
CREATED:20200611T221557Z
LAST-MODIFIED:20230503T201011Z
UID:10003313-1592245800-1592249400@envirocenter.org
SUMMARY:Environmental Justice Youth Art Debut
DESCRIPTION:Environmental Justice Pathways is featuring 4 young local artists who are leading the way in addressing environmental injustices using creative solutions to inspire positive change in their communities. These artists use storytelling\, photography\, and cinematography to imagine relevant and accessible solutions to environmental\, climate\, and racial justice. There will be an “open mic” style poetry slam at the end. All are welcome!
URL:https://envirocenter.org/event/environmental-justice-youth-art-debut/
LOCATION:Deschutes Brewery Public House\, 1044 NW Bond St\, Bend\, OR\, 97701\, United States
GEO:44.0593984;-121.3113079
X-APPLE-STRUCTURED-LOCATION;VALUE=URI;X-ADDRESS=Deschutes Brewery Public House 1044 NW Bond St Bend OR 97701 United States;X-APPLE-RADIUS=500;X-TITLE=1044 NW Bond St:geo:-121.3113079,44.0593984
END:VEVENT
BEGIN:VEVENT
DTSTART;VALUE=DATE:20200615
DTEND;VALUE=DATE:20200616
DTSTAMP:20260419T071802
CREATED:20200708T234647Z
LAST-MODIFIED:20230503T201027Z
UID:10001483-1592249400-1592254800@envirocenter.org
SUMMARY:Farmers Connecting with Other Farmers
DESCRIPTION:FoFF’s warmly invites producers to join their Virtual Farmer Chats\, July 13th and 27th from 7:30 to 9:00pm\, where they will continue to discuss Racial and Food Justice. FoFF’s creates a space for farmers to talk with each other about how we can dismantle the mechanisms that oppress our fellow farmers\, neighbors\, and friends. All farmers\, ranchers and farmworkers are welcome.
URL:https://envirocenter.org/event/farmers-connecting-with-other-farmers-2/
LOCATION:Deschutes Brewery Public House\, 1044 NW Bond St\, Bend\, OR\, 97701\, United States
GEO:44.0593984;-121.3113079
X-APPLE-STRUCTURED-LOCATION;VALUE=URI;X-ADDRESS=Deschutes Brewery Public House 1044 NW Bond St Bend OR 97701 United States;X-APPLE-RADIUS=500;X-TITLE=1044 NW Bond St:geo:-121.3113079,44.0593984
END:VEVENT
BEGIN:VEVENT
DTSTART;VALUE=DATE:20200616
DTEND;VALUE=DATE:20200617
DTSTAMP:20260419T071802
CREATED:20200603T052710Z
LAST-MODIFIED:20230503T201006Z
UID:10003307-1592290800-1592296200@envirocenter.org
SUMMARY:Toward Belonging Digital Dialogue with john powell\, Catherine Fieschi\, Mathieu Lefevre\, and Jeremy Perelman
DESCRIPTION:Beginning June 16\, Professor powell will be part of a series of monthly digital discussions called Toward Belonging. This first digital dialogue will feature a live conversation about the opportunities and threats to social inclusion and belonging in Europe and the US\, how COVID-19 is shaping new community responses and dynamics\, and where we can go better\, together.
URL:https://envirocenter.org/event/toward-belonging-digital-dialogue-with-john-powell-catherine-fieschi-mathieu-lefevre-and-jeremy-perelman/
LOCATION:Deschutes Brewery Public House\, 1044 NW Bond St\, Bend\, OR\, 97701\, United States
GEO:44.0593984;-121.3113079
X-APPLE-STRUCTURED-LOCATION;VALUE=URI;X-ADDRESS=Deschutes Brewery Public House 1044 NW Bond St Bend OR 97701 United States;X-APPLE-RADIUS=500;X-TITLE=1044 NW Bond St:geo:-121.3113079,44.0593984
END:VEVENT
BEGIN:VEVENT
DTSTART;VALUE=DATE:20200616
DTEND;VALUE=DATE:20200617
DTSTAMP:20260419T071802
CREATED:20200602T043828Z
LAST-MODIFIED:20230503T201005Z
UID:10003303-1592301600-1592305200@envirocenter.org
SUMMARY:Nature Journaling Workshop Series
DESCRIPTION:Nature Journaling Workshop Series: This series starts on June 2nd and continues on Tuesdays in June. \nNature journaling is the practice of drawing and writing in response to observations of nature. Enjoy a “conversation with nature” by slowing down to notice and record what you see in our natural surroundings. Due to the nature of this virtual class\, the instructor will bring various items from the natural world to a virtual classroom for viewing. With prompts and guidance from the instructor\, students will be able to draw what they see and write “field notes” about their accompanying thoughts and observations. This series is offered by OSU Extension in Washington County and taught by artist Elizabeth Higgins. Register today. Space is limited. \nContact for questions and requests for accessibility-related accomodations: Alice Phillips alice.phillips@oregonstate.edu
URL:https://envirocenter.org/event/nature-journaling-workshop-series-2020-06-02/
LOCATION:Deschutes Brewery Public House\, 1044 NW Bond St\, Bend\, OR\, 97701\, United States
GEO:44.0593984;-121.3113079
X-APPLE-STRUCTURED-LOCATION;VALUE=URI;X-ADDRESS=Deschutes Brewery Public House 1044 NW Bond St Bend OR 97701 United States;X-APPLE-RADIUS=500;X-TITLE=1044 NW Bond St:geo:-121.3113079,44.0593984
END:VEVENT
BEGIN:VEVENT
DTSTART;VALUE=DATE:20200616
DTEND;VALUE=DATE:20200617
DTSTAMP:20260419T071802
CREATED:20200610T003152Z
LAST-MODIFIED:20230503T201011Z
UID:10001487-1592323200-1592326800@envirocenter.org
SUMMARY:Ask a Pair of Experts: Environmental Policy
DESCRIPTION:Oregon Natural Desert Association’s Senior Attorney Mac Lacy and Program Director Mark Salvo will cover the history of ONDA’s legal work\, share thoughts on how Covid-19 might impact conservation policy\, and take your questions.
URL:https://envirocenter.org/event/ask-a-pair-of-experts-environmental-policy/
LOCATION:Deschutes Brewery Public House\, 1044 NW Bond St\, Bend\, OR\, 97701\, United States
GEO:44.0593984;-121.3113079
X-APPLE-STRUCTURED-LOCATION;VALUE=URI;X-ADDRESS=Deschutes Brewery Public House 1044 NW Bond St Bend OR 97701 United States;X-APPLE-RADIUS=500;X-TITLE=1044 NW Bond St:geo:-121.3113079,44.0593984
END:VEVENT
BEGIN:VEVENT
DTSTART;VALUE=DATE:20200617
DTEND;VALUE=DATE:20200618
DTSTAMP:20260419T071802
CREATED:20200616T011350Z
LAST-MODIFIED:20230503T201015Z
UID:10003320-1592388000-1592389800@envirocenter.org
SUMMARY:Cooking Matters Family Meal Workshops
DESCRIPTION:Cooking Matters is a nutrition and cooking course delivered virtually by OSU Extension Service Nutrition Educators. Learn how to plan and prepare healthy\, budget-friendly snacks and meals for your family. \nCooking Matters es un curso de nutrición y cocina impartido virtualmente por OSU Extension Service Nutrition Educators. Aprenda a planificar y preparar meriendas y comidas saludables y económicas para su familia.
URL:https://envirocenter.org/event/cooking-matters-family-meal-workshops/
LOCATION:Deschutes Brewery Public House\, 1044 NW Bond St\, Bend\, OR\, 97701\, United States
GEO:44.0593984;-121.3113079
X-APPLE-STRUCTURED-LOCATION;VALUE=URI;X-ADDRESS=Deschutes Brewery Public House 1044 NW Bond St Bend OR 97701 United States;X-APPLE-RADIUS=500;X-TITLE=1044 NW Bond St:geo:-121.3113079,44.0593984
END:VEVENT
BEGIN:VEVENT
DTSTART;VALUE=DATE:20200617
DTEND;VALUE=DATE:20200618
DTSTAMP:20260419T071802
CREATED:20200616T122646Z
LAST-MODIFIED:20230503T201015Z
UID:10001492-1592395200-1592400600@envirocenter.org
SUMMARY:Diversity and Bias Thinking Webinar
DESCRIPTION:What is implicit bias? Where does bias come from? Why do we believe the things we believe\, and how do we change as we grow? \nRegister for this important training and conversation\, led by Erika Preyer McCalpine\, an expert in equity and inclusion work\, co-founder of the Love Your Neighbor forums and OSU-Cascades Business Instructor and Degree Program Lead. \nErika will cover a wide range of topics\, including implicit bias\, the difference between equality/equity/justice\, and a review of academic studies on who is most impacted by bias.
URL:https://envirocenter.org/event/diversity-and-bias-thinking-webinar/
LOCATION:Deschutes Brewery Public House\, 1044 NW Bond St\, Bend\, OR\, 97701\, United States
GEO:44.0593984;-121.3113079
X-APPLE-STRUCTURED-LOCATION;VALUE=URI;X-ADDRESS=Deschutes Brewery Public House 1044 NW Bond St Bend OR 97701 United States;X-APPLE-RADIUS=500;X-TITLE=1044 NW Bond St:geo:-121.3113079,44.0593984
END:VEVENT
BEGIN:VEVENT
DTSTART;VALUE=DATE:20200617
DTEND;VALUE=DATE:20200618
DTSTAMP:20260419T071802
CREATED:20200616T092609Z
LAST-MODIFIED:20230503T201015Z
UID:10001491-1592416800-1592422200@envirocenter.org
SUMMARY:Systemic Racism in Outdoor and Urban Spaces. How Do We Move Forward?
DESCRIPTION:Where do we go from here? \nThe challenges that Black\, Indigenous\, and people of color face outdoors and in life are undeniable. For many of us\, reckoning with that means confronting some uncomfortable truths. Join Oregon Wild for a panel discussion on race\, the outdoors\, and more.
URL:https://envirocenter.org/event/systemic-racism-in-outdoor-and-urban-spaces-how-do-we-move-forward/
LOCATION:Deschutes Brewery Public House\, 1044 NW Bond St\, Bend\, OR\, 97701\, United States
GEO:44.0593984;-121.3113079
X-APPLE-STRUCTURED-LOCATION;VALUE=URI;X-ADDRESS=Deschutes Brewery Public House 1044 NW Bond St Bend OR 97701 United States;X-APPLE-RADIUS=500;X-TITLE=1044 NW Bond St:geo:-121.3113079,44.0593984
END:VEVENT
BEGIN:VEVENT
DTSTART;VALUE=DATE:20200618
DTEND;VALUE=DATE:20200619
DTSTAMP:20260419T071802
CREATED:20160803T235848Z
LAST-MODIFIED:20230503T200442Z
UID:10000778-1592500500-1592510400@envirocenter.org
SUMMARY:Bend COTA Work Events
DESCRIPTION:When:  Thursday Aug 11\, Tuesday Aug 16\, Tuesday Aug 23 and Tuesday Aug 30\, 5:15 to Dusk \nWhere:  Meet at the old Ray’s parking lot\, NE corner of Simpson Ave and Century Drive in Bend \nWorksite:  Varies \nThere’s only one thing better than mountain biking in Bend\, OR and that’s riding in Bend\, knowing that you helped build and maintain the trails you love. \nPlease bring a hydration pack with water and a snack. \nBe sure to bring appropriate layers to accommodate whatever the weather may be. \nQuestions?  contact@cotamtb.com \nAll COTA trail work events require the following safety measures: \nAll participants are required to have the following protective clothing and equipment: \n\nSturdy shoes or boots\nGloves\nEye protection with clear or light colored lens\nLong pants\n\nDue to COTA’s insurance requirements and the inherent dangers of trail work\, we must implement the following policy regarding children at work events: \n\nFor anyone 14 years of age or younger\, we require one parent\, guardian\, or responsible adult for supervision of every four kids attending any COTA trail work events.\nAll minors under the age of 18 must have a parent or guardian available to sign our waiver.\n\nAnyone who arrives for a work event may be turned away if he/she cannot meet the above requirements.
URL:https://envirocenter.org/event/bend-cota-work-events-2016-08-11/
LOCATION:Deschutes Brewery Public House\, 1044 NW Bond St\, Bend\, OR\, 97701\, United States
GEO:44.0593984;-121.3113079
X-APPLE-STRUCTURED-LOCATION;VALUE=URI;X-ADDRESS=Deschutes Brewery Public House 1044 NW Bond St Bend OR 97701 United States;X-APPLE-RADIUS=500;X-TITLE=1044 NW Bond St:geo:-121.3113079,44.0593984
END:VEVENT
BEGIN:VEVENT
DTSTART;VALUE=DATE:20200619
DTEND;VALUE=DATE:20200620
DTSTAMP:20260419T071802
CREATED:20200616T083512Z
LAST-MODIFIED:20230503T201015Z
UID:10001490-1592568000-1592586000@envirocenter.org
SUMMARY:JUNETEENTH PEACEFUL PROTEST
DESCRIPTION:Through all forms of adversity\, our communities organize in purpose\, power\, and action. Celebrate Juneteenth with Peaceful Protesting\, Music\, Peace\, Love and Joy! \nWhat is Juneteenth?
URL:https://envirocenter.org/event/juneteenth-peaceful-protest/
LOCATION:Deschutes Brewery Public House\, 1044 NW Bond St\, Bend\, OR\, 97701\, United States
GEO:44.0593984;-121.3113079
X-APPLE-STRUCTURED-LOCATION;VALUE=URI;X-ADDRESS=Deschutes Brewery Public House 1044 NW Bond St Bend OR 97701 United States;X-APPLE-RADIUS=500;X-TITLE=1044 NW Bond St:geo:-121.3113079,44.0593984
END:VEVENT
BEGIN:VEVENT
DTSTART;VALUE=DATE:20200619
DTEND;VALUE=DATE:20200620
DTSTAMP:20260419T071802
CREATED:20200616T123801Z
LAST-MODIFIED:20230503T201016Z
UID:10001493-1592586000-1592593200@envirocenter.org
SUMMARY:Take Back The Butte
DESCRIPTION:On June 19th African Americans will once again be celebrating the slaves being freed by Lincoln’s Emancipation Proclamation. Known as Juneteenth\, it is a time to celebrate our freedom as Americans. In honor of this day\, and in order to silent the ghosts of Bends past\, we will have a march and a ceremony to “Take the Butte Back” and claim it in the name of peace and equality.
URL:https://envirocenter.org/event/take-back-the-butte/
LOCATION:Deschutes Brewery Public House\, 1044 NW Bond St\, Bend\, OR\, 97701\, United States
GEO:44.0593984;-121.3113079
X-APPLE-STRUCTURED-LOCATION;VALUE=URI;X-ADDRESS=Deschutes Brewery Public House 1044 NW Bond St Bend OR 97701 United States;X-APPLE-RADIUS=500;X-TITLE=1044 NW Bond St:geo:-121.3113079,44.0593984
END:VEVENT
BEGIN:VEVENT
DTSTART;VALUE=DATE:20200620
DTEND;VALUE=DATE:20200621
DTSTAMP:20260419T071802
CREATED:20200610T030732Z
LAST-MODIFIED:20230503T201011Z
UID:10003312-1592658000-1592668800@envirocenter.org
SUMMARY:Black Lives Matter Rally - Prineville\, Oregon
DESCRIPTION:Join us on Saturday\, June 20th in Prineville for a Black Lives Matter event. This is a gathering for peace\, education\, friendship\, and Justice! We will spend time together as a community discussing the problems of brutality and white supremacy running nationwide through our law enforcement and education system. \nKeep in mind that this is a peaceful event. Do not incite violence or harm! Let’s set an example as a community.
URL:https://envirocenter.org/event/black-lives-matter-rally-prineville-oregon/
LOCATION:Deschutes Brewery Public House\, 1044 NW Bond St\, Bend\, OR\, 97701\, United States
GEO:44.0593984;-121.3113079
X-APPLE-STRUCTURED-LOCATION;VALUE=URI;X-ADDRESS=Deschutes Brewery Public House 1044 NW Bond St Bend OR 97701 United States;X-APPLE-RADIUS=500;X-TITLE=1044 NW Bond St:geo:-121.3113079,44.0593984
END:VEVENT
END:VCALENDAR