BEGIN:VCALENDAR
VERSION:2.0
PRODID:-//The Environmental Center - ECPv6.15.20//NONSGML v1.0//EN
CALSCALE:GREGORIAN
METHOD:PUBLISH
X-ORIGINAL-URL:https://envirocenter.org
X-WR-CALDESC:Events for The Environmental Center
REFRESH-INTERVAL;VALUE=DURATION:PT1H
X-Robots-Tag:noindex
X-PUBLISHED-TTL:PT1H
BEGIN:VTIMEZONE
TZID:America/Los_Angeles
BEGIN:DAYLIGHT
TZOFFSETFROM:-0800
TZOFFSETTO:-0700
TZNAME:PDT
DTSTART:20190310T100000
END:DAYLIGHT
BEGIN:STANDARD
TZOFFSETFROM:-0700
TZOFFSETTO:-0800
TZNAME:PST
DTSTART:20191103T090000
END:STANDARD
BEGIN:DAYLIGHT
TZOFFSETFROM:-0800
TZOFFSETTO:-0700
TZNAME:PDT
DTSTART:20200308T100000
END:DAYLIGHT
BEGIN:STANDARD
TZOFFSETFROM:-0700
TZOFFSETTO:-0800
TZNAME:PST
DTSTART:20201101T090000
END:STANDARD
BEGIN:DAYLIGHT
TZOFFSETFROM:-0800
TZOFFSETTO:-0700
TZNAME:PDT
DTSTART:20210314T100000
END:DAYLIGHT
BEGIN:STANDARD
TZOFFSETFROM:-0700
TZOFFSETTO:-0800
TZNAME:PST
DTSTART:20211107T090000
END:STANDARD
END:VTIMEZONE
BEGIN:VEVENT
DTSTART;VALUE=DATE:20200602
DTEND;VALUE=DATE:20200603
DTSTAMP:20260419T071827
CREATED:20200602T043828Z
LAST-MODIFIED:20230503T201005Z
UID:10003301-1591092000-1591095600@envirocenter.org
SUMMARY:Nature Journaling Workshop Series
DESCRIPTION:Nature Journaling Workshop Series: This series starts on June 2nd and continues on Tuesdays in June. \nNature journaling is the practice of drawing and writing in response to observations of nature. Enjoy a “conversation with nature” by slowing down to notice and record what you see in our natural surroundings. Due to the nature of this virtual class\, the instructor will bring various items from the natural world to a virtual classroom for viewing. With prompts and guidance from the instructor\, students will be able to draw what they see and write “field notes” about their accompanying thoughts and observations. This series is offered by OSU Extension in Washington County and taught by artist Elizabeth Higgins. Register today. Space is limited. \nContact for questions and requests for accessibility-related accomodations: Alice Phillips alice.phillips@oregonstate.edu
URL:https://envirocenter.org/event/nature-journaling-workshop-series-2020-06-02/
LOCATION:Deschutes Brewery Public House\, 1044 NW Bond St\, Bend\, OR\, 97701\, United States
GEO:44.0593984;-121.3113079
X-APPLE-STRUCTURED-LOCATION;VALUE=URI;X-ADDRESS=Deschutes Brewery Public House 1044 NW Bond St Bend OR 97701 United States;X-APPLE-RADIUS=500;X-TITLE=1044 NW Bond St:geo:-121.3113079,44.0593984
END:VEVENT
BEGIN:VEVENT
DTSTART;VALUE=DATE:20200603
DTEND;VALUE=DATE:20200604
DTSTAMP:20260419T071827
CREATED:20200531T074112Z
LAST-MODIFIED:20230503T201005Z
UID:10003299-1591207200-1591210800@envirocenter.org
SUMMARY:Webcast: The Lost Sea Otters of Oregon
DESCRIPTION:What’s cute\, fuzzy\, an expert ‘rafter’ and that Oregon Wild is working hard to bring back to the state?\nSea otters! Featuring special guest Bob Bailey of The Elakha Alliance\, this webcast will explore the history of this iconic species\, efforts in Oregon to restore sea otters to their native coastal waters\, and what you can do to help advocate for their return. You won’t want to miss this event\, so be sure to reserve your spot today!
URL:https://envirocenter.org/event/webcast-the-lost-sea-otters-of-oregon/
LOCATION:Deschutes Brewery Public House\, 1044 NW Bond St\, Bend\, OR\, 97701\, United States
GEO:44.0593984;-121.3113079
X-APPLE-STRUCTURED-LOCATION;VALUE=URI;X-ADDRESS=Deschutes Brewery Public House 1044 NW Bond St Bend OR 97701 United States;X-APPLE-RADIUS=500;X-TITLE=1044 NW Bond St:geo:-121.3113079,44.0593984
END:VEVENT
BEGIN:VEVENT
DTSTART;VALUE=DATE:20200604
DTEND;VALUE=DATE:20200605
DTSTAMP:20260419T071827
CREATED:20160803T235848Z
LAST-MODIFIED:20230503T200442Z
UID:10000776-1591290900-1591300800@envirocenter.org
SUMMARY:Bend COTA Work Events
DESCRIPTION:When:  Thursday Aug 11\, Tuesday Aug 16\, Tuesday Aug 23 and Tuesday Aug 30\, 5:15 to Dusk \nWhere:  Meet at the old Ray’s parking lot\, NE corner of Simpson Ave and Century Drive in Bend \nWorksite:  Varies \nThere’s only one thing better than mountain biking in Bend\, OR and that’s riding in Bend\, knowing that you helped build and maintain the trails you love. \nPlease bring a hydration pack with water and a snack. \nBe sure to bring appropriate layers to accommodate whatever the weather may be. \nQuestions?  contact@cotamtb.com \nAll COTA trail work events require the following safety measures: \nAll participants are required to have the following protective clothing and equipment: \n\nSturdy shoes or boots\nGloves\nEye protection with clear or light colored lens\nLong pants\n\nDue to COTA’s insurance requirements and the inherent dangers of trail work\, we must implement the following policy regarding children at work events: \n\nFor anyone 14 years of age or younger\, we require one parent\, guardian\, or responsible adult for supervision of every four kids attending any COTA trail work events.\nAll minors under the age of 18 must have a parent or guardian available to sign our waiver.\n\nAnyone who arrives for a work event may be turned away if he/she cannot meet the above requirements.
URL:https://envirocenter.org/event/bend-cota-work-events-2016-08-11/
LOCATION:Deschutes Brewery Public House\, 1044 NW Bond St\, Bend\, OR\, 97701\, United States
GEO:44.0593984;-121.3113079
X-APPLE-STRUCTURED-LOCATION;VALUE=URI;X-ADDRESS=Deschutes Brewery Public House 1044 NW Bond St Bend OR 97701 United States;X-APPLE-RADIUS=500;X-TITLE=1044 NW Bond St:geo:-121.3113079,44.0593984
END:VEVENT
BEGIN:VEVENT
DTSTART;VALUE=DATE:20200606
DTEND;VALUE=DATE:20200607
DTSTAMP:20260419T071827
CREATED:20200606T023107Z
LAST-MODIFIED:20230503T201010Z
UID:10001480-1591452000-1591462800@envirocenter.org
SUMMARY:Justice for George Floyd Peaceful Gathering
DESCRIPTION:Join a peaceful gathering on behalf of George Floyd and the Black Lives Matter movement protesting the social injustices that have plagued our country\, and to raise awareness for the countless lives that have been lost due to the negligence and blatant discrimination by Police of Black Americans. This will be a PEACEFUL GATHERING\, rioters and anybody who decides to cause problems otherwise are very unwelcome. \nPublic speaking by Riccardo Waites\, founder of Central Oregon Black Leaders Assembly. \nMeet at Centennial Park and move protest to Downtown Redmond around the corners of SW 6th St and SW Evergreen Ave. \nAgain\, this is a PEACEFUL gathering to raise awareness of the blatant injustices that have plagued our country.
URL:https://envirocenter.org/event/justice-for-george-floyd-peaceful-gathering-protest/
LOCATION:Deschutes Brewery Public House\, 1044 NW Bond St\, Bend\, OR\, 97701\, United States
GEO:44.0593984;-121.3113079
X-APPLE-STRUCTURED-LOCATION;VALUE=URI;X-ADDRESS=Deschutes Brewery Public House 1044 NW Bond St Bend OR 97701 United States;X-APPLE-RADIUS=500;X-TITLE=1044 NW Bond St:geo:-121.3113079,44.0593984
END:VEVENT
BEGIN:VEVENT
DTSTART;VALUE=DATE:20200606
DTEND;VALUE=DATE:20200607
DTSTAMP:20260419T071827
CREATED:20200606T023532Z
LAST-MODIFIED:20230503T201010Z
UID:10001481-1591452000-1591462800@envirocenter.org
SUMMARY:Bend Walk For Justice
DESCRIPTION:Show up for peaceful demonstration against the violence\, death\, racial discrimination and social injustice of black men\, women and children. \nWalk the whole route or meet at one of the waypoints below. \n2:00pm – Meet at Farewell Bend Park near Bill Healy Bridge\n2:30pm – Start walk\n2:45pm-3:00pm – Pass by REI/Old Mill\n2:55pm-3:10pm – Walk through the Box Factory (down Arizona to Bond)\n3:10pm-3:25pm – Pass by McMennamins\n3:20pm-3:35pm – Arrive at Courthouse\n3:40pm – Speakers\n5:00pm – Vigil at Troy Field
URL:https://envirocenter.org/event/bend-walk-for-justice/
LOCATION:Deschutes Brewery Public House\, 1044 NW Bond St\, Bend\, OR\, 97701\, United States
GEO:44.0593984;-121.3113079
X-APPLE-STRUCTURED-LOCATION;VALUE=URI;X-ADDRESS=Deschutes Brewery Public House 1044 NW Bond St Bend OR 97701 United States;X-APPLE-RADIUS=500;X-TITLE=1044 NW Bond St:geo:-121.3113079,44.0593984
END:VEVENT
BEGIN:VEVENT
DTSTART;VALUE=DATE:20200606
DTEND;VALUE=DATE:20200607
DTSTAMP:20260419T071827
CREATED:20200606T133708Z
LAST-MODIFIED:20230503T201010Z
UID:10001485-1591462800-1591470000@envirocenter.org
SUMMARY:Madras Vigil for George Floyd
DESCRIPTION:Peaceful gathering in Madras\, Oregon to honor George Floyd and stand for justice for #BLM. \nWhere: 222 NW 4th St \n 
URL:https://envirocenter.org/event/madras-vigil-for-george-floyd/
LOCATION:Deschutes Brewery Public House\, 1044 NW Bond St\, Bend\, OR\, 97701\, United States
GEO:44.0593984;-121.3113079
X-APPLE-STRUCTURED-LOCATION;VALUE=URI;X-ADDRESS=Deschutes Brewery Public House 1044 NW Bond St Bend OR 97701 United States;X-APPLE-RADIUS=500;X-TITLE=1044 NW Bond St:geo:-121.3113079,44.0593984
END:VEVENT
BEGIN:VEVENT
DTSTART;VALUE=DATE:20200606
DTEND;VALUE=DATE:20200607
DTSTAMP:20260419T071827
CREATED:20200606T021642Z
LAST-MODIFIED:20230503T201009Z
UID:10001478-1591462800-1591473600@envirocenter.org
SUMMARY:Black Lives Matter Community Vigil
DESCRIPTION:Please join us to remember and honor every person of color who has lost their lives at the hands of brutality. This will be an evening of community and coming together in peace for all of Central Oregon. \nSocial distancing guidelines and masks are recommended throughout the event. \nPlease bring any candles\, signs and pictures. That you would like for the evening. \nKeep in mind that this is a peaceful event. Do not incite violence or harm! Let’s set an example as a community.
URL:https://envirocenter.org/event/black-lives-matter-national-vigil/
LOCATION:Deschutes Brewery Public House\, 1044 NW Bond St\, Bend\, OR\, 97701\, United States
GEO:44.0593984;-121.3113079
X-APPLE-STRUCTURED-LOCATION;VALUE=URI;X-ADDRESS=Deschutes Brewery Public House 1044 NW Bond St Bend OR 97701 United States;X-APPLE-RADIUS=500;X-TITLE=1044 NW Bond St:geo:-121.3113079,44.0593984
END:VEVENT
END:VCALENDAR