BEGIN:VCALENDAR
VERSION:2.0
PRODID:-//The Environmental Center - ECPv6.15.20//NONSGML v1.0//EN
CALSCALE:GREGORIAN
METHOD:PUBLISH
X-WR-CALNAME:The Environmental Center
X-ORIGINAL-URL:https://envirocenter.org
X-WR-CALDESC:Events for The Environmental Center
REFRESH-INTERVAL;VALUE=DURATION:PT1H
X-Robots-Tag:noindex
X-PUBLISHED-TTL:PT1H
BEGIN:VTIMEZONE
TZID:America/Los_Angeles
BEGIN:DAYLIGHT
TZOFFSETFROM:-0800
TZOFFSETTO:-0700
TZNAME:PDT
DTSTART:20190310T100000
END:DAYLIGHT
BEGIN:STANDARD
TZOFFSETFROM:-0700
TZOFFSETTO:-0800
TZNAME:PST
DTSTART:20191103T090000
END:STANDARD
BEGIN:DAYLIGHT
TZOFFSETFROM:-0800
TZOFFSETTO:-0700
TZNAME:PDT
DTSTART:20200308T100000
END:DAYLIGHT
BEGIN:STANDARD
TZOFFSETFROM:-0700
TZOFFSETTO:-0800
TZNAME:PST
DTSTART:20201101T090000
END:STANDARD
BEGIN:DAYLIGHT
TZOFFSETFROM:-0800
TZOFFSETTO:-0700
TZNAME:PDT
DTSTART:20210314T100000
END:DAYLIGHT
BEGIN:STANDARD
TZOFFSETFROM:-0700
TZOFFSETTO:-0800
TZNAME:PST
DTSTART:20211107T090000
END:STANDARD
END:VTIMEZONE
BEGIN:VEVENT
DTSTART;VALUE=DATE:20200415
DTEND;VALUE=DATE:20200516
DTSTAMP:20260419T085536
CREATED:20200401T015556Z
LAST-MODIFIED:20230503T200954Z
UID:10003279-1586908800-1589587199@envirocenter.org
SUMMARY:Youth Climate Ecochallenge: A Drawdown Solutions Race!
DESCRIPTION:TEC would like to share an online educational opportunity – the Youth Climate Ecochallenge: A Drawdown Solutions Race. The challenge is presented by PAE and Ecochallenge.org and sponsored by the Oregon Department of Environmental Quality. The challenge focuses on top solutions to reverse climate change. It features online learning and research\, civic engagement\, and community building for youth and their community. The challenge runs April 15th – May 15th. \nThe actions in the challenge connect to solutions highlighted in Drawdown\, a project that maps\, measures\, models\, and describes solutions to global warming that already exist. Participants track and share their progress in the Ecochallenge platform\, earn points for taking action\, and see the real-time impact of their actions. The combination of collective action\, community-building\, and friendly competition makes change a little easier — and a lot more fun.
URL:https://envirocenter.org/event/youth-climate-ecochallenge-a-drawdown-solutions-race-2020-04-15/
LOCATION:Deschutes Brewery Public House\, 1044 NW Bond St\, Bend\, OR\, 97701\, United States
GEO:44.0593984;-121.3113079
X-APPLE-STRUCTURED-LOCATION;VALUE=URI;X-ADDRESS=Deschutes Brewery Public House 1044 NW Bond St Bend OR 97701 United States;X-APPLE-RADIUS=500;X-TITLE=1044 NW Bond St:geo:-121.3113079,44.0593984
END:VEVENT
BEGIN:VEVENT
DTSTART;VALUE=DATE:20200419
DTEND;VALUE=DATE:20200420
DTSTAMP:20260419T085536
CREATED:20200324T021630Z
LAST-MODIFIED:20230503T200954Z
UID:10001442-1587254400-1587340799@envirocenter.org
SUMMARY:VIRTUAL– Bend Marathon2020
DESCRIPTION:The Bend Marathon 2020 race website offers 3 options for your continued participation in this still-fun\, now virtual event\, their refund policy\, swag distribution\, and how to post/compare your run results on Strava Community Challenge. The details of how Sierra Club will participate in Virtual Bend Marathon 2020 are still taking shape. This year’s theme = Sustainability. Please take care to ensure your run will be waste-free.
URL:https://envirocenter.org/event/virtual-bend-marathon2020/
LOCATION:Deschutes Brewery Public House\, 1044 NW Bond St\, Bend\, OR\, 97701\, United States
GEO:44.0593984;-121.3113079
X-APPLE-STRUCTURED-LOCATION;VALUE=URI;X-ADDRESS=Deschutes Brewery Public House 1044 NW Bond St Bend OR 97701 United States;X-APPLE-RADIUS=500;X-TITLE=1044 NW Bond St:geo:-121.3113079,44.0593984
END:VEVENT
BEGIN:VEVENT
DTSTART;VALUE=DATE:20200421
DTEND;VALUE=DATE:20200425
DTSTAMP:20260419T085536
CREATED:20200415T021122Z
LAST-MODIFIED:20230503T200959Z
UID:10001443-1587427200-1587772799@envirocenter.org
SUMMARY:April Digital Climate Strike
DESCRIPTION:The Central Oregon Climate Strike will happen over the course of April 21 to April 24. As folks cannot perform a traditional strike under the given circumstances we will be using social media to promote climate activism and earth appreciation. If you’d like to support please follow @co_youthclimatestrike on instagram and stay tuned for more details to follow. \nThe strike is being run from home by high school students Kira Gilbert\, GG Johnson\, Sydney Dedrick\, and Freddy Finney-Jordet along with support from local organizations. Their goal is to demand that our representatives take meaningful legislative action to combat climate change and bring light to the urgency of the climate crisis. In order to make this event happen\, they need your help by participating and spreading the word. The more people we can involve the better.  If you or anyone else you know is interested in speaking please reach out to @co_youthclimatestrike on instagram. \nSee the below schedule for more details: \nTues. 4/21 \n\n\nSocial media Q+A for the speakers videos/ instagram live on @co_youthclimatestrike \n\n\nSign making inspiration on @co_youthclimatestrike \n\n\nWed. 4/22 \n\n\nDigital strike \n\n\nOption 1: Email a photo of yourself holding a climate change related protest sign to sydneydedrick@gmail.com and indicate whether you give me permission to post that photo on the central Oregon youth climate strike Instagram page (@co_youthclimatestrike) \n\n\nOption 2: post a picture of yourself holding a climate change related protest sign using the hashtag #coyouthclimatestrike2020 and tag @co_youthclimatestrike and we’ll share it on the climate strike Instagram \n\n\nWear green in your photo if possible! \n\n\nSpeakers– instagram live or recorded videos will be playing throughout the day on @co_youthclimatestrike \n\n\nThurs. 4/23 \n\n\nEmail or call government representatives to demand for more climate action \n\n\nSuggested templates will be distributed  through @co_youthclimatestrike and in emails upon request but are not required \n\n\nFri. 4/24 \n\n\nCreative day: make a piece of writing\, art\, photography\, poetry\, etc. to show your appreciation of our planet and submit it to @co_youthclimatestrike on Instagram or email it to sydneydedrick@gmail.com and indicate if you give us permission to share it on the strike Instagram page. \n\n\nraffle for submissions
URL:https://envirocenter.org/event/22015/
LOCATION:Deschutes Brewery Public House\, 1044 NW Bond St\, Bend\, OR\, 97701\, United States
GEO:44.0593984;-121.3113079
X-APPLE-STRUCTURED-LOCATION;VALUE=URI;X-ADDRESS=Deschutes Brewery Public House 1044 NW Bond St Bend OR 97701 United States;X-APPLE-RADIUS=500;X-TITLE=1044 NW Bond St:geo:-121.3113079,44.0593984
END:VEVENT
BEGIN:VEVENT
DTSTART;VALUE=DATE:20200421
DTEND;VALUE=DATE:20200422
DTSTAMP:20260419T085536
CREATED:20200407T042845Z
LAST-MODIFIED:20230503T200955Z
UID:10003281-1587495600-1587499200@envirocenter.org
SUMMARY:Hart\, Sheldon and the Land Between
DESCRIPTION:This three-part series will take you on a tour of the spectacular highlights of Oregon’s high desert and connect you with timely conservation opportunities in these areas. \nThe Greater Hart-Sheldon Region includes Hart Mountain and several million acres of the surrounding public lands. The region boasts huge blocks of extensively connected wilderness-quality lands that support the region’s rich wildlife populations. Learn more about the abundant conservation and recreation opportunities in this vast area. \n  \n 
URL:https://envirocenter.org/event/hart-sheldon-and-the-land-between/
LOCATION:Deschutes Brewery Public House\, 1044 NW Bond St\, Bend\, OR\, 97701\, United States
GEO:44.0593984;-121.3113079
X-APPLE-STRUCTURED-LOCATION;VALUE=URI;X-ADDRESS=Deschutes Brewery Public House 1044 NW Bond St Bend OR 97701 United States;X-APPLE-RADIUS=500;X-TITLE=1044 NW Bond St:geo:-121.3113079,44.0593984
END:VEVENT
BEGIN:VEVENT
DTSTART;VALUE=DATE:20200422
DTEND;VALUE=DATE:20200423
DTSTAMP:20260419T085536
CREATED:20200422T103312Z
LAST-MODIFIED:20230503T201000Z
UID:10001465-1587513600-1587574800@envirocenter.org
SUMMARY:Sounds from the Wetlands on KPOV
DESCRIPTION:High Desert Community Radio KPOV 88.9 FM\nWednesday\, April 22\, 12 am to 8 am and 1 pm to 5 pm \nThe Wetland Project is a multipart\, multidisciplinary study of an environmental soundscape. The inspiration lies in a tiny bit of Earth and the sounds that emanate from it: the ṮEḴTEḴSEN marsh in unceded W̱SÁNEĆ territory\, Saturna Island\, British Columbia. The sonic phenomena produced by this little wetland — and by wetlands everywhere — tend toward infinity\, but sadly also toward extinction. Explore the complex beauty of the soundscape with the Wetland Project slow radio broadcast\, new media installation and musical performance.
URL:https://envirocenter.org/event/sounds-from-the-wetlands-on-kpov/
LOCATION:Deschutes Brewery Public House\, 1044 NW Bond St\, Bend\, OR\, 97701\, United States
GEO:44.0593984;-121.3113079
X-APPLE-STRUCTURED-LOCATION;VALUE=URI;X-ADDRESS=Deschutes Brewery Public House 1044 NW Bond St Bend OR 97701 United States;X-APPLE-RADIUS=500;X-TITLE=1044 NW Bond St:geo:-121.3113079,44.0593984
END:VEVENT
BEGIN:VEVENT
DTSTART;TZID=America/Los_Angeles:20200422T170000
DTEND;TZID=America/Los_Angeles:20200422T183000
DTSTAMP:20260419T085536
CREATED:20200416T163409Z
LAST-MODIFIED:20200416T163409Z
UID:10001460-1587574800-1587580200@envirocenter.org
SUMMARY:The Secret Life of Rivers
DESCRIPTION:The Coalition for the Deschutes and Deschutes Redbands Chapter of Trout Unlimited would like to invite you to join via Zoom for a presentation with the entertaining\, edifying\, and endearing aquatic ecologist\, Dr. Jerry Freilich. \nRivers are like eyeglasses. Glasses appear transparent and utterly simple\, yet the subtle curves of a lens are anything but simple. Likewise\, a river seems like a pipe where water enters the top\, runs down a channel\, and empties into the sea. What could be simpler? Actually\, the ecology of rivers is complex\, concealed\, eye-opening and will likely surprise you. This program by Dr. Jerry Freilich will explain how rivers work. How many organisms actually make up the riverine ecosystem? Where do they get their energy? And how many of them have you actually heard of? With awareness of riverine ecology\, you will understand why it is unrealistic to think of a river as pipe and why rivers are so important to the basins they drain. \nWhen: Wednesday\, April 22nd\, 5:00 – 6:30 pm\, including time for Q & A\nVia Zoom. Join the meeting here:\nhttps://zoom.us/j/93292932101?pwd=aXlaaVgzWWtwRFdFbThPenJwUlRwZz09 \nWho the heck is this Jerry guy?\nDr. Jerry Freilich is a native of Philadelphia. He worked at the Academy of Natural Sciences there beginning at age 11. He is an aquatic ecologist who spent 25 years working for the National Park Service in six parks nationwide. For the last 13 years he was Research Coordinator at Olympic National Park and recently retired to Bend. Jerry’s PhD work was a study of salmonflies at Grand Teton National Park. The work required individually tagging 3\,000 salmonfly nymphs with tiny numbered tags and following their movements about in the river. Although this gave him the microscopic-eye view of river ecology\, he warns not to try this at home.
URL:https://envirocenter.org/event/the-secret-life-of-rivers-2/
ATTACH;FMTTYPE=image/jpeg:https://envirocenter.org/wp-content/uploads/2020/04/Ryan-Ranch-wetland-1024x579.jpg
ORGANIZER;CN="Coalition for the Deschutes":MAILTO:info@coalitionforthedeschutes.org
END:VEVENT
BEGIN:VEVENT
DTSTART;VALUE=DATE:20200422
DTEND;VALUE=DATE:20200423
DTSTAMP:20260419T085536
CREATED:20200421T073534Z
LAST-MODIFIED:20230503T201000Z
UID:10001464-1587578400-1587582000@envirocenter.org
SUMMARY:This Land: Documentary Screening and Panel Discussion
DESCRIPTION:“Runner and advocate Faith E. Briggs used to run through the streets of Brooklyn every morning. Now\, she’s running 150 miles through three U.S. National Monuments that lay in the thick of the controversy around public lands. Accompanied by running companions who represent diverse perspectives in what it means to be a public land owner\, she assesses what is at stake if previously protected lands are reduced and if the public is largely unaware. THIS LAND is a story about land access told through a journey of inclusion and empowerment.” \nJoin Oregon Wilf for a screening of THIS LAND followed by a panel discussion featuring Ani Kame’enui\, Autumn Harry\, and José González\, moderated by Faith E. Briggs.
URL:https://envirocenter.org/event/this-land-documentary-screening-and-panel-discussion/
LOCATION:Deschutes Brewery Public House\, 1044 NW Bond St\, Bend\, OR\, 97701\, United States
GEO:44.0593984;-121.3113079
X-APPLE-STRUCTURED-LOCATION;VALUE=URI;X-ADDRESS=Deschutes Brewery Public House 1044 NW Bond St Bend OR 97701 United States;X-APPLE-RADIUS=500;X-TITLE=1044 NW Bond St:geo:-121.3113079,44.0593984
END:VEVENT
BEGIN:VEVENT
DTSTART;VALUE=DATE:20200422
DTEND;VALUE=DATE:20200423
DTSTAMP:20260419T085536
CREATED:20200417T113212Z
LAST-MODIFIED:20230503T200959Z
UID:10001462-1587578400-1587585600@envirocenter.org
SUMMARY:Live Music on Earth Day with Greg Botsford
DESCRIPTION:We’re excited to partner with Worthy Brewing to present live music on Earth Day! Tune in on April 22nd from 6-8pm for a livestream performance by Greg Botsford of G Bots and the Journeymen. For every Worthy six pack sold that day\, Worthy will donate $5 to to a relief fund that supports local musicians during this time.
URL:https://envirocenter.org/event/live-music-on-earth-day-with-greg-botsford/
LOCATION:Deschutes Brewery Public House\, 1044 NW Bond St\, Bend\, OR\, 97701\, United States
CATEGORIES:Earth Day
GEO:44.0593984;-121.3113079
X-APPLE-STRUCTURED-LOCATION;VALUE=URI;X-ADDRESS=Deschutes Brewery Public House 1044 NW Bond St Bend OR 97701 United States;X-APPLE-RADIUS=500;X-TITLE=1044 NW Bond St:geo:-121.3113079,44.0593984
END:VEVENT
BEGIN:VEVENT
DTSTART;VALUE=DATE:20200423
DTEND;VALUE=DATE:20200424
DTSTAMP:20260419T085536
CREATED:20200407T043051Z
LAST-MODIFIED:20230503T200955Z
UID:10003282-1587657600-1587661200@envirocenter.org
SUMMARY:The Wild Owyhee
DESCRIPTION:This three-part series will take you on a tour of the spectacular highlights of Oregon’s high desert and connect you with timely conservation opportunities in these areas. \nOregon’s Owyhee Canyonlands is one of the wildest places in the country. Follow along on an exploration of this incomparable region\, its awe-inspiring natural landscapes\, rich culture and history\, key wildlife habitats and recreation hubs. You’ll learn about timely conservation initiatives you can support to ensure that the Owyhee stays wild\, forever.
URL:https://envirocenter.org/event/the-wild-owyhee/
LOCATION:Deschutes Brewery Public House\, 1044 NW Bond St\, Bend\, OR\, 97701\, United States
GEO:44.0593984;-121.3113079
X-APPLE-STRUCTURED-LOCATION;VALUE=URI;X-ADDRESS=Deschutes Brewery Public House 1044 NW Bond St Bend OR 97701 United States;X-APPLE-RADIUS=500;X-TITLE=1044 NW Bond St:geo:-121.3113079,44.0593984
END:VEVENT
BEGIN:VEVENT
DTSTART;VALUE=DATE:20200423
DTEND;VALUE=DATE:20200424
DTSTAMP:20260419T085536
CREATED:20160803T235848Z
LAST-MODIFIED:20230503T200442Z
UID:10000770-1587662100-1587672000@envirocenter.org
SUMMARY:Bend COTA Work Events
DESCRIPTION:When:  Thursday Aug 11\, Tuesday Aug 16\, Tuesday Aug 23 and Tuesday Aug 30\, 5:15 to Dusk \nWhere:  Meet at the old Ray’s parking lot\, NE corner of Simpson Ave and Century Drive in Bend \nWorksite:  Varies \nThere’s only one thing better than mountain biking in Bend\, OR and that’s riding in Bend\, knowing that you helped build and maintain the trails you love. \nPlease bring a hydration pack with water and a snack. \nBe sure to bring appropriate layers to accommodate whatever the weather may be. \nQuestions?  contact@cotamtb.com \nAll COTA trail work events require the following safety measures: \nAll participants are required to have the following protective clothing and equipment: \n\nSturdy shoes or boots\nGloves\nEye protection with clear or light colored lens\nLong pants\n\nDue to COTA’s insurance requirements and the inherent dangers of trail work\, we must implement the following policy regarding children at work events: \n\nFor anyone 14 years of age or younger\, we require one parent\, guardian\, or responsible adult for supervision of every four kids attending any COTA trail work events.\nAll minors under the age of 18 must have a parent or guardian available to sign our waiver.\n\nAnyone who arrives for a work event may be turned away if he/she cannot meet the above requirements.
URL:https://envirocenter.org/event/bend-cota-work-events-2016-08-11/
LOCATION:Deschutes Brewery Public House\, 1044 NW Bond St\, Bend\, OR\, 97701\, United States
GEO:44.0593984;-121.3113079
X-APPLE-STRUCTURED-LOCATION;VALUE=URI;X-ADDRESS=Deschutes Brewery Public House 1044 NW Bond St Bend OR 97701 United States;X-APPLE-RADIUS=500;X-TITLE=1044 NW Bond St:geo:-121.3113079,44.0593984
END:VEVENT
BEGIN:VEVENT
DTSTART;VALUE=DATE:20200425
DTEND;VALUE=DATE:20200426
DTSTAMP:20260419T085536
CREATED:20200212T020832Z
LAST-MODIFIED:20230503T200947Z
UID:10001420-1587812400-1587826800@envirocenter.org
SUMMARY:CANCELLED - Earth Day Fair and Parade
DESCRIPTION:We will find a creative way to celebrate Earth Day and connect with one another in way that is safe and responsible\, given the situation. Please stay tuned for updates via our Earth Day Fair webpage. More info coming soon! \n 
URL:https://envirocenter.org/event/earth-day-fair-and-parade/
LOCATION:Deschutes Brewery Public House\, 1044 NW Bond St\, Bend\, OR\, 97701\, United States
CATEGORIES:Earth Day
GEO:44.0593984;-121.3113079
X-APPLE-STRUCTURED-LOCATION;VALUE=URI;X-ADDRESS=Deschutes Brewery Public House 1044 NW Bond St Bend OR 97701 United States;X-APPLE-RADIUS=500;X-TITLE=1044 NW Bond St:geo:-121.3113079,44.0593984
END:VEVENT
END:VCALENDAR