BEGIN:VCALENDAR
VERSION:2.0
PRODID:-//The Environmental Center - ECPv6.15.20//NONSGML v1.0//EN
CALSCALE:GREGORIAN
METHOD:PUBLISH
X-ORIGINAL-URL:https://envirocenter.org
X-WR-CALDESC:Events for The Environmental Center
REFRESH-INTERVAL;VALUE=DURATION:PT1H
X-Robots-Tag:noindex
X-PUBLISHED-TTL:PT1H
BEGIN:VTIMEZONE
TZID:America/Los_Angeles
BEGIN:DAYLIGHT
TZOFFSETFROM:-0800
TZOFFSETTO:-0700
TZNAME:PDT
DTSTART:20190310T100000
END:DAYLIGHT
BEGIN:STANDARD
TZOFFSETFROM:-0700
TZOFFSETTO:-0800
TZNAME:PST
DTSTART:20191103T090000
END:STANDARD
BEGIN:DAYLIGHT
TZOFFSETFROM:-0800
TZOFFSETTO:-0700
TZNAME:PDT
DTSTART:20200308T100000
END:DAYLIGHT
BEGIN:STANDARD
TZOFFSETFROM:-0700
TZOFFSETTO:-0800
TZNAME:PST
DTSTART:20201101T090000
END:STANDARD
BEGIN:DAYLIGHT
TZOFFSETFROM:-0800
TZOFFSETTO:-0700
TZNAME:PDT
DTSTART:20210314T100000
END:DAYLIGHT
BEGIN:STANDARD
TZOFFSETFROM:-0700
TZOFFSETTO:-0800
TZNAME:PST
DTSTART:20211107T090000
END:STANDARD
END:VTIMEZONE
BEGIN:VEVENT
DTSTART;VALUE=DATE:20200401
DTEND;VALUE=DATE:20200402
DTSTAMP:20260420T055513
CREATED:20200331T072443Z
LAST-MODIFIED:20230503T200954Z
UID:10003278-1585764000-1585767600@envirocenter.org
SUMMARY:Online Presentation: The Surprising\, Secret Life of Beavers
DESCRIPTION:The presentation will feature Danielle Moser\, Wildlife Program Coordinator for Oregon Wild\, who will give an update on beavers in Oregon. Moser will also discuss how reforming the policies and culture of agencies like the Oregon Department of Fish and Wildlife is integral to allowing keystone species like beavers to thrive on the landscape.
URL:https://envirocenter.org/event/online-presentation-the-surprising-secret-life-of-beavers/
LOCATION:Deschutes Brewery Public House\, 1044 NW Bond St\, Bend\, OR\, 97701\, United States
GEO:44.0593984;-121.3113079
X-APPLE-STRUCTURED-LOCATION;VALUE=URI;X-ADDRESS=Deschutes Brewery Public House 1044 NW Bond St Bend OR 97701 United States;X-APPLE-RADIUS=500;X-TITLE=1044 NW Bond St:geo:-121.3113079,44.0593984
END:VEVENT
BEGIN:VEVENT
DTSTART;VALUE=DATE:20200402
DTEND;VALUE=DATE:20200403
DTSTAMP:20260420T055513
CREATED:20160803T235848Z
LAST-MODIFIED:20230503T200442Z
UID:10000767-1585847700-1585857600@envirocenter.org
SUMMARY:Bend COTA Work Events
DESCRIPTION:When:  Thursday Aug 11\, Tuesday Aug 16\, Tuesday Aug 23 and Tuesday Aug 30\, 5:15 to Dusk \nWhere:  Meet at the old Ray’s parking lot\, NE corner of Simpson Ave and Century Drive in Bend \nWorksite:  Varies \nThere’s only one thing better than mountain biking in Bend\, OR and that’s riding in Bend\, knowing that you helped build and maintain the trails you love. \nPlease bring a hydration pack with water and a snack. \nBe sure to bring appropriate layers to accommodate whatever the weather may be. \nQuestions?  contact@cotamtb.com \nAll COTA trail work events require the following safety measures: \nAll participants are required to have the following protective clothing and equipment: \n\nSturdy shoes or boots\nGloves\nEye protection with clear or light colored lens\nLong pants\n\nDue to COTA’s insurance requirements and the inherent dangers of trail work\, we must implement the following policy regarding children at work events: \n\nFor anyone 14 years of age or younger\, we require one parent\, guardian\, or responsible adult for supervision of every four kids attending any COTA trail work events.\nAll minors under the age of 18 must have a parent or guardian available to sign our waiver.\n\nAnyone who arrives for a work event may be turned away if he/she cannot meet the above requirements.
URL:https://envirocenter.org/event/bend-cota-work-events-2016-08-11/
LOCATION:Deschutes Brewery Public House\, 1044 NW Bond St\, Bend\, OR\, 97701\, United States
GEO:44.0593984;-121.3113079
X-APPLE-STRUCTURED-LOCATION;VALUE=URI;X-ADDRESS=Deschutes Brewery Public House 1044 NW Bond St Bend OR 97701 United States;X-APPLE-RADIUS=500;X-TITLE=1044 NW Bond St:geo:-121.3113079,44.0593984
END:VEVENT
BEGIN:VEVENT
DTSTART;VALUE=DATE:20200403
DTEND;VALUE=DATE:20200404
DTSTAMP:20260420T055513
CREATED:20200310T014452Z
LAST-MODIFIED:20230503T200953Z
UID:10001437-1585931400-1585938600@envirocenter.org
SUMMARY:Postponed: Central Oregon Outdoor School Community Network Gathering
DESCRIPTION:Aninformal gathering of people who love Outdoor School. Connect with one another\, look to the future of Outdoor School\, and explore opportunities to help support Outdoor School in Central Oregon. \nNo matter your skill set\, time availability\, or experience level\, there are opportunities for you to publicly express you commitment to and belief in the benefits of this amazing program and transformative experience for students. Let’s explore some of the challenges local Outdoor Schools have and work together to solve issues and achieve our shared vision: that EVERY student in Oregon attends a week of Outdoor School! Come celebrate and learn how you might choose to be involved.
URL:https://envirocenter.org/event/central-oregon-outdoor-school-community-network-gathering/
LOCATION:Deschutes Brewery Public House\, 1044 NW Bond St\, Bend\, OR\, 97701\, United States
CATEGORIES:Youth Education
GEO:44.0593984;-121.3113079
X-APPLE-STRUCTURED-LOCATION;VALUE=URI;X-ADDRESS=Deschutes Brewery Public House 1044 NW Bond St Bend OR 97701 United States;X-APPLE-RADIUS=500;X-TITLE=1044 NW Bond St:geo:-121.3113079,44.0593984
END:VEVENT
BEGIN:VEVENT
DTSTART;VALUE=DATE:20200403
DTEND;VALUE=DATE:20200404
DTSTAMP:20260420T055513
CREATED:20200303T065834Z
LAST-MODIFIED:20230503T200949Z
UID:10003269-1585933200-1585947600@envirocenter.org
SUMMARY:Postponed: The Bend ReStore Upcycle Festival
DESCRIPTION:*”*UPDATE: In order to keep our community healthy and protected from the spread of the COVID-19 virus\, Bend ReStore has decided to postpone The Upcycle Festival. \nThe Bend Habitat ReStore is kicking off Earth Month with their Bend ReStore Upcycle Festival and they are looking for artists to help Bend rethink waste and get inspired by trashformation. From fun to funky\, wild to weird\, make some art for the Earth! \nReady to create? There are THREE cool ways to participate: \n#1 THE UPCYCLE POP UP ART SHOW\nFIRST FRIDAY\, APRIL 3RD\nJoin us for a celebration of creative upcycling. Our fun pop up will feature your wall art and a selection of local craft beer. \nHow it works: \n\nOnly a limited number of pieces can be accommodated\, committee will select.\nContact Heather Laurie at hnlaurie@gmail.com to inquire!\nArt can be up to 3’x3′ in size\nMust hang on a wall\nCreate your piece from at least 90% recycled\, reused\, found\, leftover\, and/or trash materials\nRetain ownership of your art after the show (or donate it to raise funds for Habitat!)\nFinal art is due 9 am\, March 31st @ ReStore of Bend\n\n#2 THE FLIP!\nTHE UPCYCLE FESTIVAL\, APRIL 4TH @RESTORE OF BEND\nThis year\, The FLIP! is transforming into an open showcase of functional art of all types (furniture\, tools\, containers\, lighting\, or any aesthetic object that serves a utilitarian purpose). \nHow it works: \n\nContact Sophie Paez at upcycle@brhabitat.org to hold your space!\nYou get $25 to spend on cool stuff at Bend ReStore\nCreate your functional art piece from at least 90% recycled\, reused\, found\, leftover\, and/or trash materials\nWe’ll stage your piece inside ReStore for festival attendees to enjoy\nAll FLIP! art will compete for awards\nAll art is donated to Bend-Redmond Habitat for Humanity\nSelected stand-out weatherproof pieces will join ReStore’s traveling art exhibit at Bend locations during Earth Month\, including an Artist Reception at Worthy Brewing on April 18th and The Environmental Center’s Earth Day celebration on April 25th\nFinal art is due 9am\, April 4th @ ReStore of Bend\n\n#3 TRASHFORMATIONS\nTHE UPCYCLE FESTIVAL\, APRIL 4TH @RESTORE OF BEND\nA beloved annual Bend tradition (formerly at Pakit)\, Trashformations is a one day onsite conceptual incident and art construction event. Test your spontaneous creativity\, apply your basic hands-on art construction skills\, support affordable housing\, keep unwanted castoffs out of the landfill\, AND spend the time communing with other equally daring artists. \nHow it works: \n\nContact Lloyd McMullen at art.castaways@gmail.com to hold your space!\nThe Challenge: Create a finished piece of art working with items found at ReStore\nArtists and artist teams assemble at ReStore on the morning of April 4 to claim a provided working space\, mine the mother lode of treasures on-site\, and create their masterpieces from 10 am to 4 pm\nParticipants provide their own tools and are welcome to bring trash-treasures to use and share\nAll art is donated to Bend-Redmond Habitat for Humanity\n\nTHANK YOU FOR HELPING US MAKE THE UPCYCLE FESTIVAL A CREATIVE COMMUNITY EVENTndnn
URL:https://envirocenter.org/event/the-bend-restore-upcycle-festival/
LOCATION:Deschutes Brewery Public House\, 1044 NW Bond St\, Bend\, OR\, 97701\, United States
CATEGORIES:Rethink Waste
GEO:44.0593984;-121.3113079
X-APPLE-STRUCTURED-LOCATION;VALUE=URI;X-ADDRESS=Deschutes Brewery Public House 1044 NW Bond St Bend OR 97701 United States;X-APPLE-RADIUS=500;X-TITLE=1044 NW Bond St:geo:-121.3113079,44.0593984
END:VEVENT
BEGIN:VEVENT
DTSTART;VALUE=DATE:20200404
DTEND;VALUE=DATE:20200405
DTSTAMP:20260420T055513
CREATED:20200303T070106Z
LAST-MODIFIED:20230503T200949Z
UID:10003270-1585994400-1586016000@envirocenter.org
SUMMARY:Postponed: The Bend ReStore Upcycle Festival
DESCRIPTION:“*UPDATE: In order to keep our community healthy and protected from the spread of the COVID-19 virus\, Bend ReStore has decided to postpone The Upcycle Festival. \nThe Bend Habitat ReStore is kicking off Earth Month with their Bend ReStore Upcycle Festival and they are looking for artists to help Bend rethink waste and get inspired by trashformation. From fun to funky\, wild to weird\, make some art for the Earth! \nReady to create? There are THREE cool ways to participate: \n#1 THE UPCYCLE POP UP ART SHOW\nFIRST FRIDAY\, APRIL 3RD\nJoin us for a celebration of creative upcycling. Our fun pop up will feature your wall art and a selection of local craft beer. \nHow it works: \n\nOnly a limited number of pieces can be accommodated\, committee will select.\nContact Heather Laurie at hnlaurie@gmail.com to inquire!\nArt can be up to 3’x3′ in size\nMust hang on a wall\nCreate your piece from at least 90% recycled\, reused\, found\, leftover\, and/or trash materials\nRetain ownership of your art after the show (or donate it to raise funds for Habitat!)\nFinal art is due 9 am\, March 31st @ ReStore of Bend\n\n#2 THE FLIP!\nTHE UPCYCLE FESTIVAL\, APRIL 4TH @RESTORE OF BEND\nThis year\, The FLIP! is transforming into an open showcase of functional art of all types (furniture\, tools\, containers\, lighting\, or any aesthetic object that serves a utilitarian purpose). \nHow it works: \n\nContact Sophie Paez at upcycle@brhabitat.org to hold your space!\nYou get $25 to spend on cool stuff at Bend ReStore\nCreate your functional art piece from at least 90% recycled\, reused\, found\, leftover\, and/or trash materials\nWe’ll stage your piece inside ReStore for festival attendees to enjoy\nAll FLIP! art will compete for awards\nAll art is donated to Bend-Redmond Habitat for Humanity\nSelected stand-out weatherproof pieces will join ReStore’s traveling art exhibit at Bend locations during Earth Month\, including an Artist Reception at Worthy Brewing on April 18th and The Environmental Center’s Earth Day celebration on April 25th\nFinal art is due 9am\, April 4th @ ReStore of Bend\n\n#3 TRASHFORMATIONS\nTHE UPCYCLE FESTIVAL\, APRIL 4TH @RESTORE OF BEND\nA beloved annual Bend tradition (formerly at Pakit)\, Trashformations is a one day onsite conceptual incident and art construction event. Test your spontaneous creativity\, apply your basic hands-on art construction skills\, support affordable housing\, keep unwanted castoffs out of the landfill\, AND spend the time communing with other equally daring artists. \nHow it works: \n\nContact Lloyd McMullen at art.castaways@gmail.com to hold your space!\nThe Challenge: Create a finished piece of art working with items found at ReStore\nArtists and artist teams assemble at ReStore on the morning of April 4 to claim a provided working space\, mine the mother lode of treasures on-site\, and create their masterpieces from 10 am to 4 pm\nParticipants provide their own tools and are welcome to bring trash-treasures to use and share\nAll art is donated to Bend-Redmond Habitat for Humanity\n\nTHANK YOU FOR HELPING US MAKE THE UPCYCLE FESTIVAL A CREATIVE COMMUNITY EVENT!
URL:https://envirocenter.org/event/the-bend-restore-upcycle-festival-april-3-4th/
LOCATION:Deschutes Brewery Public House\, 1044 NW Bond St\, Bend\, OR\, 97701\, United States
CATEGORIES:Rethink Waste
GEO:44.0593984;-121.3113079
X-APPLE-STRUCTURED-LOCATION;VALUE=URI;X-ADDRESS=Deschutes Brewery Public House 1044 NW Bond St Bend OR 97701 United States;X-APPLE-RADIUS=500;X-TITLE=1044 NW Bond St:geo:-121.3113079,44.0593984
END:VEVENT
END:VCALENDAR