BEGIN:VCALENDAR
VERSION:2.0
PRODID:-//The Environmental Center - ECPv6.15.20//NONSGML v1.0//EN
CALSCALE:GREGORIAN
METHOD:PUBLISH
X-WR-CALNAME:The Environmental Center
X-ORIGINAL-URL:https://envirocenter.org
X-WR-CALDESC:Events for The Environmental Center
REFRESH-INTERVAL;VALUE=DURATION:PT1H
X-Robots-Tag:noindex
X-PUBLISHED-TTL:PT1H
BEGIN:VTIMEZONE
TZID:America/Los_Angeles
BEGIN:DAYLIGHT
TZOFFSETFROM:-0800
TZOFFSETTO:-0700
TZNAME:PDT
DTSTART:20180311T100000
END:DAYLIGHT
BEGIN:STANDARD
TZOFFSETFROM:-0700
TZOFFSETTO:-0800
TZNAME:PST
DTSTART:20181104T090000
END:STANDARD
BEGIN:DAYLIGHT
TZOFFSETFROM:-0800
TZOFFSETTO:-0700
TZNAME:PDT
DTSTART:20190310T100000
END:DAYLIGHT
BEGIN:STANDARD
TZOFFSETFROM:-0700
TZOFFSETTO:-0800
TZNAME:PST
DTSTART:20191103T090000
END:STANDARD
BEGIN:DAYLIGHT
TZOFFSETFROM:-0800
TZOFFSETTO:-0700
TZNAME:PDT
DTSTART:20200308T100000
END:DAYLIGHT
BEGIN:STANDARD
TZOFFSETFROM:-0700
TZOFFSETTO:-0800
TZNAME:PST
DTSTART:20201101T090000
END:STANDARD
END:VTIMEZONE
BEGIN:VEVENT
DTSTART;VALUE=DATE:20190407
DTEND;VALUE=DATE:20190408
DTSTAMP:20260422T222547
CREATED:20190219T111337Z
LAST-MODIFIED:20230503T200821Z
UID:10003111-1554627600-1554642000@envirocenter.org
SUMMARY:2019 Salmon Run
DESCRIPTION:Join us at the 31st Annual Salmon Run\nThe Environmental Center is the Salmon Run beneficiary!\nKick off the 2019 race season with a true Bend tradition. One of the first half marathons of the year in the Northwest\, it has long been central to the local racing scene. Because of its early-season timing\, it is also the quintessential race for runners looking to build a base for future races. \nEach year\, the mighty Salmon make an expedition of a lifetime back to their homes – traversing thousands of miles and overcoming countless obstacles on their river journeys. The Salmon juxtapose the infinite space of their ocean homes against the micro-streams of their birth in one monumental run. Their achievement is awesome in the true sense of the word. \nIn much the same way\, the Salmon Run is a “homecoming” to the countless number of runners who return year after year to run this beautiful course. The completion of this race is an achievement that is nothing short of awesome. \nChoose to race a 5K\, 10K\, Half Marathon. Learn more and sign up today: https://bendraces.com/salmon-run/ \nVOLUNTEERS NEEDED FOR THIS EVENT. Please help us out! Email Lauren if you’re interested. 
URL:https://envirocenter.org/event/2019-salmon-run/
LOCATION:Deschutes Brewery Public House\, 1044 NW Bond St\, Bend\, OR\, 97701\, United States
GEO:44.0593984;-121.3113079
X-APPLE-STRUCTURED-LOCATION;VALUE=URI;X-ADDRESS=Deschutes Brewery Public House 1044 NW Bond St Bend OR 97701 United States;X-APPLE-RADIUS=500;X-TITLE=1044 NW Bond St:geo:-121.3113079,44.0593984
END:VEVENT
BEGIN:VEVENT
DTSTART;VALUE=DATE:20190409
DTEND;VALUE=DATE:20190410
DTSTAMP:20260422T222547
CREATED:20190404T090110Z
LAST-MODIFIED:20230503T200836Z
UID:10003153-1554825600-1554831000@envirocenter.org
SUMMARY:Broadchats
DESCRIPTION:Join the Central Oregon Chapter of Great Old Broads for Wilderness at an upcoming broadchats!\nConversation and presentation about “ Climate Change and Deserts.” Please bring $5.00 to cover costs of snacks and drinks and off set rental space. Register here.  
URL:https://envirocenter.org/event/broadchats/
LOCATION:Deschutes Brewery Public House\, 1044 NW Bond St\, Bend\, OR\, 97701\, United States
CATEGORIES:Climate
GEO:44.0593984;-121.3113079
X-APPLE-STRUCTURED-LOCATION;VALUE=URI;X-ADDRESS=Deschutes Brewery Public House 1044 NW Bond St Bend OR 97701 United States;X-APPLE-RADIUS=500;X-TITLE=1044 NW Bond St:geo:-121.3113079,44.0593984
END:VEVENT
BEGIN:VEVENT
DTSTART;VALUE=DATE:20190409
DTEND;VALUE=DATE:20190410
DTSTAMP:20260422T222547
CREATED:20190309T024330Z
LAST-MODIFIED:20230503T200827Z
UID:10001303-1554834600-1554841800@envirocenter.org
SUMMARY:Survival Strategies for Desert Species
DESCRIPTION:The 2019 Bend High Desert Speaker Series wraps up on April 9 with a panel of experts discussing how high desert flora and fauna have adapted to survive in wetlands and other habitats in eastern Oregon. Hear from Ron Larson\, Dennis Albert and Steve Sheehy as they discuss the unique life of the high desert\, and the importance of conserving Oregon’s spectacular wild places so that these species can thrive\, now and always. \nDoors open at 6:00 p.m. and the presentation begins at 6:30 p.m. The presentation will be held in Worthy Brewing’s Hop Mahal room\, located in the far right corner of the main restaurant. You are welcome to have dinner and drinks in the restaurant prior to doors opening. This event is free and open to the public. Please note that space is limited and preregistration is required.
URL:https://envirocenter.org/event/survival-strategies-for-desert-species/
LOCATION:Deschutes Brewery Public House\, 1044 NW Bond St\, Bend\, OR\, 97701\, United States
GEO:44.0593984;-121.3113079
X-APPLE-STRUCTURED-LOCATION;VALUE=URI;X-ADDRESS=Deschutes Brewery Public House 1044 NW Bond St Bend OR 97701 United States;X-APPLE-RADIUS=500;X-TITLE=1044 NW Bond St:geo:-121.3113079,44.0593984
END:VEVENT
BEGIN:VEVENT
DTSTART;VALUE=DATE:20190411
DTEND;VALUE=DATE:20190412
DTSTAMP:20260422T222547
CREATED:20160803T235848Z
LAST-MODIFIED:20230503T200442Z
UID:10000716-1555002900-1555012800@envirocenter.org
SUMMARY:Bend COTA Work Events
DESCRIPTION:When:  Thursday Aug 11\, Tuesday Aug 16\, Tuesday Aug 23 and Tuesday Aug 30\, 5:15 to Dusk \nWhere:  Meet at the old Ray’s parking lot\, NE corner of Simpson Ave and Century Drive in Bend \nWorksite:  Varies \nThere’s only one thing better than mountain biking in Bend\, OR and that’s riding in Bend\, knowing that you helped build and maintain the trails you love. \nPlease bring a hydration pack with water and a snack. \nBe sure to bring appropriate layers to accommodate whatever the weather may be. \nQuestions?  contact@cotamtb.com \nAll COTA trail work events require the following safety measures: \nAll participants are required to have the following protective clothing and equipment: \n\nSturdy shoes or boots\nGloves\nEye protection with clear or light colored lens\nLong pants\n\nDue to COTA’s insurance requirements and the inherent dangers of trail work\, we must implement the following policy regarding children at work events: \n\nFor anyone 14 years of age or younger\, we require one parent\, guardian\, or responsible adult for supervision of every four kids attending any COTA trail work events.\nAll minors under the age of 18 must have a parent or guardian available to sign our waiver.\n\nAnyone who arrives for a work event may be turned away if he/she cannot meet the above requirements.
URL:https://envirocenter.org/event/bend-cota-work-events-2016-08-11/
LOCATION:Deschutes Brewery Public House\, 1044 NW Bond St\, Bend\, OR\, 97701\, United States
GEO:44.0593984;-121.3113079
X-APPLE-STRUCTURED-LOCATION;VALUE=URI;X-ADDRESS=Deschutes Brewery Public House 1044 NW Bond St Bend OR 97701 United States;X-APPLE-RADIUS=500;X-TITLE=1044 NW Bond St:geo:-121.3113079,44.0593984
END:VEVENT
BEGIN:VEVENT
DTSTART;VALUE=DATE:20190411
DTEND;VALUE=DATE:20190412
DTSTAMP:20260422T222547
CREATED:20190405T060935Z
LAST-MODIFIED:20230503T200837Z
UID:10001317-1555003800-1555009200@envirocenter.org
SUMMARY:Spring into Action: Home Hacks to Help Wildlife
DESCRIPTION:Join Think Wild for a free community workshop to learn about simple things you can do at home to help wildlife during the Spring. \nHabitat loss\, window collision\, and domestic pet attacks are just a few of the issues wildlife face during baby and migration season. It’s estimated that cats and windows kill about 3.5 billion birds annually in the U.S. \nThis workshop will provide practical hands on information you can use to mitigate these risks and make your property safer for wildlife. \nDoors open at 5:15 and speakers will begin at 5:30. Please plan to arrive a few minutes before 5:30 to grab a seat\, a snack\, and say hello. 
URL:https://envirocenter.org/event/spring-into-action-home-hacks-to-help-wildlife/
LOCATION:Deschutes Brewery Public House\, 1044 NW Bond St\, Bend\, OR\, 97701\, United States
GEO:44.0593984;-121.3113079
X-APPLE-STRUCTURED-LOCATION;VALUE=URI;X-ADDRESS=Deschutes Brewery Public House 1044 NW Bond St Bend OR 97701 United States;X-APPLE-RADIUS=500;X-TITLE=1044 NW Bond St:geo:-121.3113079,44.0593984
END:VEVENT
BEGIN:VEVENT
DTSTART;VALUE=DATE:20190411
DTEND;VALUE=DATE:20190412
DTSTAMP:20260422T222547
CREATED:20190409T234417Z
LAST-MODIFIED:20230503T200840Z
UID:10001321-1555009200-1555012800@envirocenter.org
SUMMARY:UP North Loop Talks
DESCRIPTION:Imagine walking out your front door one day in May and not coming back until early November\, covering more than 2\,600 miles on foot between those two days. \nThat’s just what Ras and Kathy Vaughn did last year when they embarked on a journey through the Pacific Northwest\, stitching together portions of several long trails in order to create one massive loop hike. \nRas and Kathy – also known as Team UltraPedestrian – were the first people to ground-truth a possible cross-country connection between the Idaho Centennial Trail and the Oregon Desert Trail\, a route which also includes extensive cross-country travel. With a bit of shimmying through canyons and a few twists and turns\, they made it work. \nThis adventurous thru-hiking duo will be presenting near you soon: \nUP North Loop Talks \n\nApril 11\, 7 p.m. | Footzone\, Bend\, OR\nApril 24\, 7 p.m. | Mountain Supply\, Bend\, OR\nMay 7\, 6 p.m. | Deschutes Public Library\, Downtown Bend\, OR
URL:https://envirocenter.org/event/up-north-loop-talks/
LOCATION:Deschutes Brewery Public House\, 1044 NW Bond St\, Bend\, OR\, 97701\, United States
GEO:44.0593984;-121.3113079
X-APPLE-STRUCTURED-LOCATION;VALUE=URI;X-ADDRESS=Deschutes Brewery Public House 1044 NW Bond St Bend OR 97701 United States;X-APPLE-RADIUS=500;X-TITLE=1044 NW Bond St:geo:-121.3113079,44.0593984
END:VEVENT
BEGIN:VEVENT
DTSTART;VALUE=DATE:20190412
DTEND;VALUE=DATE:20190413
DTSTAMP:20260422T222547
CREATED:20190321T032139Z
LAST-MODIFIED:20230503T200830Z
UID:10001308-1555063200-1555072200@envirocenter.org
SUMMARY:The Urgency Of Climate Change: Moving Towards A Green New World
DESCRIPTION:Climate Change 2020: Science and Policy Solutions\nFriday\, April 5th from 10am – 12:30pm \nFeatures Dr. John Perona\, JD\, Professor of Environmental Biochemistry\, Portland State University and Oregon Health Sciences University. \nHow Oregon and the Nation are Responding to Climate Change\nFriday\, April 12th from 10am – 12:30pm \nFeatures Dr. Gregory Dotson\, JD\, Assistant Professor of Law\, University of Oregon. Learn about Juliana v United States\, the landmark constitutional climate lawsuit\, featuring Coreal Riday-White\, JD\, Community Engagement Manager Our Children’s Trust. \nBoth programs are held at:\nTykeson Hall 111 (TYKH 111)\, OSU-Cascades – 1500 SW Chandler Ave\, Bend\, OR 97702 \nCheck-in begins at 9:15 a.m.; doors open at 9:30 a.m. Lectures and parking are free\, but advanced registration is required. Register today at osher.uoregon.edu/friday or call 800-824-2714. \nThese programs are offered to the public at no cost\, thanks to the Bernard Osher Foundation Capacity Grant to the University of Oregon.
URL:https://envirocenter.org/event/the-urgency-of-climate-change-moving-towards-a-green-new-world-2019-04-05/
LOCATION:Deschutes Brewery Public House\, 1044 NW Bond St\, Bend\, OR\, 97701\, United States
CATEGORIES:Climate
GEO:44.0593984;-121.3113079
X-APPLE-STRUCTURED-LOCATION;VALUE=URI;X-ADDRESS=Deschutes Brewery Public House 1044 NW Bond St Bend OR 97701 United States;X-APPLE-RADIUS=500;X-TITLE=1044 NW Bond St:geo:-121.3113079,44.0593984
END:VEVENT
BEGIN:VEVENT
DTSTART;VALUE=DATE:20190412
DTEND;VALUE=DATE:20190413
DTSTAMP:20260422T222547
CREATED:20190214T032927Z
LAST-MODIFIED:20230503T200820Z
UID:10001287-1555092000-1555099200@envirocenter.org
SUMMARY:2019 Furniture Flip & Festival
DESCRIPTION:Re-imagine a world of less waste and more creative homes with the 2019 Furniture Flip & Festival\, featuring the return of Trashformations!\nThe 5th Annual Furniture Flip Design Challenge\, sponsored by DIY Cave\, has returned to the Bend ReStore. This year\, the popular community event — during which creative Central Oregonians transform discarded furniture\, home accessories and/or building materials into something new and noteworthy — is expanding: Known as “Flip Festival 2019\,” it spans two weeks and includes a live construction event and artist demonstrations. \nThe Fest kicks off on Saturday\, April 6 with the rebirth of the beloved community event “Trashformations\,” originally held at Pak-it Liquidators. During this one-day marathon arts project\, local artists\, welders\, DIY’ers\, crafters and curious folks will gather at the Bend ReStore and convert leftover\, broken\, discarded or otherwise unloved items into one-of-a-kind sculptures\, artworks\, furniture and garden art. You’re invited to come watch the creativity unfold! \nOn Friday\, April 12\, the Furniture Flip and Trashformations masterpieces will be revealed and sold during a reception and awards event from 6-8 pm. \nOn Saturday\, April 13\, the Flip and Trashformations pieces will be on display and for sale (minus the items snapped up on Friday night) during regular ReStore hours (10 am-4 pm). From 11 am-3 pm\, a rotating line-up of local artists will offer inspiring and novice-friendly demonstrations for anyone interested in tackling their own upcycle projects. \nIn a world where TV design shows and internet shopping have all but eliminated any sense of individual personality from home improvement\, we could all use some inspiration! \nWhen you shop Flip Festival at the ReStore\, you support the arts\, the environment and families in our community. This year\, Bend Area Habitat for Humanity celebrates 30 years and the dedication of 128 homes for local families and individuals. \nEvent Schedule: \nSaturday\, April 6 from 10 am–4 pm: Trashformations Live Construction Event \nFriday\, April 12 from 6–8 pm: Furniture Flip Reception and Awards Show \nSaturday\, April 13: Furniture Flip and Trashformations Show (10 am-4 pm) \nArtist Demonstrations (11 am–3 pm)
URL:https://envirocenter.org/event/2019-furniture-flip-festival/
LOCATION:Deschutes Brewery Public House\, 1044 NW Bond St\, Bend\, OR\, 97701\, United States
CATEGORIES:Rethink Waste
GEO:44.0593984;-121.3113079
X-APPLE-STRUCTURED-LOCATION;VALUE=URI;X-ADDRESS=Deschutes Brewery Public House 1044 NW Bond St Bend OR 97701 United States;X-APPLE-RADIUS=500;X-TITLE=1044 NW Bond St:geo:-121.3113079,44.0593984
END:VEVENT
END:VCALENDAR