BEGIN:VCALENDAR
VERSION:2.0
PRODID:-//The Environmental Center - ECPv6.15.20//NONSGML v1.0//EN
CALSCALE:GREGORIAN
METHOD:PUBLISH
X-WR-CALNAME:The Environmental Center
X-ORIGINAL-URL:https://envirocenter.org
X-WR-CALDESC:Events for The Environmental Center
REFRESH-INTERVAL;VALUE=DURATION:PT1H
X-Robots-Tag:noindex
X-PUBLISHED-TTL:PT1H
BEGIN:VTIMEZONE
TZID:America/Los_Angeles
BEGIN:DAYLIGHT
TZOFFSETFROM:-0800
TZOFFSETTO:-0700
TZNAME:PDT
DTSTART:20180311T100000
END:DAYLIGHT
BEGIN:STANDARD
TZOFFSETFROM:-0700
TZOFFSETTO:-0800
TZNAME:PST
DTSTART:20181104T090000
END:STANDARD
BEGIN:DAYLIGHT
TZOFFSETFROM:-0800
TZOFFSETTO:-0700
TZNAME:PDT
DTSTART:20190310T100000
END:DAYLIGHT
BEGIN:STANDARD
TZOFFSETFROM:-0700
TZOFFSETTO:-0800
TZNAME:PST
DTSTART:20191103T090000
END:STANDARD
BEGIN:DAYLIGHT
TZOFFSETFROM:-0800
TZOFFSETTO:-0700
TZNAME:PDT
DTSTART:20200308T100000
END:DAYLIGHT
BEGIN:STANDARD
TZOFFSETFROM:-0700
TZOFFSETTO:-0800
TZNAME:PST
DTSTART:20201101T090000
END:STANDARD
END:VTIMEZONE
BEGIN:VEVENT
DTSTART;VALUE=DATE:20190319
DTEND;VALUE=DATE:20190320
DTSTAMP:20260422T174122
CREATED:20190302T011820Z
LAST-MODIFIED:20230503T200823Z
UID:10001294-1553018400-1553023800@envirocenter.org
SUMMARY:Worthy Garden Club Plant Swap
DESCRIPTION:Bring annuals\, perennials\, herbs\, houseplants\, bulbs\, seeds\, or even decorative pots to exchange with your Central Oregon gardening community. The more you bring\, the more you’ll take home! \nTickets: $10 if you have items to trade; $15 if you don’t. Kids 12 & under receive a $3 discount. \nTickets include one can of Worthy beer (or non-alcoholic beverage)\, 10% off your meal that evening\, AT LEAST two plants to bring home\, and a raffle ticket to win our door prize. Additional raffle tickets will be available for purchase during the event. \nBuy your ticket at Worthy Brewing pub. CASH OR CHECK ONLY. \nAll proceeds will be donated to one of our favorite local non-profits\, the Central Oregon Seed Exchange\, a valuable Deschutes County resource for purchasing\, trading\, exchanging\, sharing\, and saving seed.
URL:https://envirocenter.org/event/worthy-garden-club-plant-swap/
LOCATION:Deschutes Brewery Public House\, 1044 NW Bond St\, Bend\, OR\, 97701\, United States
CATEGORIES:Garden
GEO:44.0593984;-121.3113079
X-APPLE-STRUCTURED-LOCATION;VALUE=URI;X-ADDRESS=Deschutes Brewery Public House 1044 NW Bond St Bend OR 97701 United States;X-APPLE-RADIUS=500;X-TITLE=1044 NW Bond St:geo:-121.3113079,44.0593984
END:VEVENT
BEGIN:VEVENT
DTSTART;VALUE=DATE:20190320
DTEND;VALUE=DATE:20190321
DTSTAMP:20260422T174122
CREATED:20190313T224531Z
LAST-MODIFIED:20230503T200829Z
UID:10003121-1553106600-1553112000@envirocenter.org
SUMMARY:The Human Element\, a James Balog film
DESCRIPTION:We are a force of Nature. As we change the Elements\, the Elements change us. Now\, humanity itself has its own elemental power—we have created the Anthropocene. Through the 4 elements of Nature—earth\, air\, fire\, water—the film explores the lives of everyday Americans on the front lines of Climate Change\, stories which inspire us to reevaluate our relationship with the natural world. Learn more about the film here. \nFree and open to the public.
URL:https://envirocenter.org/event/the-human-element-a-james-balog-film/
LOCATION:Deschutes Brewery Public House\, 1044 NW Bond St\, Bend\, OR\, 97701\, United States
CATEGORIES:Climate|Film
GEO:44.0593984;-121.3113079
X-APPLE-STRUCTURED-LOCATION;VALUE=URI;X-ADDRESS=Deschutes Brewery Public House 1044 NW Bond St Bend OR 97701 United States;X-APPLE-RADIUS=500;X-TITLE=1044 NW Bond St:geo:-121.3113079,44.0593984
END:VEVENT
BEGIN:VEVENT
DTSTART;VALUE=DATE:20190320
DTEND;VALUE=DATE:20190321
DTSTAMP:20260422T174122
CREATED:20190227T000622Z
LAST-MODIFIED:20230503T200822Z
UID:10003114-1553108400-1553113800@envirocenter.org
SUMMARY:Nature Nights: Living in the Human Age
DESCRIPTION:Join the Deschutes Land Trust and National Geographic picture editor\, Dennis Dimick\, for a fast-moving\, visual journey exploring the expanding footprint of humans in Central Oregon and beyond. \nThe Human Age\, or Anthropocene\, is a new geologic era proposed by scientists to describe our modern world that is dominated by humans and their changes to our planet. Join Deschutes Land Trust and retired National Geographic picture editor and the environment editor\, Dennis Dimick\, for a fast-moving\, visual journey that explores and explains the modern human era\, the Anthropocene. As a native Oregonian\, Dimick will present a vivid journey through our modern world of 7.5 billion people that considers our expanding footprint\, rising prosperity\, and resulting environmental challenges that call for our attention and response. Explore ways to appreciate our place in nature and contemplate how we can contribute towards a positive future for ourselves and the planet. \n***This event is free\, but registration is required.
URL:https://envirocenter.org/event/nature-nights-living-in-the-human-age/
LOCATION:Deschutes Brewery Public House\, 1044 NW Bond St\, Bend\, OR\, 97701\, United States
GEO:44.0593984;-121.3113079
X-APPLE-STRUCTURED-LOCATION;VALUE=URI;X-ADDRESS=Deschutes Brewery Public House 1044 NW Bond St Bend OR 97701 United States;X-APPLE-RADIUS=500;X-TITLE=1044 NW Bond St:geo:-121.3113079,44.0593984
END:VEVENT
BEGIN:VEVENT
DTSTART;TZID=America/Los_Angeles:20190321T160000
DTEND;TZID=America/Los_Angeles:20190321T180000
DTSTAMP:20260422T174122
CREATED:20190308T171931Z
LAST-MODIFIED:20190308T172011Z
UID:10001302-1553184000-1553191200@envirocenter.org
SUMMARY:Absolutely Incredible Kid Day
DESCRIPTION:How often do we stop to tell the kids and teens in our lives how incredible they are? This is why Camp Fire founded Absolutely Incredible Kid Day® in 1997—to activate millions of adults across the U.S. to write/tell a young person in their life what makes them incredible. \nJoin Camp Fire Central Oregon on Thursday\, March 21st to celebrate the incredible kids in our lives with an afternoon of FREE ice skating at The Pavilion in Bend! \nFree ice skating for all kids up to 18 years old*. Fun for the whole family – raffles\, contests and tasty treats! Wear your Camp Fire t-shirt for a free raffle ticket. \n*Must be accompanied by an adult and arrive by 5:30pm. Limit first 200 kids in the door.
URL:https://envirocenter.org/event/absolutely-incredible-kid-day-2/
LOCATION:The Pavillion\, 1001 SW Bradbury Dr.\, Bend\, OR\, 97702\, United States
ATTACH;FMTTYPE=image/jpeg:https://envirocenter.org/wp-content/uploads/2019/03/AIKD.jpg
ORGANIZER;CN="Camp Fire Central Orgeon":MAILTO:campfirecentraloregon@gmail.com
GEO:44.0483819;-121.323763
X-APPLE-STRUCTURED-LOCATION;VALUE=URI;X-ADDRESS=The Pavillion 1001 SW Bradbury Dr. Bend OR 97702 United States;X-APPLE-RADIUS=500;X-TITLE=1001 SW Bradbury Dr.:geo:-121.323763,44.0483819
END:VEVENT
BEGIN:VEVENT
DTSTART;VALUE=DATE:20190321
DTEND;VALUE=DATE:20190322
DTSTAMP:20260422T174122
CREATED:20190219T235546Z
LAST-MODIFIED:20230503T200821Z
UID:10003112-1553187600-1553194800@envirocenter.org
SUMMARY:Green Drinks at Wren & Wild
DESCRIPTION:Please sign up in advance! Space is limited.\nRSVP in Advance \n\nJoin us for March Green Drinks at Wren & Wild\, a clean beauty retail store that just found their sweet spot in the heart of downtown Bend. \nThe team behind Wren & Wild is dedicated to providing products that are non-toxic\, cruelty-free\, and sustainable – making it easy to choose brands that are safe and healthy for you and the world around you. You can find many products at Wren & Wild that are created right here in Central Oregon! \nMy passion for natural beauty and nourishment from the inside/out has inspired me to create a clean beauty boutique where you can experience your true beauty. Wren and Wild is my love for all beautiful beings to be wild and free. — Mandy Butera\, Owner/founder \nJoin us on March 21st to experience this special place for yourself! Oh\, and for anyone who has wondered\, “Are there actually GREEN drinks at this event?” — we can now say yes\, there will be! Wild Folk Flower Apothecary will be creating some amazing green cocktails\, plus Wren & Wild will be serving up green matcha bites from Moon Juice. \n*Please note this event is the third Thursday of the month\, which strays from our usual ‘second Thursday’ routine. 
URL:https://envirocenter.org/event/green-drinks-at-wren-wild/
LOCATION:Deschutes Brewery Public House\, 1044 NW Bond St\, Bend\, OR\, 97701\, United States
CATEGORIES:Green Drinks
GEO:44.0593984;-121.3113079
X-APPLE-STRUCTURED-LOCATION;VALUE=URI;X-ADDRESS=Deschutes Brewery Public House 1044 NW Bond St Bend OR 97701 United States;X-APPLE-RADIUS=500;X-TITLE=1044 NW Bond St:geo:-121.3113079,44.0593984
END:VEVENT
BEGIN:VEVENT
DTSTART;VALUE=DATE:20190321
DTEND;VALUE=DATE:20190322
DTSTAMP:20260422T174122
CREATED:20160803T235848Z
LAST-MODIFIED:20230503T200442Z
UID:10000713-1553188500-1553198400@envirocenter.org
SUMMARY:Bend COTA Work Events
DESCRIPTION:When:  Thursday Aug 11\, Tuesday Aug 16\, Tuesday Aug 23 and Tuesday Aug 30\, 5:15 to Dusk \nWhere:  Meet at the old Ray’s parking lot\, NE corner of Simpson Ave and Century Drive in Bend \nWorksite:  Varies \nThere’s only one thing better than mountain biking in Bend\, OR and that’s riding in Bend\, knowing that you helped build and maintain the trails you love. \nPlease bring a hydration pack with water and a snack. \nBe sure to bring appropriate layers to accommodate whatever the weather may be. \nQuestions?  contact@cotamtb.com \nAll COTA trail work events require the following safety measures: \nAll participants are required to have the following protective clothing and equipment: \n\nSturdy shoes or boots\nGloves\nEye protection with clear or light colored lens\nLong pants\n\nDue to COTA’s insurance requirements and the inherent dangers of trail work\, we must implement the following policy regarding children at work events: \n\nFor anyone 14 years of age or younger\, we require one parent\, guardian\, or responsible adult for supervision of every four kids attending any COTA trail work events.\nAll minors under the age of 18 must have a parent or guardian available to sign our waiver.\n\nAnyone who arrives for a work event may be turned away if he/she cannot meet the above requirements.
URL:https://envirocenter.org/event/bend-cota-work-events-2016-08-11/
LOCATION:Deschutes Brewery Public House\, 1044 NW Bond St\, Bend\, OR\, 97701\, United States
GEO:44.0593984;-121.3113079
X-APPLE-STRUCTURED-LOCATION;VALUE=URI;X-ADDRESS=Deschutes Brewery Public House 1044 NW Bond St Bend OR 97701 United States;X-APPLE-RADIUS=500;X-TITLE=1044 NW Bond St:geo:-121.3113079,44.0593984
END:VEVENT
BEGIN:VEVENT
DTSTART;VALUE=DATE:20190321
DTEND;VALUE=DATE:20190322
DTSTAMP:20260422T174122
CREATED:20190321T223425Z
LAST-MODIFIED:20230503T200830Z
UID:10001309-1553198400-1553205600@envirocenter.org
SUMMARY:Movie Night @ McMenamins: Bikes vs Cars
DESCRIPTION:Central Oregon Trail Alliance and Bend Bikes invite you to take a closer look at the different ways that bicycles and cars affect the livability of Central Oregon. We can all see that more cars and more congestion are making an unwelcome impact in Bend. \nBikes vs Cars follows the individuals around the world that are fighting to create change. And it gets you thinking about whether you absolutely have to drive for your next trip\, or maybe you don’t. \nFrom bike activists in Sao Paulo and Los Angeles\, fighting for safe bike lanes\, to the City of Copenhagen\, where forty percent commute by bike daily\, Bikes vs Cars will look at both the struggle for cyclists in a society dominated by cars\, and the revolutionary changes that could take place if more cities moved away from car-centric models. \nView the trailer here. \n$6\, cash only \n87 minute run time; minors accompanied by parent or guardian
URL:https://envirocenter.org/event/movie-night-mcmenamins-bikes-vs-cars/
LOCATION:Deschutes Brewery Public House\, 1044 NW Bond St\, Bend\, OR\, 97701\, United States
CATEGORIES:Film|Transportation
GEO:44.0593984;-121.3113079
X-APPLE-STRUCTURED-LOCATION;VALUE=URI;X-ADDRESS=Deschutes Brewery Public House 1044 NW Bond St Bend OR 97701 United States;X-APPLE-RADIUS=500;X-TITLE=1044 NW Bond St:geo:-121.3113079,44.0593984
END:VEVENT
BEGIN:VEVENT
DTSTART;VALUE=DATE:20190322
DTEND;VALUE=DATE:20190323
DTSTAMP:20260422T174122
CREATED:20190315T002146Z
LAST-MODIFIED:20230503T200829Z
UID:10003123-1553212800-1553299199@envirocenter.org
SUMMARY:Oregon World Water Day
DESCRIPTION:As we face a pivotal moment for water in the West\, Oregon World Water Day is a nonpartisan public awareness and engagement campaign led by Oregon Environmental Council to elevate the conversation around water statewide. The 2019 theme is: \nWhat’s your water why?\nWhen you share your #MyWaterWhy with the world\, you stand up for water and our future as a healthy and resilient state. Share why water matters to your life\, livelihood and the world around us as we celebrate World Water Day throughout March.
URL:https://envirocenter.org/event/oregon-world-water-day/
LOCATION:Deschutes Brewery Public House\, 1044 NW Bond St\, Bend\, OR\, 97701\, United States
GEO:44.0593984;-121.3113079
X-APPLE-STRUCTURED-LOCATION;VALUE=URI;X-ADDRESS=Deschutes Brewery Public House 1044 NW Bond St Bend OR 97701 United States;X-APPLE-RADIUS=500;X-TITLE=1044 NW Bond St:geo:-121.3113079,44.0593984
END:VEVENT
END:VCALENDAR