BEGIN:VCALENDAR
VERSION:2.0
PRODID:-//The Environmental Center - ECPv6.15.20//NONSGML v1.0//EN
CALSCALE:GREGORIAN
METHOD:PUBLISH
X-ORIGINAL-URL:https://envirocenter.org
X-WR-CALDESC:Events for The Environmental Center
REFRESH-INTERVAL;VALUE=DURATION:PT1H
X-Robots-Tag:noindex
X-PUBLISHED-TTL:PT1H
BEGIN:VTIMEZONE
TZID:America/Los_Angeles
BEGIN:DAYLIGHT
TZOFFSETFROM:-0800
TZOFFSETTO:-0700
TZNAME:PDT
DTSTART:20180311T100000
END:DAYLIGHT
BEGIN:STANDARD
TZOFFSETFROM:-0700
TZOFFSETTO:-0800
TZNAME:PST
DTSTART:20181104T090000
END:STANDARD
BEGIN:DAYLIGHT
TZOFFSETFROM:-0800
TZOFFSETTO:-0700
TZNAME:PDT
DTSTART:20190310T100000
END:DAYLIGHT
BEGIN:STANDARD
TZOFFSETFROM:-0700
TZOFFSETTO:-0800
TZNAME:PST
DTSTART:20191103T090000
END:STANDARD
BEGIN:DAYLIGHT
TZOFFSETFROM:-0800
TZOFFSETTO:-0700
TZNAME:PDT
DTSTART:20200308T100000
END:DAYLIGHT
BEGIN:STANDARD
TZOFFSETFROM:-0700
TZOFFSETTO:-0800
TZNAME:PST
DTSTART:20201101T090000
END:STANDARD
END:VTIMEZONE
BEGIN:VEVENT
DTSTART;VALUE=DATE:20190311
DTEND;VALUE=DATE:20190312
DTSTAMP:20260422T233119
CREATED:20190301T000945Z
LAST-MODIFIED:20230503T200822Z
UID:10001292-1552325400-1552336200@envirocenter.org
SUMMARY:A Journey of the Sea and Soul
DESCRIPTION:An evening of adventure and personal insight as speaker\, Susan Conrad\, shares her passion for kayaking and stories from her journey of a lifetime. Featuring music by Pitchfork Revolution! \nThis is a fundraiser for Coalition for the Deschutes. Tickets are available here. \nDoors open at 5:30. Food and beverages available in Father Luke’s room. Presentation begins at 6:30 followed by a raffle. Susan is an EXPED representative and is bringing some great items to raffle off! \nSusan Conrad is a water-loving\, adventure-seeking\, word-slinging\, public speaking kinda gal. In spring 2010\, Susan Conrad launched a journey of the sea and soul. That journey took her north to Alaska where she paddled the 1\,200 mile ribbon of water known as the Inside Passage\, and inward as she discovered the depths of her own strength and courage. \nSusan covered marathon distances for weeks on end in her 18-foot sea kayak. She forged friendships with quirky people in the strangest of places\, and she pretended not to be intimidated by 700-pound grizzly bears and 40-ton whales.
URL:https://envirocenter.org/event/a-journey-of-the-sea-and-soul/
LOCATION:Deschutes Brewery Public House\, 1044 NW Bond St\, Bend\, OR\, 97701\, United States
CATEGORIES:Water
GEO:44.0593984;-121.3113079
X-APPLE-STRUCTURED-LOCATION;VALUE=URI;X-ADDRESS=Deschutes Brewery Public House 1044 NW Bond St Bend OR 97701 United States;X-APPLE-RADIUS=500;X-TITLE=1044 NW Bond St:geo:-121.3113079,44.0593984
END:VEVENT
BEGIN:VEVENT
DTSTART;VALUE=DATE:20190314
DTEND;VALUE=DATE:20190315
DTSTAMP:20260422T233119
CREATED:20160803T235848Z
LAST-MODIFIED:20230503T200442Z
UID:10000712-1552583700-1552593600@envirocenter.org
SUMMARY:Bend COTA Work Events
DESCRIPTION:When:  Thursday Aug 11\, Tuesday Aug 16\, Tuesday Aug 23 and Tuesday Aug 30\, 5:15 to Dusk \nWhere:  Meet at the old Ray’s parking lot\, NE corner of Simpson Ave and Century Drive in Bend \nWorksite:  Varies \nThere’s only one thing better than mountain biking in Bend\, OR and that’s riding in Bend\, knowing that you helped build and maintain the trails you love. \nPlease bring a hydration pack with water and a snack. \nBe sure to bring appropriate layers to accommodate whatever the weather may be. \nQuestions?  contact@cotamtb.com \nAll COTA trail work events require the following safety measures: \nAll participants are required to have the following protective clothing and equipment: \n\nSturdy shoes or boots\nGloves\nEye protection with clear or light colored lens\nLong pants\n\nDue to COTA’s insurance requirements and the inherent dangers of trail work\, we must implement the following policy regarding children at work events: \n\nFor anyone 14 years of age or younger\, we require one parent\, guardian\, or responsible adult for supervision of every four kids attending any COTA trail work events.\nAll minors under the age of 18 must have a parent or guardian available to sign our waiver.\n\nAnyone who arrives for a work event may be turned away if he/she cannot meet the above requirements.
URL:https://envirocenter.org/event/bend-cota-work-events-2016-08-11/
LOCATION:Deschutes Brewery Public House\, 1044 NW Bond St\, Bend\, OR\, 97701\, United States
GEO:44.0593984;-121.3113079
X-APPLE-STRUCTURED-LOCATION;VALUE=URI;X-ADDRESS=Deschutes Brewery Public House 1044 NW Bond St Bend OR 97701 United States;X-APPLE-RADIUS=500;X-TITLE=1044 NW Bond St:geo:-121.3113079,44.0593984
END:VEVENT
BEGIN:VEVENT
DTSTART;TZID=America/Los_Angeles:20190315T093000
DTEND;TZID=America/Los_Angeles:20190315T120000
DTSTAMP:20260422T233119
CREATED:20190226T162050Z
LAST-MODIFIED:20190226T162050Z
UID:10003115-1552642200-1552651200@envirocenter.org
SUMMARY:Fruit Tree Pruning Workshop
DESCRIPTION:Interested in learning proper pruning techniques for fruit trees in Central Oregon? Join Heidi Noordijk\, OSU Small Farms Coordinator to learn principles and hands-on techniques. Workshop will be held at Rainshadow Organics – their orchard has primarily young apple trees\, but also cherry\, pear\, peach and plum. Heidi has over 20 years experience working with orchards and vegetable farms\, and is an apple fanatic! \nPlease bring loppers and/or hand pruners\, gloves\, and sturdy footwear. \nRough Agenda \n9:30 – 9:45 Welcome and introductions \n9:45 – 10:00 Tree anatomy and physiology (including resource allocation and thinning) \n10:00 – 10:20 Pruning equipment\, sanitation\, basics of pruning (when to prune\, where to cut and why) \n10:20 – 11:40 hands-on pruning demonstrations and group pruning \n11:40 – noon Wrap-up discussion \nNoon(ish) – option to stay for farm-to-table lunch served directly from Rainshadow Organics. Lunch is extra $15 per person\, and must be organized directly with Sarahlee ahead of time. \nPlease register online by March 12th. (Can pay by card or check). Space will be limited so register early!
URL:https://envirocenter.org/event/fruit-tree-pruning-workshop-3/
LOCATION:Rainshadow Organics Farm\, Terrebonne\, OR\, 97760\, United States
END:VEVENT
END:VCALENDAR