BEGIN:VCALENDAR
VERSION:2.0
PRODID:-//The Environmental Center - ECPv6.15.20//NONSGML v1.0//EN
CALSCALE:GREGORIAN
METHOD:PUBLISH
X-ORIGINAL-URL:https://envirocenter.org
X-WR-CALDESC:Events for The Environmental Center
REFRESH-INTERVAL;VALUE=DURATION:PT1H
X-Robots-Tag:noindex
X-PUBLISHED-TTL:PT1H
BEGIN:VTIMEZONE
TZID:America/Los_Angeles
BEGIN:DAYLIGHT
TZOFFSETFROM:-0800
TZOFFSETTO:-0700
TZNAME:PDT
DTSTART:20180311T100000
END:DAYLIGHT
BEGIN:STANDARD
TZOFFSETFROM:-0700
TZOFFSETTO:-0800
TZNAME:PST
DTSTART:20181104T090000
END:STANDARD
BEGIN:DAYLIGHT
TZOFFSETFROM:-0800
TZOFFSETTO:-0700
TZNAME:PDT
DTSTART:20190310T100000
END:DAYLIGHT
BEGIN:STANDARD
TZOFFSETFROM:-0700
TZOFFSETTO:-0800
TZNAME:PST
DTSTART:20191103T090000
END:STANDARD
BEGIN:DAYLIGHT
TZOFFSETFROM:-0800
TZOFFSETTO:-0700
TZNAME:PDT
DTSTART:20200308T100000
END:DAYLIGHT
BEGIN:STANDARD
TZOFFSETFROM:-0700
TZOFFSETTO:-0800
TZNAME:PST
DTSTART:20201101T090000
END:STANDARD
END:VTIMEZONE
BEGIN:VEVENT
DTSTART;VALUE=DATE:20190122
DTEND;VALUE=DATE:20190123
DTSTAMP:20260422T235903
CREATED:20190108T061857Z
LAST-MODIFIED:20230503T200813Z
UID:10001275-1548163800-1548171000@envirocenter.org
SUMMARY:Solid Waste Advisory Committee Meeting
DESCRIPTION:The Solid Waste Advisory Committee (SWAC) meetings are scheduled for the 4th Tuesday of each month from 1:30 p.m. – 3:30 p.m. All meetings are open to the public. \nNote: Meeting locations and time may change per SWAC availability.
URL:https://envirocenter.org/event/solid-waste-advisory-committee-meeting/
LOCATION:Deschutes Brewery Public House\, 1044 NW Bond St\, Bend\, OR\, 97701\, United States
CATEGORIES:Rethink Waste
GEO:44.0593984;-121.3113079
X-APPLE-STRUCTURED-LOCATION;VALUE=URI;X-ADDRESS=Deschutes Brewery Public House 1044 NW Bond St Bend OR 97701 United States;X-APPLE-RADIUS=500;X-TITLE=1044 NW Bond St:geo:-121.3113079,44.0593984
END:VEVENT
BEGIN:VEVENT
DTSTART;VALUE=DATE:20190122
DTEND;VALUE=DATE:20190123
DTSTAMP:20260422T235903
CREATED:20190115T043558Z
LAST-MODIFIED:20230503T200815Z
UID:10003106-1548174600-1548181800@envirocenter.org
SUMMARY:Regional Transit Master Plan: Community Open House
DESCRIPTION:Help shape the future of public transportation!  Weigh in on future public transportation services at a Community Open House.\nCascades East Transit (CET) is developing a Regional Transit Master Plan to identify future transit service priorities over the next 25 years and we need your input. Drop by one of our Community Open Houses in January between 4:30 and 6:30 pm to discuss the future vision\, goals\, and near-term priorities for public transportation in Central Oregon. Light refreshments and activities for children will be provided. \nCommunity Open House Events: \n\nLa Pine: Tuesday\, January 15 at the La Pine Public Library (16425 1st St.)\nMadras: Thursday\, January 17 at the Rodriguez Jefferson Library Annex (134 SE E St.)\nRedmond: Tuesday\, January 22 at the Redmond City Hall\, Room 208 (411 SW 9th St.)\nWarm Springs: Wednesday\, January 23 at the Warm Springs Community Center (2200 Hollywood Blvd.)\nPrineville: Thursday\, January 24 at the Crook County Library\, Broughton Room (175 NW Meadow Lakes Dr.)\nBend: Tuesday\, January 29 at the Trinity Episcopal Church\, Brooks Hall (469 NW Wall St.)\n\nPublic comments can also be submitted through February 3\, 2019 via an online open house at CETTransitPlan.com. \nTo request information in an alternative format or different language\, please email Rachel Zakem or call 541-504-3310 five days prior to the meeting.
URL:https://envirocenter.org/event/regional-transit-master-plan-community-open-house-3/
LOCATION:Deschutes Brewery Public House\, 1044 NW Bond St\, Bend\, OR\, 97701\, United States
CATEGORIES:Transportation
GEO:44.0593984;-121.3113079
X-APPLE-STRUCTURED-LOCATION;VALUE=URI;X-ADDRESS=Deschutes Brewery Public House 1044 NW Bond St Bend OR 97701 United States;X-APPLE-RADIUS=500;X-TITLE=1044 NW Bond St:geo:-121.3113079,44.0593984
END:VEVENT
BEGIN:VEVENT
DTSTART;VALUE=DATE:20190123
DTEND;VALUE=DATE:20190124
DTSTAMP:20260422T235903
CREATED:20190115T043733Z
LAST-MODIFIED:20230503T200815Z
UID:10003107-1548261000-1548268200@envirocenter.org
SUMMARY:Regional Transit Master Plan: Community Open House
DESCRIPTION:Help shape the future of public transportation!  Weigh in on future public transportation services at a Community Open House.\nCascades East Transit (CET) is developing a Regional Transit Master Plan to identify future transit service priorities over the next 25 years and we need your input. Drop by one of our Community Open Houses in January between 4:30 and 6:30 pm to discuss the future vision\, goals\, and near-term priorities for public transportation in Central Oregon. Light refreshments and activities for children will be provided. \nCommunity Open House Events: \n\nLa Pine: Tuesday\, January 15 at the La Pine Public Library (16425 1st St.)\nMadras: Thursday\, January 17 at the Rodriguez Jefferson Library Annex (134 SE E St.)\nRedmond: Tuesday\, January 22 at the Redmond City Hall\, Room 208 (411 SW 9th St.)\nWarm Springs: Wednesday\, January 23 at the Warm Springs Community Center (2200 Hollywood Blvd.)\nPrineville: Thursday\, January 24 at the Crook County Library\, Broughton Room (175 NW Meadow Lakes Dr.)\nBend: Tuesday\, January 29 at the Trinity Episcopal Church\, Brooks Hall (469 NW Wall St.)\n\nPublic comments can also be submitted through February 3\, 2019 via an online open house at CETTransitPlan.com. \nTo request information in an alternative format or different language\, please email Rachel Zakem or call 541-504-3310 five days prior to the meeting.
URL:https://envirocenter.org/event/regional-transit-master-plan-community-open-house-4/
LOCATION:Deschutes Brewery Public House\, 1044 NW Bond St\, Bend\, OR\, 97701\, United States
CATEGORIES:Transportation
GEO:44.0593984;-121.3113079
X-APPLE-STRUCTURED-LOCATION;VALUE=URI;X-ADDRESS=Deschutes Brewery Public House 1044 NW Bond St Bend OR 97701 United States;X-APPLE-RADIUS=500;X-TITLE=1044 NW Bond St:geo:-121.3113079,44.0593984
END:VEVENT
BEGIN:VEVENT
DTSTART;VALUE=DATE:20190123
DTEND;VALUE=DATE:20190124
DTSTAMP:20260422T235903
CREATED:20181227T061022Z
LAST-MODIFIED:20230503T200808Z
UID:10001269-1548264600-1548273600@envirocenter.org
SUMMARY:Bend's Transportation Plan: Neighborhood Workshop 1
DESCRIPTION:The City of Bend will host five 2 1/2-hour long workshops in January 2019.  The workshops are for you to share: \n\n\n\nHow you’d like transportation to work in your neighborhood.\nWhat you need in your neighborhood for you to be able to get around.\n\n\n\nThis workshop is targeted to people in the Old Bend\, Century West\, Southern Crossing and Southwest Bend neighborhoods\, but anyone is welcome to attend.  \nThe City will use this information to help create a list of neighborhood projects and programs.  The City will also share progress on Bend’s Transportation Plan. The first half hour of the workshop you can review work that has been done on the transportation plan to date. The following two hours will be an active workshop where attendees will work together in small groups to provide input on neighborhood transportation needs. Attendees are asked to stay for the entire workshop\, if possible\, to contribute to all of the workshop activities.
URL:https://envirocenter.org/event/bends-transportation-plan-neighborhood-workshop/
LOCATION:Deschutes Brewery Public House\, 1044 NW Bond St\, Bend\, OR\, 97701\, United States
CATEGORIES:Transportation
GEO:44.0593984;-121.3113079
X-APPLE-STRUCTURED-LOCATION;VALUE=URI;X-ADDRESS=Deschutes Brewery Public House 1044 NW Bond St Bend OR 97701 United States;X-APPLE-RADIUS=500;X-TITLE=1044 NW Bond St:geo:-121.3113079,44.0593984
END:VEVENT
BEGIN:VEVENT
DTSTART;VALUE=DATE:20190124
DTEND;VALUE=DATE:20190125
DTSTAMP:20260422T235903
CREATED:20190115T043846Z
LAST-MODIFIED:20230503T200816Z
UID:10003108-1548347400-1548354600@envirocenter.org
SUMMARY:Regional Transit Master Plan: Community Open House
DESCRIPTION:Help shape the future of public transportation!  Weigh in on future public transportation services at a Community Open House.\nCascades East Transit (CET) is developing a Regional Transit Master Plan to identify future transit service priorities over the next 25 years and we need your input. Drop by one of our Community Open Houses in January between 4:30 and 6:30 pm to discuss the future vision\, goals\, and near-term priorities for public transportation in Central Oregon. Light refreshments and activities for children will be provided. \nCommunity Open House Events: \n\nLa Pine: Tuesday\, January 15 at the La Pine Public Library (16425 1st St.)\nMadras: Thursday\, January 17 at the Rodriguez Jefferson Library Annex (134 SE E St.)\nRedmond: Tuesday\, January 22 at the Redmond City Hall\, Room 208 (411 SW 9th St.)\nWarm Springs: Wednesday\, January 23 at the Warm Springs Community Center (2200 Hollywood Blvd.)\nPrineville: Thursday\, January 24 at the Crook County Library\, Broughton Room (175 NW Meadow Lakes Dr.)\nBend: Tuesday\, January 29 at the Trinity Episcopal Church\, Brooks Hall (469 NW Wall St.)\n\nPublic comments can also be submitted through February 3\, 2019 via an online open house at CETTransitPlan.com. \nTo request information in an alternative format or different language\, please email Rachel Zakem or call 541-504-3310 five days prior to the meeting.
URL:https://envirocenter.org/event/regional-transit-master-plan-community-open-house-5/
LOCATION:Deschutes Brewery Public House\, 1044 NW Bond St\, Bend\, OR\, 97701\, United States
CATEGORIES:Transportation
GEO:44.0593984;-121.3113079
X-APPLE-STRUCTURED-LOCATION;VALUE=URI;X-ADDRESS=Deschutes Brewery Public House 1044 NW Bond St Bend OR 97701 United States;X-APPLE-RADIUS=500;X-TITLE=1044 NW Bond St:geo:-121.3113079,44.0593984
END:VEVENT
BEGIN:VEVENT
DTSTART;VALUE=DATE:20190124
DTEND;VALUE=DATE:20190125
DTSTAMP:20260422T235903
CREATED:20181205T084951Z
LAST-MODIFIED:20230503T200804Z
UID:10001262-1548349200-1548358200@envirocenter.org
SUMMARY:Surfrider Foundation Newport-Bend Chapter KickOff
DESCRIPTION:As our surfing and paddling community grows and many shuffle between Bend and Newport\, Oregon\, we hope to activate our water conservation community in protecting our rivers\, lakes\, streams and ocean. Come join us as we kick off our Bend members of the Newport-Bend Chapter of Surfrider. \nThanks to Deschutes Brewery for supporting us with location\, free food and beer! REI will have swag for all those who sign-up to be Surfrider members. We will also have local non profits present for us to brainstorm how we can all work together for better water quality and conservation in Central Oregon. \nCome join us for networking\, brainstorming\, food\, drinks\, swag and how you can be active in water conservation. Some areas we will examine include measuring water quality\, Ditch the Straws\, Hold your Butts\, Stop Plastic Bags\, River Friendly Gardens\, River Clean-ups\, surfing and paddling competitions\, social events and what policy and advocacy work we should focus on in Central Oregon.
URL:https://envirocenter.org/event/surfrider-foundation-newport-bend-chapter-kickoff/
LOCATION:Deschutes Brewery Public House\, 1044 NW Bond St\, Bend\, OR\, 97701\, United States
CATEGORIES:Water
GEO:44.0593984;-121.3113079
X-APPLE-STRUCTURED-LOCATION;VALUE=URI;X-ADDRESS=Deschutes Brewery Public House 1044 NW Bond St Bend OR 97701 United States;X-APPLE-RADIUS=500;X-TITLE=1044 NW Bond St:geo:-121.3113079,44.0593984
END:VEVENT
BEGIN:VEVENT
DTSTART;VALUE=DATE:20190124
DTEND;VALUE=DATE:20190125
DTSTAMP:20260422T235903
CREATED:20160803T235848Z
LAST-MODIFIED:20230503T200442Z
UID:10000705-1548350100-1548360000@envirocenter.org
SUMMARY:Bend COTA Work Events
DESCRIPTION:When:  Thursday Aug 11\, Tuesday Aug 16\, Tuesday Aug 23 and Tuesday Aug 30\, 5:15 to Dusk \nWhere:  Meet at the old Ray’s parking lot\, NE corner of Simpson Ave and Century Drive in Bend \nWorksite:  Varies \nThere’s only one thing better than mountain biking in Bend\, OR and that’s riding in Bend\, knowing that you helped build and maintain the trails you love. \nPlease bring a hydration pack with water and a snack. \nBe sure to bring appropriate layers to accommodate whatever the weather may be. \nQuestions?  contact@cotamtb.com \nAll COTA trail work events require the following safety measures: \nAll participants are required to have the following protective clothing and equipment: \n\nSturdy shoes or boots\nGloves\nEye protection with clear or light colored lens\nLong pants\n\nDue to COTA’s insurance requirements and the inherent dangers of trail work\, we must implement the following policy regarding children at work events: \n\nFor anyone 14 years of age or younger\, we require one parent\, guardian\, or responsible adult for supervision of every four kids attending any COTA trail work events.\nAll minors under the age of 18 must have a parent or guardian available to sign our waiver.\n\nAnyone who arrives for a work event may be turned away if he/she cannot meet the above requirements.
URL:https://envirocenter.org/event/bend-cota-work-events-2016-08-11/
LOCATION:Deschutes Brewery Public House\, 1044 NW Bond St\, Bend\, OR\, 97701\, United States
GEO:44.0593984;-121.3113079
X-APPLE-STRUCTURED-LOCATION;VALUE=URI;X-ADDRESS=Deschutes Brewery Public House 1044 NW Bond St Bend OR 97701 United States;X-APPLE-RADIUS=500;X-TITLE=1044 NW Bond St:geo:-121.3113079,44.0593984
END:VEVENT
BEGIN:VEVENT
DTSTART;VALUE=DATE:20190124
DTEND;VALUE=DATE:20190125
DTSTAMP:20260422T235903
CREATED:20181227T061718Z
LAST-MODIFIED:20230503T200808Z
UID:10001270-1548352800-1548361800@envirocenter.org
SUMMARY:Bend's Transportation Plan: Neighborhood Workshop 2
DESCRIPTION:The City of Bend will host five 2 1/2-hour long workshops in January 2019.  The workshops are for you to share: \n\n\n\nHow you’d like transportation to work in your neighborhood.\nWhat you need in your neighborhood for you to be able to get around.\n\n\n\nThis workshop is targeted to people in the Boyd Acres\, Orchard District and Mountain View neighborhoods\, but anyone is welcome to attend. \nThe City will use this information to help create a list of neighborhood projects and programs.  The City will also share progress on Bend’s Transportation Plan. The first half hour of the workshop you can review work that has been done on the transportation plan to date. The following two hours will be an active workshop where attendees will work together in small groups to provide input on neighborhood transportation needs. Attendees are asked to stay for the entire workshop\, if possible\, to contribute to all of the workshop activities.
URL:https://envirocenter.org/event/bends-transportation-plan-neighborhood-workshop-2/
LOCATION:Deschutes Brewery Public House\, 1044 NW Bond St\, Bend\, OR\, 97701\, United States
CATEGORIES:Transportation
GEO:44.0593984;-121.3113079
X-APPLE-STRUCTURED-LOCATION;VALUE=URI;X-ADDRESS=Deschutes Brewery Public House 1044 NW Bond St Bend OR 97701 United States;X-APPLE-RADIUS=500;X-TITLE=1044 NW Bond St:geo:-121.3113079,44.0593984
END:VEVENT
BEGIN:VEVENT
DTSTART;VALUE=DATE:20190124
DTEND;VALUE=DATE:20190125
DTSTAMP:20260422T235903
CREATED:20190105T025405Z
LAST-MODIFIED:20230503T200811Z
UID:10001274-1548356400-1548360000@envirocenter.org
SUMMARY:Global Warming in Central Oregon: Impacts & Opportunities
DESCRIPTION:It’s your future. We ignore global warming at our own peril. Join 350Deschutes with four speakers that will address impacts in Central Oregon to recreation\, fisheries\, water\, and wildfires. We can minimize the growing crisis. Discover new opportunities and incentives that will benefit you in solar\, used and new electric vehicles\, and a variety of personal choices. Hear the latest on the  growing movement towards local and state policies that will improve the planet and your quality of life. \nCome early to save a seat\, or for a meal or beverage. \nFree event! Please RSVP here.
URL:https://envirocenter.org/event/global-warming-in-central-oregon-impacts-opportunities/
LOCATION:Deschutes Brewery Public House\, 1044 NW Bond St\, Bend\, OR\, 97701\, United States
CATEGORIES:Climate
GEO:44.0593984;-121.3113079
X-APPLE-STRUCTURED-LOCATION;VALUE=URI;X-ADDRESS=Deschutes Brewery Public House 1044 NW Bond St Bend OR 97701 United States;X-APPLE-RADIUS=500;X-TITLE=1044 NW Bond St:geo:-121.3113079,44.0593984
END:VEVENT
BEGIN:VEVENT
DTSTART;VALUE=DATE:20190125
DTEND;VALUE=DATE:20190126
DTSTAMP:20260422T235903
CREATED:20190103T005222Z
LAST-MODIFIED:20230503T200809Z
UID:10003095-1548439200-1548444600@envirocenter.org
SUMMARY:Rubbish Renewed Eco Fashion Show - 1st Show
DESCRIPTION:Rubbish Renewed Eco Fashion Show is an annual fundraising event for Realms Schools (Realms Middle School and Realms High School). Started in 2010\, this fundraiser features an eclectic\, wearable art runway show (featuring both trash fashion and re-fashioned garments)\, a live and silent auction\, and a gallery style marketplace (where contributing local artists sell and showcase their work). \nOn Friday\, January 25th there will be two shows. Get your tickets today! \nFIRST SHOW – 6PM (Doors open at 5:00PM) – all ages \nSECOND SHOW – 8:30PM (Doors open at 7:30PM) – 21 and over (ID Required)
URL:https://envirocenter.org/event/17206/
LOCATION:Deschutes Brewery Public House\, 1044 NW Bond St\, Bend\, OR\, 97701\, United States
CATEGORIES:Rethink Waste
GEO:44.0593984;-121.3113079
X-APPLE-STRUCTURED-LOCATION;VALUE=URI;X-ADDRESS=Deschutes Brewery Public House 1044 NW Bond St Bend OR 97701 United States;X-APPLE-RADIUS=500;X-TITLE=1044 NW Bond St:geo:-121.3113079,44.0593984
END:VEVENT
BEGIN:VEVENT
DTSTART;VALUE=DATE:20190125
DTEND;VALUE=DATE:20190126
DTSTAMP:20260422T235903
CREATED:20190103T011316Z
LAST-MODIFIED:20230503T200809Z
UID:10003096-1548448200-1548453600@envirocenter.org
SUMMARY:Rubbish Renewed Eco Fashion Show - 2nd Show
DESCRIPTION:Rubbish Renewed Eco Fashion Show is an annual fundraising event for Realms Schools (Realms Middle School and Realms High School). Started in 2010\, this fundraiser features an eclectic\, wearable art runway show (featuring both trash fashion and re-fashioned garments)\, a live and silent auction\, and a gallery style marketplace (where contributing local artists sell and showcase their work). \nOn Friday\, January 25th there will be two shows. Get your tickets today! \nFIRST SHOW – 6PM (Doors open at 5:00PM) – all ages \nSECOND SHOW – 8:30PM (Doors open at 7:30PM) – 21 and over (ID Required)
URL:https://envirocenter.org/event/rubbish-renewed-eco-fashion-show-2nd-show/
LOCATION:Deschutes Brewery Public House\, 1044 NW Bond St\, Bend\, OR\, 97701\, United States
CATEGORIES:Rethink Waste
GEO:44.0593984;-121.3113079
X-APPLE-STRUCTURED-LOCATION;VALUE=URI;X-ADDRESS=Deschutes Brewery Public House 1044 NW Bond St Bend OR 97701 United States;X-APPLE-RADIUS=500;X-TITLE=1044 NW Bond St:geo:-121.3113079,44.0593984
END:VEVENT
BEGIN:VEVENT
DTSTART;VALUE=DATE:20190126
DTEND;VALUE=DATE:20190127
DTSTAMP:20260422T235903
CREATED:20190116T053200Z
LAST-MODIFIED:20230503T200816Z
UID:10001282-1548496800-1548504000@envirocenter.org
SUMMARY:Discover Nature Day: Winter Survival
DESCRIPTION:Join Wildheart Nature School in the snow and learn essential survival skills including shelter building\, fire making\, and emergency signaling. Ages 6-12 with family. FREE!
URL:https://envirocenter.org/event/discover-nature-day-winter-survival/
LOCATION:Deschutes Brewery Public House\, 1044 NW Bond St\, Bend\, OR\, 97701\, United States
GEO:44.0593984;-121.3113079
X-APPLE-STRUCTURED-LOCATION;VALUE=URI;X-ADDRESS=Deschutes Brewery Public House 1044 NW Bond St Bend OR 97701 United States;X-APPLE-RADIUS=500;X-TITLE=1044 NW Bond St:geo:-121.3113079,44.0593984
END:VEVENT
END:VCALENDAR