BEGIN:VCALENDAR
VERSION:2.0
PRODID:-//The Environmental Center - ECPv6.15.20//NONSGML v1.0//EN
CALSCALE:GREGORIAN
METHOD:PUBLISH
X-ORIGINAL-URL:https://envirocenter.org
X-WR-CALDESC:Events for The Environmental Center
REFRESH-INTERVAL;VALUE=DURATION:PT1H
X-Robots-Tag:noindex
X-PUBLISHED-TTL:PT1H
BEGIN:VTIMEZONE
TZID:America/Los_Angeles
BEGIN:DAYLIGHT
TZOFFSETFROM:-0800
TZOFFSETTO:-0700
TZNAME:PDT
DTSTART:20170312T100000
END:DAYLIGHT
BEGIN:STANDARD
TZOFFSETFROM:-0700
TZOFFSETTO:-0800
TZNAME:PST
DTSTART:20171105T090000
END:STANDARD
BEGIN:DAYLIGHT
TZOFFSETFROM:-0800
TZOFFSETTO:-0700
TZNAME:PDT
DTSTART:20180311T100000
END:DAYLIGHT
BEGIN:STANDARD
TZOFFSETFROM:-0700
TZOFFSETTO:-0800
TZNAME:PST
DTSTART:20181104T090000
END:STANDARD
BEGIN:DAYLIGHT
TZOFFSETFROM:-0800
TZOFFSETTO:-0700
TZNAME:PDT
DTSTART:20190310T100000
END:DAYLIGHT
BEGIN:STANDARD
TZOFFSETFROM:-0700
TZOFFSETTO:-0800
TZNAME:PST
DTSTART:20191103T090000
END:STANDARD
END:VTIMEZONE
BEGIN:VEVENT
DTSTART;TZID=America/Los_Angeles:20181028T090000
DTEND;TZID=America/Los_Angeles:20181028T130000
DTSTAMP:20260422T081513
CREATED:20181009T184637Z
LAST-MODIFIED:20181009T184637Z
UID:10003070-1540717200-1540731600@envirocenter.org
SUMMARY:Geology Hike\, Whychus Canyon Preserve
DESCRIPTION:Join the Deschutes Land Trust and Derek Loeb for a geology hike at Whychus Canyon Preserve. Enjoy the panoramic view of the Cascade crest while learning about the forces of nature that formed the cliffs surrounding Whychus Creek. Explore ancient juniper groves and native grasslands and learn a little about the human history of this area. \nHike Rating: This is a moderate 3-4-mile hike on the Whychus Canyon Preserve hiking trails. \nFree. Please register online at www.deschuteslandtrust.org/hikes
URL:https://envirocenter.org/event/geology-hike-whychus-canyon-preserve-2/
LOCATION:Whychus Canyon Preserve\, Sisters\, OR\, 97756\, United States
ORGANIZER;CN="Deschutes Land Trust":MAILTO:event@deschuteslandtrust.org
END:VEVENT
BEGIN:VEVENT
DTSTART;VALUE=DATE:20181030
DTEND;VALUE=DATE:20181031
DTSTAMP:20260422T081513
CREATED:20191001T020932Z
LAST-MODIFIED:20230503T200925Z
UID:10001222-1540920600-1540927800@envirocenter.org
SUMMARY:Redmond Repair Cafe
DESCRIPTION:Local volunteers will help repair your broken stuff – for FREE! \nHas your blender lost its whirl? Hole in your favorite jeans? Broken clasp on your best bracelet? Bring us your small household appliances\, sewing repairs\, jewelry repairs\, and small furniture that need a little work. \nVolunteers with the Environmental Center’s Rethink Waste Project will come and help guide the repair of small appliances or devices that no longer function. Bring your stuff that’s not working and let’s see if we can collaborate to change that. Repair Cafe’s are a growing movement to help keep the material objects in our lives serving us longer before they head for the landfill or an alternative use. \nRepair assistance is based on a first come first served basis.
URL:https://envirocenter.org/event/redmond-repair-cafe-3/
LOCATION:Deschutes Brewery Public House\, 1044 NW Bond St\, Bend\, OR\, 97701\, United States
CATEGORIES:Repair Cafe|Rethink Waste
GEO:44.0593984;-121.3113079
X-APPLE-STRUCTURED-LOCATION;VALUE=URI;X-ADDRESS=Deschutes Brewery Public House 1044 NW Bond St Bend OR 97701 United States;X-APPLE-RADIUS=500;X-TITLE=1044 NW Bond St:geo:-121.3113079,44.0593984
END:VEVENT
BEGIN:VEVENT
DTSTART;VALUE=DATE:20181101
DTEND;VALUE=DATE:20181102
DTSTAMP:20260422T081513
CREATED:20181030T021429Z
LAST-MODIFIED:20230503T200802Z
UID:10001260-1541062800-1541080800@envirocenter.org
SUMMARY:Upper Deschutes River Volunteer Tree Planting Day
DESCRIPTION:The USFS is looking for volunteers to plant trees along the Deschutes River below Wickiup Dam. Restoring native vegetation is critical to improving the health of the river! The Coalition for the Deschutes is helping round up volunteers. Volunteers will be asked to sign a Forest Service Volunteer waiver. RSVP to Mike Taylor. \nWhen: Thursday\, Nov. 1\, 9:00 am until the trees are planted or you need to leave.\nMeeting Place: The intersection of Forest Road 44 and Burgess Road where the kiosks are located (just east of the Burgess bridge).\nBring: A shovel if you have one\, gloves\, water\, personal items
URL:https://envirocenter.org/event/upper-deschutes-river-volunteer-tree-planting-day/
LOCATION:Deschutes Brewery Public House\, 1044 NW Bond St\, Bend\, OR\, 97701\, United States
CATEGORIES:Water
GEO:44.0593984;-121.3113079
X-APPLE-STRUCTURED-LOCATION;VALUE=URI;X-ADDRESS=Deschutes Brewery Public House 1044 NW Bond St Bend OR 97701 United States;X-APPLE-RADIUS=500;X-TITLE=1044 NW Bond St:geo:-121.3113079,44.0593984
END:VEVENT
BEGIN:VEVENT
DTSTART;VALUE=DATE:20181101
DTEND;VALUE=DATE:20181103
DTSTAMP:20260422T081513
CREATED:20181030T062305Z
LAST-MODIFIED:20230503T200802Z
UID:10003077-1541088000-1541172600@envirocenter.org
SUMMARY:Fall Energy Symposium
DESCRIPTION:Advancing a clean energy economy across Oregon\nSustainable Northwest in partnership with The Environmental Center is hosting the third annual Fall Energy Symposium in Bend\, Oregon on November 1 & 2\, 2018. This 2-day event will bring together community leaders\, businesses\, elected officials\, ranchers\, farmers\, and agency partners to identify strategies to advance clean energy initiatives across Oregon. \nPanel discussions and events include: \n\nSolar\, storage\, and microgrids\, presented by the Oregon Department of Energy\nOregon’s Community Solar Program with the Oregon Public Utility Commission\nA path to net zero for public facilities\nAn incremental guide to Energy Planning: Perspectives from City of Talent\, Hood River County\, and City of Bend\nPolicy roundup: Featuring Carbon Cap-and-Invest\, Senate Bill 978\, and evolutions on solar siting\nGreen building tour at Bend Science Station and reception at The Environmental Center on Thursday evening\n\nRegister today!  \nFor questions about the Symposium or the Making Energy Work for Rural Oregon Network contact Bridget Callahan\, Energy Program Associate\, at (503) 756-0494 or bcallahan@sustainablenorthwest.org.
URL:https://envirocenter.org/event/fall-energy-symposium/
LOCATION:Deschutes Brewery Public House\, 1044 NW Bond St\, Bend\, OR\, 97701\, United States
CATEGORIES:Climate|Energy
GEO:44.0593984;-121.3113079
X-APPLE-STRUCTURED-LOCATION;VALUE=URI;X-ADDRESS=Deschutes Brewery Public House 1044 NW Bond St Bend OR 97701 United States;X-APPLE-RADIUS=500;X-TITLE=1044 NW Bond St:geo:-121.3113079,44.0593984
END:VEVENT
BEGIN:VEVENT
DTSTART;VALUE=DATE:20181101
DTEND;VALUE=DATE:20181102
DTSTAMP:20260422T081513
CREATED:20160803T235848Z
LAST-MODIFIED:20230503T200442Z
UID:10000693-1541092500-1541102400@envirocenter.org
SUMMARY:Bend COTA Work Events
DESCRIPTION:When:  Thursday Aug 11\, Tuesday Aug 16\, Tuesday Aug 23 and Tuesday Aug 30\, 5:15 to Dusk \nWhere:  Meet at the old Ray’s parking lot\, NE corner of Simpson Ave and Century Drive in Bend \nWorksite:  Varies \nThere’s only one thing better than mountain biking in Bend\, OR and that’s riding in Bend\, knowing that you helped build and maintain the trails you love. \nPlease bring a hydration pack with water and a snack. \nBe sure to bring appropriate layers to accommodate whatever the weather may be. \nQuestions?  contact@cotamtb.com \nAll COTA trail work events require the following safety measures: \nAll participants are required to have the following protective clothing and equipment: \n\nSturdy shoes or boots\nGloves\nEye protection with clear or light colored lens\nLong pants\n\nDue to COTA’s insurance requirements and the inherent dangers of trail work\, we must implement the following policy regarding children at work events: \n\nFor anyone 14 years of age or younger\, we require one parent\, guardian\, or responsible adult for supervision of every four kids attending any COTA trail work events.\nAll minors under the age of 18 must have a parent or guardian available to sign our waiver.\n\nAnyone who arrives for a work event may be turned away if he/she cannot meet the above requirements.
URL:https://envirocenter.org/event/bend-cota-work-events-2016-08-11/
LOCATION:Deschutes Brewery Public House\, 1044 NW Bond St\, Bend\, OR\, 97701\, United States
GEO:44.0593984;-121.3113079
X-APPLE-STRUCTURED-LOCATION;VALUE=URI;X-ADDRESS=Deschutes Brewery Public House 1044 NW Bond St Bend OR 97701 United States;X-APPLE-RADIUS=500;X-TITLE=1044 NW Bond St:geo:-121.3113079,44.0593984
END:VEVENT
BEGIN:VEVENT
DTSTART;VALUE=DATE:20181102
DTEND;VALUE=DATE:20181103
DTSTAMP:20260422T081513
CREATED:20181010T013325Z
LAST-MODIFIED:20230503T200755Z
UID:10001249-1541178000-1541192400@envirocenter.org
SUMMARY:2019 Wild Desert Calendar Release Party
DESCRIPTION:Join us in celebrating the release of ONDA’s 15th Wild Desert Calendar at the Deschutes Brewery Public House! Meet the photographers featured in the 2019 calendar and enjoy a First Friday filled with food\, drink\, and photographs from local artists and community members. Images will be available for purchase. This event is free and open to all. We hope to see you there!
URL:https://envirocenter.org/event/2019-wild-desert-calendar-release-party/
LOCATION:Deschutes Brewery Public House\, 1044 NW Bond St\, Bend\, OR\, 97701\, United States
GEO:44.0593984;-121.3113079
X-APPLE-STRUCTURED-LOCATION;VALUE=URI;X-ADDRESS=Deschutes Brewery Public House 1044 NW Bond St Bend OR 97701 United States;X-APPLE-RADIUS=500;X-TITLE=1044 NW Bond St:geo:-121.3113079,44.0593984
END:VEVENT
END:VCALENDAR