BEGIN:VCALENDAR
VERSION:2.0
PRODID:-//The Environmental Center - ECPv6.15.20//NONSGML v1.0//EN
CALSCALE:GREGORIAN
METHOD:PUBLISH
X-ORIGINAL-URL:https://envirocenter.org
X-WR-CALDESC:Events for The Environmental Center
REFRESH-INTERVAL;VALUE=DURATION:PT1H
X-Robots-Tag:noindex
X-PUBLISHED-TTL:PT1H
BEGIN:VTIMEZONE
TZID:America/Los_Angeles
BEGIN:DAYLIGHT
TZOFFSETFROM:-0800
TZOFFSETTO:-0700
TZNAME:PDT
DTSTART:20160313T100000
END:DAYLIGHT
BEGIN:STANDARD
TZOFFSETFROM:-0700
TZOFFSETTO:-0800
TZNAME:PST
DTSTART:20161106T090000
END:STANDARD
BEGIN:DAYLIGHT
TZOFFSETFROM:-0800
TZOFFSETTO:-0700
TZNAME:PDT
DTSTART:20170312T100000
END:DAYLIGHT
BEGIN:STANDARD
TZOFFSETFROM:-0700
TZOFFSETTO:-0800
TZNAME:PST
DTSTART:20171105T090000
END:STANDARD
BEGIN:DAYLIGHT
TZOFFSETFROM:-0800
TZOFFSETTO:-0700
TZNAME:PDT
DTSTART:20180311T100000
END:DAYLIGHT
BEGIN:STANDARD
TZOFFSETFROM:-0700
TZOFFSETTO:-0800
TZNAME:PST
DTSTART:20181104T090000
END:STANDARD
END:VTIMEZONE
BEGIN:VEVENT
DTSTART;VALUE=DATE:20170322
DTEND;VALUE=DATE:20170323
DTSTAMP:20260423T124902
CREATED:20170320T224551Z
LAST-MODIFIED:20230503T200542Z
UID:10001015-1490198400-1490205600@envirocenter.org
SUMMARY:Ice Skating With Camp Fire
DESCRIPTION:Join Camp Fire Central Oregon to celebrate Absolutely Incredible Kid Day here in Central Oregon at the Pavilion in Bend. Open skate will be from 1:15 – 3:45 pm. We will also be playing fun games\, and writing letters to the incredible kids in our lives. \nRSVP HERE and your kids can skate for free if you are one of the first 50 people to sign up!  \nP.S. Whether you plan to attend or not\, you can still participate in Absolutely Incredible Kid Day by writing a letter of appreciation to a special child in your life. Just keep it simple\, write from the heart\, and list some of the things you truly admire and appreciate about your incredible kid. And don’t forget to CLICK HERE to print out a special letterhead that you can use to write on! \nAbout AIK Day: \nCamp Fire’s Absolutely Incredible Kid Day® honors our nation’s youth by asking adults to write letters of encouragement and inspiration to the incredible kids in their lives. It is a simple\, meaningful way to let youth know how much they are appreciated. Join Camp Fire and our many corporate and philanthropic partners as we celebrate the amazing kids who impact our community and communities around the country. Youth from around the nation will be celebrating along with you as we recognize absolutely incredible kids at Camp Fire council events around the nation\, on social media channels like Facebook and Twitter\, in video on YouTube and at live events. AIKD is a day designated to honor our nation’s youth. Adults and teens are asked to write\, post\, tweet\, and tag (#AIKD) notes of encouragement and inspiration. It is a simple\, meaningful way to let youth know how much they are appreciated. Lives are changed by this simple act of love and kindness CLICK HERE to learn more.
URL:https://envirocenter.org/event/ice-skating-camp-fire/
LOCATION:Deschutes Brewery Public House\, 1044 NW Bond St\, Bend\, OR\, 97701\, United States
GEO:44.0593984;-121.3113079
X-APPLE-STRUCTURED-LOCATION;VALUE=URI;X-ADDRESS=Deschutes Brewery Public House 1044 NW Bond St Bend OR 97701 United States;X-APPLE-RADIUS=500;X-TITLE=1044 NW Bond St:geo:-121.3113079,44.0593984
END:VEVENT
BEGIN:VEVENT
DTSTART;VALUE=DATE:20170322
DTEND;VALUE=DATE:20170323
DTSTAMP:20260423T124902
CREATED:20170302T050040Z
LAST-MODIFIED:20230503T200532Z
UID:10002800-1490209200-1490214600@envirocenter.org
SUMMARY:March Nature Night
DESCRIPTION:Behind the Scenes With Black Bears \nBlack bears are the most common bears in our region\, yet most of us know little of this omnivore and its habits and habitats. Join wildlife biologist Dana Sanchez for glimpse into the life of North America’s smallest bear species to learn about their ecology\, range\, abilities\, and opportunistic diets. Dana will also discuss the skill bears exhibit in adapting to human habits which can present significant challenges for both humans and bears in places where we share space and resources. \nThis event is free\, but registration is required. Registration opens 1 month prior to the event. \nDana Sanchez is an Associate Professor of Fisheries and Wildlife and an Extension Wildlife Specialist at Oregon State University in Corvallis. She holds a PhD in natural resources from the University of Idaho and her research focuses on North American mammals from the very small to the very large. Dana also explores the effectiveness of online learning and how to broaden participation in science professions among members of underrepresented groups. Dana has lived in the West most of her life and in her spare time enjoys gardening and training her dog\, a Nova Scotia Duck Tolling Retriever.\n**Registration opens February 22nd**
URL:https://envirocenter.org/event/march-nature-night/
LOCATION:Deschutes Brewery Public House\, 1044 NW Bond St\, Bend\, OR\, 97701\, United States
GEO:44.0593984;-121.3113079
X-APPLE-STRUCTURED-LOCATION;VALUE=URI;X-ADDRESS=Deschutes Brewery Public House 1044 NW Bond St Bend OR 97701 United States;X-APPLE-RADIUS=500;X-TITLE=1044 NW Bond St:geo:-121.3113079,44.0593984
END:VEVENT
BEGIN:VEVENT
DTSTART;VALUE=DATE:20170323
DTEND;VALUE=DATE:20170324
DTSTAMP:20260423T124902
CREATED:20170126T024214Z
LAST-MODIFIED:20230503T200517Z
UID:10000978-1490259600-1490284800@envirocenter.org
SUMMARY:Clean Green Lobby Machine
DESCRIPTION:Join OLCV and the Oregon Conservation Network for an important day at the State Capitol. Learn the ropes of the process\, politics\, and then lobby your own legislators on the 2017 Priorities for a Healthy Oregon. \nIf we want our state to take meaningful action on climate change\, protecting our wildlife and wild places\, and ensuring a healthy Oregon\, then we need your voice in Salem. \nRSVP today! Sign up at olcv.org for updates or follow online at facebook.com/oregonolcv.
URL:https://envirocenter.org/event/clean-green-lobby-machine/
LOCATION:Deschutes Brewery Public House\, 1044 NW Bond St\, Bend\, OR\, 97701\, United States
CATEGORIES:Climate
GEO:44.0593984;-121.3113079
X-APPLE-STRUCTURED-LOCATION;VALUE=URI;X-ADDRESS=Deschutes Brewery Public House 1044 NW Bond St Bend OR 97701 United States;X-APPLE-RADIUS=500;X-TITLE=1044 NW Bond St:geo:-121.3113079,44.0593984
END:VEVENT
BEGIN:VEVENT
DTSTART;VALUE=DATE:20170323
DTEND;VALUE=DATE:20170324
DTSTAMP:20260423T124902
CREATED:20160803T235848Z
LAST-MODIFIED:20230503T200442Z
UID:10000609-1490289300-1490299200@envirocenter.org
SUMMARY:Bend COTA Work Events
DESCRIPTION:When:  Thursday Aug 11\, Tuesday Aug 16\, Tuesday Aug 23 and Tuesday Aug 30\, 5:15 to Dusk \nWhere:  Meet at the old Ray’s parking lot\, NE corner of Simpson Ave and Century Drive in Bend \nWorksite:  Varies \nThere’s only one thing better than mountain biking in Bend\, OR and that’s riding in Bend\, knowing that you helped build and maintain the trails you love. \nPlease bring a hydration pack with water and a snack. \nBe sure to bring appropriate layers to accommodate whatever the weather may be. \nQuestions?  contact@cotamtb.com \nAll COTA trail work events require the following safety measures: \nAll participants are required to have the following protective clothing and equipment: \n\nSturdy shoes or boots\nGloves\nEye protection with clear or light colored lens\nLong pants\n\nDue to COTA’s insurance requirements and the inherent dangers of trail work\, we must implement the following policy regarding children at work events: \n\nFor anyone 14 years of age or younger\, we require one parent\, guardian\, or responsible adult for supervision of every four kids attending any COTA trail work events.\nAll minors under the age of 18 must have a parent or guardian available to sign our waiver.\n\nAnyone who arrives for a work event may be turned away if he/she cannot meet the above requirements.
URL:https://envirocenter.org/event/bend-cota-work-events-2016-08-11/
LOCATION:Deschutes Brewery Public House\, 1044 NW Bond St\, Bend\, OR\, 97701\, United States
GEO:44.0593984;-121.3113079
X-APPLE-STRUCTURED-LOCATION;VALUE=URI;X-ADDRESS=Deschutes Brewery Public House 1044 NW Bond St Bend OR 97701 United States;X-APPLE-RADIUS=500;X-TITLE=1044 NW Bond St:geo:-121.3113079,44.0593984
END:VEVENT
END:VCALENDAR