BEGIN:VCALENDAR
VERSION:2.0
PRODID:-//The Environmental Center - ECPv6.15.20//NONSGML v1.0//EN
CALSCALE:GREGORIAN
METHOD:PUBLISH
X-ORIGINAL-URL:https://envirocenter.org
X-WR-CALDESC:Events for The Environmental Center
REFRESH-INTERVAL;VALUE=DURATION:PT1H
X-Robots-Tag:noindex
X-PUBLISHED-TTL:PT1H
BEGIN:VTIMEZONE
TZID:America/Los_Angeles
BEGIN:DAYLIGHT
TZOFFSETFROM:-0800
TZOFFSETTO:-0700
TZNAME:PDT
DTSTART:20160313T100000
END:DAYLIGHT
BEGIN:STANDARD
TZOFFSETFROM:-0700
TZOFFSETTO:-0800
TZNAME:PST
DTSTART:20161106T090000
END:STANDARD
BEGIN:DAYLIGHT
TZOFFSETFROM:-0800
TZOFFSETTO:-0700
TZNAME:PDT
DTSTART:20170312T100000
END:DAYLIGHT
BEGIN:STANDARD
TZOFFSETFROM:-0700
TZOFFSETTO:-0800
TZNAME:PST
DTSTART:20171105T090000
END:STANDARD
BEGIN:DAYLIGHT
TZOFFSETFROM:-0800
TZOFFSETTO:-0700
TZNAME:PDT
DTSTART:20180311T100000
END:DAYLIGHT
BEGIN:STANDARD
TZOFFSETFROM:-0700
TZOFFSETTO:-0800
TZNAME:PST
DTSTART:20181104T090000
END:STANDARD
END:VTIMEZONE
BEGIN:VEVENT
DTSTART;VALUE=DATE:20170225
DTEND;VALUE=DATE:20170227
DTSTAMP:20260422T235908
CREATED:20170214T015804Z
LAST-MODIFIED:20230503T200526Z
UID:10000991-1488016800-1488121200@envirocenter.org
SUMMARY:Eagle Watch
DESCRIPTION:The 22nd annual Eagle Watch Celebration is on February 25-26 at Round Butte Overlook Park near Madras. The celebration focuses on the eagles and other raptors that live in the Lake Billy Chinook area. This is a family-friendly event that includes live birds of prey\, wild eagle viewing\, raptor education\, kids activities\, and a special presentation of tribal drumming and dancing by The Quartz Creek Drummers and Dancers. \nThe event is from 10am-4pm on Saturday and 10am-3pm on Sunday.  It is hosted by Oregon Parks and Recreation Department\, Portland General Electric\, Crooked River Grassland\, and the Confederated Tribes of Warm Springs. \nTo learn more\, visit the event facebook page.
URL:https://envirocenter.org/event/eagle-watch-2017-02-25/
LOCATION:Deschutes Brewery Public House\, 1044 NW Bond St\, Bend\, OR\, 97701\, United States
GEO:44.0593984;-121.3113079
X-APPLE-STRUCTURED-LOCATION;VALUE=URI;X-ADDRESS=Deschutes Brewery Public House 1044 NW Bond St Bend OR 97701 United States;X-APPLE-RADIUS=500;X-TITLE=1044 NW Bond St:geo:-121.3113079,44.0593984
END:VEVENT
BEGIN:VEVENT
DTSTART;VALUE=DATE:20170226
DTEND;VALUE=DATE:20170228
DTSTAMP:20260422T235908
CREATED:20170214T015804Z
LAST-MODIFIED:20230503T200526Z
UID:10000992-1488103200-1488207600@envirocenter.org
SUMMARY:Eagle Watch
DESCRIPTION:The 22nd annual Eagle Watch Celebration is on February 25-26 at Round Butte Overlook Park near Madras. The celebration focuses on the eagles and other raptors that live in the Lake Billy Chinook area. This is a family-friendly event that includes live birds of prey\, wild eagle viewing\, raptor education\, kids activities\, and a special presentation of tribal drumming and dancing by The Quartz Creek Drummers and Dancers. \nThe event is from 10am-4pm on Saturday and 10am-3pm on Sunday.  It is hosted by Oregon Parks and Recreation Department\, Portland General Electric\, Crooked River Grassland\, and the Confederated Tribes of Warm Springs. \nTo learn more\, visit the event facebook page.
URL:https://envirocenter.org/event/eagle-watch-2017-02-25/
LOCATION:Deschutes Brewery Public House\, 1044 NW Bond St\, Bend\, OR\, 97701\, United States
GEO:44.0593984;-121.3113079
X-APPLE-STRUCTURED-LOCATION;VALUE=URI;X-ADDRESS=Deschutes Brewery Public House 1044 NW Bond St Bend OR 97701 United States;X-APPLE-RADIUS=500;X-TITLE=1044 NW Bond St:geo:-121.3113079,44.0593984
END:VEVENT
BEGIN:VEVENT
DTSTART;VALUE=DATE:20170227
DTEND;VALUE=DATE:20170228
DTSTAMP:20260422T235908
CREATED:20170204T003833Z
LAST-MODIFIED:20230503T200524Z
UID:10002786-1488207600-1488214800@envirocenter.org
SUMMARY:Farmer Chef Mixer
DESCRIPTION:Chef workshop \nOn the table – developing a Chef’s Collaborative. Join the discussion! \nChef-Farmer Workshop \nOne-on-one time with farmers and chefs.  Bring your foodie desires and price sheets.  Food & Bevie included \nFarmer Workshop \nWhat’s the difference between direct and wholesale markets? From farmer’s markets to CSA and restaurant to institution\, each market has distinct characteristics. \nRSVP Today! \n\nWorkshops are FREE\nThe Mixer costs $10 and includes food and beverages.  We will send you a link via PayPal to pay for the event or you can pay by check or cash at the event.
URL:https://envirocenter.org/event/farmer-chef-mixer/
LOCATION:Deschutes Brewery Public House\, 1044 NW Bond St\, Bend\, OR\, 97701\, United States
GEO:44.0593984;-121.3113079
X-APPLE-STRUCTURED-LOCATION;VALUE=URI;X-ADDRESS=Deschutes Brewery Public House 1044 NW Bond St Bend OR 97701 United States;X-APPLE-RADIUS=500;X-TITLE=1044 NW Bond St:geo:-121.3113079,44.0593984
END:VEVENT
BEGIN:VEVENT
DTSTART;VALUE=DATE:20170301
DTEND;VALUE=DATE:20170302
DTSTAMP:20260422T235908
CREATED:20170214T045642Z
LAST-MODIFIED:20230503T200530Z
UID:10000994-1488391200-1488396600@envirocenter.org
SUMMARY:Inner Sustainability through Living Mindfully
DESCRIPTION:Whatever our outer work\, our effectiveness in it depends on how well we are sustaining ourselves on the inside. The practical tools of mindfulness help to reconnect our attention and intention with values and wisdom\, that alignment that often gets watered down or lost altogether\, as we face the challenges and stresses of our lives. Mindfulness is foundational to making the world a better place\, by starting with yourself. \nLaura Bartels\, Executive Director of the Mindful Life Program based in Colorado\, will talk about how developing the four key areas of mindfulness—attention\, values\, wisdom and an open heart—can transform your life and build resiliency.  Join her on March 1st at 6 pm for this free talk entitled “Inner Sustainability through Living Mindfully” followed by a time for questions. The talk will take place at The Environmental Center\, 16 NW Kansas Avenue\, Bend.  \nBy far\, one of the biggest obstacles to finding inner peace and developing our highest potential is the inability to direct our attention where we would like\, such as to our intentions for the day or to those activities that are meaningful for us. Through mindfulness\, we can consciously train our mind and develop the ability to direct it where we would like and attend to what we choose to attend to. If we don’t train our mind\, it can endlessly drag us from one thought to another\, compulsively drawing our attention away from what we are presently doing and from what we would like to be thinking about. How much of each day are we able to actually be in the present moment? So much of our life goes by without actually being present in the moment. If we are minds aren’t in the present\, then we cannot consciously bring our intention to our days. Researchers report that a wandering mind can be a detriment to being happy.   \nBartels says\, “Mindfulness goes well beyond individual benefits and supports positive impacts on others and our communities\, creating more compassionate and equitable relationships.”  \nLaura Bartels will share the full MLP Mindfulness Foundations course March 3rd – 5th\, which offers practical\, accessible and universal skills to live a meaningful life. Learn more about this and other upcoming courses and programs at www.mindfullifeprogram.org.
URL:https://envirocenter.org/event/inner-sustainability-living-mindfully/
LOCATION:Deschutes Brewery Public House\, 1044 NW Bond St\, Bend\, OR\, 97701\, United States
GEO:44.0593984;-121.3113079
X-APPLE-STRUCTURED-LOCATION;VALUE=URI;X-ADDRESS=Deschutes Brewery Public House 1044 NW Bond St Bend OR 97701 United States;X-APPLE-RADIUS=500;X-TITLE=1044 NW Bond St:geo:-121.3113079,44.0593984
END:VEVENT
BEGIN:VEVENT
DTSTART;VALUE=DATE:20170302
DTEND;VALUE=DATE:20170303
DTSTAMP:20260422T235908
CREATED:20160803T235848Z
LAST-MODIFIED:20230503T200442Z
UID:10000606-1488474900-1488484800@envirocenter.org
SUMMARY:Bend COTA Work Events
DESCRIPTION:When:  Thursday Aug 11\, Tuesday Aug 16\, Tuesday Aug 23 and Tuesday Aug 30\, 5:15 to Dusk \nWhere:  Meet at the old Ray’s parking lot\, NE corner of Simpson Ave and Century Drive in Bend \nWorksite:  Varies \nThere’s only one thing better than mountain biking in Bend\, OR and that’s riding in Bend\, knowing that you helped build and maintain the trails you love. \nPlease bring a hydration pack with water and a snack. \nBe sure to bring appropriate layers to accommodate whatever the weather may be. \nQuestions?  contact@cotamtb.com \nAll COTA trail work events require the following safety measures: \nAll participants are required to have the following protective clothing and equipment: \n\nSturdy shoes or boots\nGloves\nEye protection with clear or light colored lens\nLong pants\n\nDue to COTA’s insurance requirements and the inherent dangers of trail work\, we must implement the following policy regarding children at work events: \n\nFor anyone 14 years of age or younger\, we require one parent\, guardian\, or responsible adult for supervision of every four kids attending any COTA trail work events.\nAll minors under the age of 18 must have a parent or guardian available to sign our waiver.\n\nAnyone who arrives for a work event may be turned away if he/she cannot meet the above requirements.
URL:https://envirocenter.org/event/bend-cota-work-events-2016-08-11/
LOCATION:Deschutes Brewery Public House\, 1044 NW Bond St\, Bend\, OR\, 97701\, United States
GEO:44.0593984;-121.3113079
X-APPLE-STRUCTURED-LOCATION;VALUE=URI;X-ADDRESS=Deschutes Brewery Public House 1044 NW Bond St Bend OR 97701 United States;X-APPLE-RADIUS=500;X-TITLE=1044 NW Bond St:geo:-121.3113079,44.0593984
END:VEVENT
END:VCALENDAR