BEGIN:VCALENDAR
VERSION:2.0
PRODID:-//The Environmental Center - ECPv6.15.20//NONSGML v1.0//EN
CALSCALE:GREGORIAN
METHOD:PUBLISH
X-ORIGINAL-URL:https://envirocenter.org
X-WR-CALDESC:Events for The Environmental Center
REFRESH-INTERVAL;VALUE=DURATION:PT1H
X-Robots-Tag:noindex
X-PUBLISHED-TTL:PT1H
BEGIN:VTIMEZONE
TZID:America/Los_Angeles
BEGIN:DAYLIGHT
TZOFFSETFROM:-0800
TZOFFSETTO:-0700
TZNAME:PDT
DTSTART:20160313T100000
END:DAYLIGHT
BEGIN:STANDARD
TZOFFSETFROM:-0700
TZOFFSETTO:-0800
TZNAME:PST
DTSTART:20161106T090000
END:STANDARD
BEGIN:DAYLIGHT
TZOFFSETFROM:-0800
TZOFFSETTO:-0700
TZNAME:PDT
DTSTART:20170312T100000
END:DAYLIGHT
BEGIN:STANDARD
TZOFFSETFROM:-0700
TZOFFSETTO:-0800
TZNAME:PST
DTSTART:20171105T090000
END:STANDARD
BEGIN:DAYLIGHT
TZOFFSETFROM:-0800
TZOFFSETTO:-0700
TZNAME:PDT
DTSTART:20180311T100000
END:DAYLIGHT
BEGIN:STANDARD
TZOFFSETFROM:-0700
TZOFFSETTO:-0800
TZNAME:PST
DTSTART:20181104T090000
END:STANDARD
END:VTIMEZONE
BEGIN:VEVENT
DTSTART;VALUE=DATE:20170206
DTEND;VALUE=DATE:20170207
DTSTAMP:20260422T235913
CREATED:20170204T003411Z
LAST-MODIFIED:20230503T200523Z
UID:10002784-1486391400-1486396800@envirocenter.org
SUMMARY:Farmer Chef Workshops
DESCRIPTION:Chef workshop \nOn the table – developing a Chef’s Collaborative. Join the discussion! \nChef-Farmer Workshop \nOne-on-one time with farmers and chefs.  Bring your foodie desires and price sheets.  Food & Bevie included \nFarmer Workshop \nWhat’s the difference between direct and wholesale markets? From farmer’s markets to CSA and restaurant to institution\, each market has distinct characteristics. \nRSVP Today! \n\nWorkshops are FREE\nThe Mixer costs $10 and includes food and beverages.  We will send you a link via PayPal to pay for the event or you can pay by check or cash at the event.
URL:https://envirocenter.org/event/farmer-chef-workshops/
LOCATION:Deschutes Brewery Public House\, 1044 NW Bond St\, Bend\, OR\, 97701\, United States
GEO:44.0593984;-121.3113079
X-APPLE-STRUCTURED-LOCATION;VALUE=URI;X-ADDRESS=Deschutes Brewery Public House 1044 NW Bond St Bend OR 97701 United States;X-APPLE-RADIUS=500;X-TITLE=1044 NW Bond St:geo:-121.3113079,44.0593984
END:VEVENT
BEGIN:VEVENT
DTSTART;VALUE=DATE:20170207
DTEND;VALUE=DATE:20170208
DTSTAMP:20260422T235913
CREATED:20170204T003634Z
LAST-MODIFIED:20230503T200523Z
UID:10002785-1486483200-1486488600@envirocenter.org
SUMMARY:Farmer Chef Workshops
DESCRIPTION:Chef workshop \nOn the table – developing a Chef’s Collaborative. Join the discussion! \nChef-Farmer Workshop \nOne-on-one time with farmers and chefs.  Bring your foodie desires and price sheets.  Food & Bevie included \nFarmer Workshop \nWhat’s the difference between direct and wholesale markets? From farmer’s markets to CSA and restaurant to institution\, each market has distinct characteristics. \nRSVP Today! \n\nWorkshops are FREE\nThe Mixer costs $10 and includes food and beverages.  We will send you a link via PayPal to pay for the event or you can pay by check or cash at the event.
URL:https://envirocenter.org/event/farmer-chef-workshops-2/
LOCATION:Deschutes Brewery Public House\, 1044 NW Bond St\, Bend\, OR\, 97701\, United States
GEO:44.0593984;-121.3113079
X-APPLE-STRUCTURED-LOCATION;VALUE=URI;X-ADDRESS=Deschutes Brewery Public House 1044 NW Bond St Bend OR 97701 United States;X-APPLE-RADIUS=500;X-TITLE=1044 NW Bond St:geo:-121.3113079,44.0593984
END:VEVENT
BEGIN:VEVENT
DTSTART;VALUE=DATE:20170207
DTEND;VALUE=DATE:20170208
DTSTAMP:20260422T235913
CREATED:20170201T234955Z
LAST-MODIFIED:20230503T200522Z
UID:10000982-1486490400-1486495800@envirocenter.org
SUMMARY:Central Oregon Pride 2017 Volunteer Kickoff
DESCRIPTION:Do you want to help make Central Oregon Pride 2017 the best Pride ever? Human Dignity Coalition is looking for a core group of dedicated volunteers! At this meeting\, we will be discussing ideas\, plans and volunteer needs for the planning of Pride at Drake Park on June 24th\, 2017. \nPlease come join us if you want to take an active role as a volunteer this year or if you have ideas or skills to offer in planning.
URL:https://envirocenter.org/event/pride-2017-planning/
LOCATION:Deschutes Brewery Public House\, 1044 NW Bond St\, Bend\, OR\, 97701\, United States
GEO:44.0593984;-121.3113079
X-APPLE-STRUCTURED-LOCATION;VALUE=URI;X-ADDRESS=Deschutes Brewery Public House 1044 NW Bond St Bend OR 97701 United States;X-APPLE-RADIUS=500;X-TITLE=1044 NW Bond St:geo:-121.3113079,44.0593984
END:VEVENT
BEGIN:VEVENT
DTSTART;VALUE=DATE:20170207
DTEND;VALUE=DATE:20170208
DTSTAMP:20260422T235913
CREATED:20170113T012919Z
LAST-MODIFIED:20230503T200516Z
UID:10002776-1486494000-1486499400@envirocenter.org
SUMMARY:The Secret Lives of Sage Grouse
DESCRIPTION:High Desert Speaker Series Bend: Stuart Garrett- The Secret Lives of Sage Grouse\nThe Greater sage-grouse is an imperiled bird that lives on public lands right in our backyard. The elaborate courtship ritual and decorated plumage of this bird have captivated the minds and hearts of desert visitors throughout the western United States. But this bird has faced a number of threats in recent years that led scientists to consider its listing under the Endangered Species Act. In recent years\, federal agencies have developed new protection guidelines for this bird in lieu of listing. \nLocal physician and conservation advocate Stuart Garrett will discuss recent attempts to protect the sage-grouse and highlight how sagebrush habitat is important to the bird’s life cycle. Don’t miss this chance to get more information on how we can protect habitat for this bird that lives on public lands in our own high desert backyard! \nJoin us for an evening highlighting the best of your high desert. \nThe event is free and open to the public. Space is limited. Doors will open at 6:30p.m. with the speaker beginning at 7p.m. For more information about other speakers in this series\, visit ONDA.org/HighDesertSeries
URL:https://envirocenter.org/event/the-secret-lives-of-sage-grouse/
LOCATION:Deschutes Brewery Public House\, 1044 NW Bond St\, Bend\, OR\, 97701\, United States
GEO:44.0593984;-121.3113079
X-APPLE-STRUCTURED-LOCATION;VALUE=URI;X-ADDRESS=Deschutes Brewery Public House 1044 NW Bond St Bend OR 97701 United States;X-APPLE-RADIUS=500;X-TITLE=1044 NW Bond St:geo:-121.3113079,44.0593984
END:VEVENT
BEGIN:VEVENT
DTSTART;VALUE=DATE:20170209
DTEND;VALUE=DATE:20170210
DTSTAMP:20260422T235913
CREATED:20170120T071953Z
LAST-MODIFIED:20230503T200517Z
UID:10002781-1486652400-1486657800@envirocenter.org
SUMMARY:Energy Education with NeighborImpact
DESCRIPTION:Save Money & Save Energy by attending a NeighborImpact Energy Education Workshop!\nEach Energy Education participant will receive an Energy Toll Kit with energy savings for items for your home. \nSign up today by emailing: HomeWX@neighborimpact.org or calling: (541) 316-2034.
URL:https://envirocenter.org/event/energy-education-neighborimpact/
LOCATION:Deschutes Brewery Public House\, 1044 NW Bond St\, Bend\, OR\, 97701\, United States
CATEGORIES:Climate
GEO:44.0593984;-121.3113079
X-APPLE-STRUCTURED-LOCATION;VALUE=URI;X-ADDRESS=Deschutes Brewery Public House 1044 NW Bond St Bend OR 97701 United States;X-APPLE-RADIUS=500;X-TITLE=1044 NW Bond St:geo:-121.3113079,44.0593984
END:VEVENT
BEGIN:VEVENT
DTSTART;VALUE=DATE:20170209
DTEND;VALUE=DATE:20170210
DTSTAMP:20260422T235913
CREATED:20170121T005834Z
LAST-MODIFIED:20230503T200517Z
UID:10000977-1486660500-1486668600@envirocenter.org
SUMMARY:The Housing Game
DESCRIPTION:Put on your planning hats and join Central Oregon LandWatch and Stemach Design + Architecture for a free interactive event where you’ll discover what’s required to create market rate affordable housing in Bend! \nFirst presented at the Bend Design Conference\, The Housing Game is a unique hands-on activity developed and presented by local architects and designers Stacey Stemach\, Rachel Stemach\, ML Vidas\, and Heather Crank. \nThis educational experience will help citizens understand challenges and potential solutions to one of Bend’s most pressing issues. We provide the legos and beer\, you bring the problem-solving creativity. Can you make it work? \nNo experience necessary; all are welcome! RSVP Required.
URL:https://envirocenter.org/event/the-housing-game/
LOCATION:Deschutes Brewery Public House\, 1044 NW Bond St\, Bend\, OR\, 97701\, United States
GEO:44.0593984;-121.3113079
X-APPLE-STRUCTURED-LOCATION;VALUE=URI;X-ADDRESS=Deschutes Brewery Public House 1044 NW Bond St Bend OR 97701 United States;X-APPLE-RADIUS=500;X-TITLE=1044 NW Bond St:geo:-121.3113079,44.0593984
END:VEVENT
BEGIN:VEVENT
DTSTART;VALUE=DATE:20170209
DTEND;VALUE=DATE:20170210
DTSTAMP:20260422T235913
CREATED:20160803T235848Z
LAST-MODIFIED:20230503T200442Z
UID:10000603-1486660500-1486670400@envirocenter.org
SUMMARY:Bend COTA Work Events
DESCRIPTION:When:  Thursday Aug 11\, Tuesday Aug 16\, Tuesday Aug 23 and Tuesday Aug 30\, 5:15 to Dusk \nWhere:  Meet at the old Ray’s parking lot\, NE corner of Simpson Ave and Century Drive in Bend \nWorksite:  Varies \nThere’s only one thing better than mountain biking in Bend\, OR and that’s riding in Bend\, knowing that you helped build and maintain the trails you love. \nPlease bring a hydration pack with water and a snack. \nBe sure to bring appropriate layers to accommodate whatever the weather may be. \nQuestions?  contact@cotamtb.com \nAll COTA trail work events require the following safety measures: \nAll participants are required to have the following protective clothing and equipment: \n\nSturdy shoes or boots\nGloves\nEye protection with clear or light colored lens\nLong pants\n\nDue to COTA’s insurance requirements and the inherent dangers of trail work\, we must implement the following policy regarding children at work events: \n\nFor anyone 14 years of age or younger\, we require one parent\, guardian\, or responsible adult for supervision of every four kids attending any COTA trail work events.\nAll minors under the age of 18 must have a parent or guardian available to sign our waiver.\n\nAnyone who arrives for a work event may be turned away if he/she cannot meet the above requirements.
URL:https://envirocenter.org/event/bend-cota-work-events-2016-08-11/
LOCATION:Deschutes Brewery Public House\, 1044 NW Bond St\, Bend\, OR\, 97701\, United States
GEO:44.0593984;-121.3113079
X-APPLE-STRUCTURED-LOCATION;VALUE=URI;X-ADDRESS=Deschutes Brewery Public House 1044 NW Bond St Bend OR 97701 United States;X-APPLE-RADIUS=500;X-TITLE=1044 NW Bond St:geo:-121.3113079,44.0593984
END:VEVENT
BEGIN:VEVENT
DTSTART;VALUE=DATE:20170209
DTEND;VALUE=DATE:20170210
DTSTAMP:20260422T235913
CREATED:20161117T023253Z
LAST-MODIFIED:20230503T200505Z
UID:10000957-1486663200-1486668600@envirocenter.org
SUMMARY:Film Screening: Death by Design
DESCRIPTION:The Dirty Secret of Our Digital Addiction\n\n  \nJoin The Environmental Center at The Old Stone for a screening of Death by Design. \n\nWhat is the cost of our digital dependency?\n\n\n \n\n\nDeath by Design\, a feature length documentary\, explores this question and uncovers a global story of damaged lives\, environmental destruction and devices that are designed to die.\n\n\n \n\n\nConsumers love – and live on – their smartphones\, tablets and laptops. But this revolution has a dark side\, hidden from most consumers. From the intensely secretive factories in China\, to a ravaged New York community and the high tech corridors of Silicon Valley\, the film tells a story of environmental degradation\, of health tragedies\, and the fast approaching tipping point between consumerism and sustainability.\n\n\n \n\n\nMore about the film: http://deathbydesignfilm.com/\n\n$5 suggested donation at door. 
URL:https://envirocenter.org/event/film-screening-death-by-design/
LOCATION:Deschutes Brewery Public House\, 1044 NW Bond St\, Bend\, OR\, 97701\, United States
CATEGORIES:Film
GEO:44.0593984;-121.3113079
X-APPLE-STRUCTURED-LOCATION;VALUE=URI;X-ADDRESS=Deschutes Brewery Public House 1044 NW Bond St Bend OR 97701 United States;X-APPLE-RADIUS=500;X-TITLE=1044 NW Bond St:geo:-121.3113079,44.0593984
END:VEVENT
BEGIN:VEVENT
DTSTART;VALUE=DATE:20170210
DTEND;VALUE=DATE:20170211
DTSTAMP:20260422T235913
CREATED:20170204T003052Z
LAST-MODIFIED:20230503T200523Z
UID:10002783-1486720800-1486738800@envirocenter.org
SUMMARY:WWOLF at Fields Farm
DESCRIPTION:The WWOLF program provides organized volunteer assistance in the form of volunteers\, or “wwolf packs” to local farmers at their farms or ranches. In return volunteers learn where and how local food is grown while fostering an intimate connection with the food that sustains us all. \nWilling Workers On Local Farms (WWOLF) WWOLF is a community program of Central Oregon Locavore Non-Profit with the goal of lending a hand to small farmers while educating the community about the true nature of local food. \nHow It Works You will meet the group at Fields Farm at 10am or carpool from Locavore at 9:30am sharp. After a round of introductions\, we will split into groups and get to work. We will break for lunch around noon and then return to work until about 3pm. \nWhat to Expect Good times\, new friends\, and a boots-on-the-ground education about local farming practices. Children are welcome with adult supervision. We love dogs\, but please leave them at home for this event. \nWhat to Bring Snacks\, work gloves\, closed-toe shoes\, layers for the weather\, water\, and sunscreen. Tools and all materials needed to complete tasks will be provided by the farm. Lunch will be provided. \nAbout Fields Farm Fields Farm is a 10 acre vegetable farm located in the middle of Bend\, only a few miles from downtown. Fields is a Community Supported Agriculture Farm and has been growing on the land since 1989. Fields Farm is a sustainable farm using pesticide free\, soil builiding methods. They sell their produce at Bend Farmers Market\, Locavore\, Agricultural Connections\, and to various restaurants in the area. \nTasks at Fields Farm WWOLF tasks at Fields Farm will include mending greenhouses and prepping for the upcoming growing season. This WWOLF event is certain to be a cold one\, so please dress appropriately\, as we will be outside all day.
URL:https://envirocenter.org/event/wwolf-fields-farm/
LOCATION:Deschutes Brewery Public House\, 1044 NW Bond St\, Bend\, OR\, 97701\, United States
GEO:44.0593984;-121.3113079
X-APPLE-STRUCTURED-LOCATION;VALUE=URI;X-ADDRESS=Deschutes Brewery Public House 1044 NW Bond St Bend OR 97701 United States;X-APPLE-RADIUS=500;X-TITLE=1044 NW Bond St:geo:-121.3113079,44.0593984
END:VEVENT
BEGIN:VEVENT
DTSTART;VALUE=DATE:20170210
DTEND;VALUE=DATE:20170211
DTSTAMP:20260422T235913
CREATED:20170201T235239Z
LAST-MODIFIED:20230503T200522Z
UID:10000983-1486744200-1486747800@envirocenter.org
SUMMARY:The Vocal Seniority Meet and Greet
DESCRIPTION:The Vocal Seniority (Raising Cane)\, a newly formed civil society group originating in Bend\, is planning a Meet and Greet.  The Vocal Seniority was formed in Bend\, Oregon shortly after the presidential election by a seasoned group of concerned\, senior citizens who are alarmed about the direction the country appears to be headed. As elders with a strong sense of history\, The Vocal Seniority actively promotes social and economic justice and environmental sustainability.   \nWe would like to meet fellow Vocal Seniors and talk about what we most want to accomplish going forward.  If you are planning to join us there\, please RSVP: https://www.eventbrite.com/e/the-vocal-seniority-meet-greet-tickets-31557889497.
URL:https://envirocenter.org/event/vocal-seniority-meet-greet/
LOCATION:Deschutes Brewery Public House\, 1044 NW Bond St\, Bend\, OR\, 97701\, United States
GEO:44.0593984;-121.3113079
X-APPLE-STRUCTURED-LOCATION;VALUE=URI;X-ADDRESS=Deschutes Brewery Public House 1044 NW Bond St Bend OR 97701 United States;X-APPLE-RADIUS=500;X-TITLE=1044 NW Bond St:geo:-121.3113079,44.0593984
END:VEVENT
END:VCALENDAR