BEGIN:VCALENDAR
VERSION:2.0
PRODID:-//The Environmental Center - ECPv6.15.20//NONSGML v1.0//EN
CALSCALE:GREGORIAN
METHOD:PUBLISH
X-ORIGINAL-URL:https://envirocenter.org
X-WR-CALDESC:Events for The Environmental Center
REFRESH-INTERVAL;VALUE=DURATION:PT1H
X-Robots-Tag:noindex
X-PUBLISHED-TTL:PT1H
BEGIN:VTIMEZONE
TZID:America/Los_Angeles
BEGIN:DAYLIGHT
TZOFFSETFROM:-0800
TZOFFSETTO:-0700
TZNAME:PDT
DTSTART:20160313T100000
END:DAYLIGHT
BEGIN:STANDARD
TZOFFSETFROM:-0700
TZOFFSETTO:-0800
TZNAME:PST
DTSTART:20161106T090000
END:STANDARD
BEGIN:DAYLIGHT
TZOFFSETFROM:-0800
TZOFFSETTO:-0700
TZNAME:PDT
DTSTART:20170312T100000
END:DAYLIGHT
BEGIN:STANDARD
TZOFFSETFROM:-0700
TZOFFSETTO:-0800
TZNAME:PST
DTSTART:20171105T090000
END:STANDARD
BEGIN:DAYLIGHT
TZOFFSETFROM:-0800
TZOFFSETTO:-0700
TZNAME:PDT
DTSTART:20180311T100000
END:DAYLIGHT
BEGIN:STANDARD
TZOFFSETFROM:-0700
TZOFFSETTO:-0800
TZNAME:PST
DTSTART:20181104T090000
END:STANDARD
END:VTIMEZONE
BEGIN:VEVENT
DTSTART;VALUE=DATE:20170116
DTEND;VALUE=DATE:20170117
DTSTAMP:20260422T081519
CREATED:20170107T070746Z
LAST-MODIFIED:20230503T200516Z
UID:10002773-1484524800-1484611199@envirocenter.org
SUMMARY:Give Back to your Community with SOLVE this MLK Day!
DESCRIPTION:Get outdoors and make a difference for your local neighborhood or natural area this New Year!  This year we’re inviting you to join us in service to benefit local wildlife and communities. Events are led by local volunteer leaders and focus on improving our neighborhoods and natural areas with hands-on work including litter cleanup\, invasive plant removal\, planting native trees and shrubs and other restorative projects. \nVolunteers of all ages and abilities are encouraged to get involved. See all opportunities below: \n1/16 – Put Down Roots in Tualatin – Tualatin\nhttp://solveoregon.org/get-involved/events/put-down-roots-tualatin \n1/16 – Take Pride In Your Neighborhood Trash & Graffiti Removal – Portland\nhttp://solveoregon.org/get-involved/events/take-pride-your-neighborhood-trash-graffiti-removal \n1/16 – MLK Service Day Umpqua River Cleanup – Roseburg\nhttp://solveoregon.org/get-involved/events/mlk-service-day-umpqua-river-cleanup \nSpending just a few hours removing litter or invasive plants from our neighborhoods and natural areas\, or planting native trees and shrubs\, makes a big difference for wildlife\, water quality\, and communities. Sign up to get involved today! Visit our full calendar of events or contact SOLVE at 503-844-9571 ext. 332 or info@solveoregon.org.
URL:https://envirocenter.org/event/give-back-to-your-community-with-solve-this-mlk-day-2/
LOCATION:Deschutes Brewery Public House\, 1044 NW Bond St\, Bend\, OR\, 97701\, United States
GEO:44.0593984;-121.3113079
X-APPLE-STRUCTURED-LOCATION;VALUE=URI;X-ADDRESS=Deschutes Brewery Public House 1044 NW Bond St Bend OR 97701 United States;X-APPLE-RADIUS=500;X-TITLE=1044 NW Bond St:geo:-121.3113079,44.0593984
END:VEVENT
BEGIN:VEVENT
DTSTART;TZID=America/Los_Angeles:20170117T180000
DTEND;TZID=America/Los_Angeles:20170117T203000
DTSTAMP:20260422T081519
CREATED:20170111T173453Z
LAST-MODIFIED:20170111T173453Z
UID:10002774-1484676000-1484685000@envirocenter.org
SUMMARY:Awesome Bend Pitch Night
DESCRIPTION:Live crowdfunding– Shark Tank style– for community good! \nFinalists pitch creative ideas to make Bend more awesome and vie for $1000+ on the spot. Join us for a free feel-good evening of ideas & inspiration! \n6:00- Doors open\n6:30- Welcome and Past Winner\n6:45-7:45 Pitches\n7:45- Trustees Vote/Audience Vote\n8:05- Announce Winners\n8:30- End \nWe are excited to announce the finalists for our upcoming Pitch Night\, January 17th: \nA River Unites Us- Conducting a gathering to foster collaboration between farmers\, fishermen\, ranchers and river advocates to restore health to the Deschutes River \nProject You Are Awesome- Distributing “You are awesome” bumper stickers and roses to make people feel good \nPollinator Gardens- Planting a garden for pollinators at Pilot Butte Cemetery \n“Welcome to Bend” Ambassador Experiment- Distributing “Welcome to Bend” stickers and documenting reactions on video \nYouth Watersports Coaching and Education- Providing river safety education and equipment for Bend youth \nThe event is free and open to the public. All welcome!
URL:https://envirocenter.org/event/awesome-bend-pitch-night-5/
LOCATION:Summit Saloon\, 125 NW Oregon Ave\, Bend\, OR\, United States
ATTACH;FMTTYPE=image/jpeg:https://envirocenter.org/wp-content/uploads/2017/01/15936772_1215229011865025_8130629905281466368_o.jpg
ORGANIZER;CN="The Awesome Foundation":MAILTO:awesomebend@gmail.com
GEO:44.0591613;-121.3128122
X-APPLE-STRUCTURED-LOCATION;VALUE=URI;X-ADDRESS=Summit Saloon 125 NW Oregon Ave Bend OR United States;X-APPLE-RADIUS=500;X-TITLE=125 NW Oregon Ave:geo:-121.3128122,44.0591613
END:VEVENT
BEGIN:VEVENT
DTSTART;VALUE=DATE:20170117
DTEND;VALUE=DATE:20170118
DTSTAMP:20260422T081519
CREATED:20161228T020142Z
LAST-MODIFIED:20230503T200511Z
UID:10002767-1484679600-1484685000@envirocenter.org
SUMMARY:High Desert Speaker Series: Starry Nights\, Should We Care
DESCRIPTION:In the first installment of ONDA’s High Desert Speaker Series in Bend\, award-winning photographer and videographer Ben Canales will share his efforts to document a disappearing night sky across the globe\, including in Oregon’s high desert. \nWhile sharing images and videography from his collection\, Ben will discuss what the night sky meant for generations before us and why making sure our children experience true dark nights is key to connecting with our creativity and humanity. \nJoin us for an evening highlighting the best of your high desert. \nThe event will take place at Bend’s Old Stone Church in downtown Bend. The event is free and open to the public. Space is limited. Doors will open at 6:30p.m. with the speaker beginning at 7p.m. For more information about other speakers in this series\, visit ONDA.org/HighDesertSeries.
URL:https://envirocenter.org/event/high-desert-speaker-series-ben-canales-starry-nights-should-we-care/
LOCATION:Deschutes Brewery Public House\, 1044 NW Bond St\, Bend\, OR\, 97701\, United States
GEO:44.0593984;-121.3113079
X-APPLE-STRUCTURED-LOCATION;VALUE=URI;X-ADDRESS=Deschutes Brewery Public House 1044 NW Bond St Bend OR 97701 United States;X-APPLE-RADIUS=500;X-TITLE=1044 NW Bond St:geo:-121.3113079,44.0593984
END:VEVENT
BEGIN:VEVENT
DTSTART;VALUE=DATE:20170118
DTEND;VALUE=DATE:20170119
DTSTAMP:20260422T081519
CREATED:20171223T033145Z
LAST-MODIFIED:20230503T200644Z
UID:10002771-1484762400-1484773200@envirocenter.org
SUMMARY:Rubbish Renewed Eco Fashion Show
DESCRIPTION:Rooted in a love of fashion\, an appreciation of art and a passion for the planet\, the Rubbish Renewed Eco Fashion Show is an annual fundraising event for REALMS Magnet School.  Started in 2010\, this fundraiser features two eclectic\, wearable art runway shows (one that features local students)\, a live auction of runway garments\, a silent auction comprised of local sustainable donations\, a pop up “marketplace”\, featuring sustainable\, creative products from local artists\, local food (food trucks providing a variety of dinner choices) and drink. \nRubbish Renewed Eco Fashion Show fuses environmental responsibility\, funky fashion and community.  Join other socially conscious individuals for an evening of sustainable fashion\, showcasing styles that the future demands\, while supporting a fundraiser for REALMS Magnet School. \nFirst Show Tickets: Doors 5pm / SHOW 6PM \nSecond Show Tickets: Doors 7:30pm / SHOW 8:30PM
URL:https://envirocenter.org/event/rubbish-renewed-eco-fashion-show-4/
LOCATION:Deschutes Brewery Public House\, 1044 NW Bond St\, Bend\, OR\, 97701\, United States
GEO:44.0593984;-121.3113079
X-APPLE-STRUCTURED-LOCATION;VALUE=URI;X-ADDRESS=Deschutes Brewery Public House 1044 NW Bond St Bend OR 97701 United States;X-APPLE-RADIUS=500;X-TITLE=1044 NW Bond St:geo:-121.3113079,44.0593984
END:VEVENT
BEGIN:VEVENT
DTSTART;VALUE=DATE:20170119
DTEND;VALUE=DATE:20170120
DTSTAMP:20260422T081519
CREATED:20170114T032019Z
LAST-MODIFIED:20230503T200516Z
UID:10002777-1484843400-1484847000@envirocenter.org
SUMMARY:Free LED Program Volunteer Training
DESCRIPTION:You may have heard that we have some very exciting news for 2017 –we have our expanded our free LED light bulb installation program to serve Redmond and Tumalo! \nWe have already reached 2\,400 homes in Bend and our goal is to reach another 600 homes in the next 6 months. To put that in perspective\, that would help save another ~$60\,000 annually in energy costs. To reach 600 homes\, we need 600 people to sign up for LEDs. That’s A LOT of people. Right now\, our biggest obstacle is getting the word out and getting people to sign up. If our costs get too high to market this program\, we may not be able to sustain it. \nThis is where YOU can play a vital role in helping people save energy—letting them know that this amazing opportunity exists.  \nIf you are interesting helping out\, we will be hosting a volunteer training to help you get more familiar with the LED program. If you plan on coming\, or are interested in volunteering and can’t make the training\, please email Neil(at)envirocenter.org or calling 541-385-6908 x26.  \nHanging Posters\nWe need volunteers to help hang posters in Redmond\, Tumalo\, and Bend. Posters can be picked up at The Environmental Center or dropped off to you in Redmond. \nTabling at Local Businesses\nA great way to reach people is meeting them where they already go. We have had great success set up informational tables with sign up sheets at grocery stores and coffee shops. You can set the times that you are interested in tabling! We will provide all the materials you need.  If you have a business that you think might be interested\, you can set up a table there\, or choose from businesses that we have already set up relationships with. \nKnocking on Doors\nWe have also had great success with canvassing neighborhoods and talking directly to people at their homes. Some people won’t want to talk to you and some will be over the moon that you just told them that can save $100 a year on utility bills and that you will help them do it for free.
URL:https://envirocenter.org/event/free-led-program-volunteer-training/
LOCATION:Deschutes Brewery Public House\, 1044 NW Bond St\, Bend\, OR\, 97701\, United States
GEO:44.0593984;-121.3113079
X-APPLE-STRUCTURED-LOCATION;VALUE=URI;X-ADDRESS=Deschutes Brewery Public House 1044 NW Bond St Bend OR 97701 United States;X-APPLE-RADIUS=500;X-TITLE=1044 NW Bond St:geo:-121.3113079,44.0593984
END:VEVENT
BEGIN:VEVENT
DTSTART;VALUE=DATE:20170119
DTEND;VALUE=DATE:20170120
DTSTAMP:20260422T081519
CREATED:20160803T235848Z
LAST-MODIFIED:20230503T200442Z
UID:10000600-1484846100-1484856000@envirocenter.org
SUMMARY:Bend COTA Work Events
DESCRIPTION:When:  Thursday Aug 11\, Tuesday Aug 16\, Tuesday Aug 23 and Tuesday Aug 30\, 5:15 to Dusk \nWhere:  Meet at the old Ray’s parking lot\, NE corner of Simpson Ave and Century Drive in Bend \nWorksite:  Varies \nThere’s only one thing better than mountain biking in Bend\, OR and that’s riding in Bend\, knowing that you helped build and maintain the trails you love. \nPlease bring a hydration pack with water and a snack. \nBe sure to bring appropriate layers to accommodate whatever the weather may be. \nQuestions?  contact@cotamtb.com \nAll COTA trail work events require the following safety measures: \nAll participants are required to have the following protective clothing and equipment: \n\nSturdy shoes or boots\nGloves\nEye protection with clear or light colored lens\nLong pants\n\nDue to COTA’s insurance requirements and the inherent dangers of trail work\, we must implement the following policy regarding children at work events: \n\nFor anyone 14 years of age or younger\, we require one parent\, guardian\, or responsible adult for supervision of every four kids attending any COTA trail work events.\nAll minors under the age of 18 must have a parent or guardian available to sign our waiver.\n\nAnyone who arrives for a work event may be turned away if he/she cannot meet the above requirements.
URL:https://envirocenter.org/event/bend-cota-work-events-2016-08-11/
LOCATION:Deschutes Brewery Public House\, 1044 NW Bond St\, Bend\, OR\, 97701\, United States
GEO:44.0593984;-121.3113079
X-APPLE-STRUCTURED-LOCATION;VALUE=URI;X-ADDRESS=Deschutes Brewery Public House 1044 NW Bond St Bend OR 97701 United States;X-APPLE-RADIUS=500;X-TITLE=1044 NW Bond St:geo:-121.3113079,44.0593984
END:VEVENT
BEGIN:VEVENT
DTSTART;VALUE=DATE:20170119
DTEND;VALUE=DATE:20170120
DTSTAMP:20260422T081519
CREATED:20170104T070126Z
LAST-MODIFIED:20230503T200512Z
UID:10000970-1484852400-1484859600@envirocenter.org
SUMMARY:Environmental Priorities for the 2017 Legislative Session
DESCRIPTION:Environmental Priorities for the 2017 Legislative Session at Pints and Politics \nJoin OLCV and Oregon Conservation Network Director\, Paige Spence\, for an exciting discussion about this year’s legislative session and how it could impact Oregon’s natural legacy. Learn how\, together\, we can make important progress for the environment in 2017! \n 
URL:https://envirocenter.org/event/environmental-priorities-for-the-2017-legislative-session/
LOCATION:Deschutes Brewery Public House\, 1044 NW Bond St\, Bend\, OR\, 97701\, United States
CATEGORIES:Climate
GEO:44.0593984;-121.3113079
X-APPLE-STRUCTURED-LOCATION;VALUE=URI;X-ADDRESS=Deschutes Brewery Public House 1044 NW Bond St Bend OR 97701 United States;X-APPLE-RADIUS=500;X-TITLE=1044 NW Bond St:geo:-121.3113079,44.0593984
END:VEVENT
BEGIN:VEVENT
DTSTART;VALUE=DATE:20170120
DTEND;VALUE=DATE:20170121
DTSTAMP:20260422T081519
CREATED:20161210T055630Z
LAST-MODIFIED:20230503T200510Z
UID:10002763-1484870400-1484956799@envirocenter.org
SUMMARY:SHP Course Begins
DESCRIPTION:Take your home building to the next level\nSustainable Homes Professional (SHP) is a comprehensive\, interactive\, experience-driven education program for residential and multifamily building and design professionals looking to take their work to the next level of quality. \nAll six monthly modules can be taken individually and each module provides new opportunities to gain valuable insights and eliminate common barriers to high performance building via: \n\nIn-class lecture\, discussion\, & hands-on exercises\nGuest speakers that share past projects\, experience\, & expertise on issues that are critical to successful sustainable building\nTwo tours of under-construction or recently-completed green certified homes with builders on-site to explain approaches & reveal benefits\nA final project that progresses throughout the course and puts principles into practice by guiding participants in designing their own high performance building or research project\n\nDates\n6-month series starts Jan. 20\, 2017\nSee schedule below \nInstructor\nBruce Sullivan\nBASE zero LLC \nLocation\nBend\, OR\nExact Location TBD \nCost\nEntire Course\n$1400-1625\nor\nIndividual Modules\n$275 | Per Module\nCourse Modules:\nModule 1: Green Building Intro & Integrated Design Jan 20 & 21\nModule 2: Building Science Fundamentals Feb 17 & 18\nModule 3: High Performance Building Envelopes Mar 10 & 11\nModule 4: Mechanical Systems & Performance Testing Apr 14 & 15\nModule 5: Health\, Materials\, & Water May 12 & 13\nModule 6: Final Presentations & Certification Exam Jun 9 & 10\n*Modules 1-5 can be taken individually for 14 credit hours each.\nAll modules are Fri – Sat and 9 A.M. – 5 P.M. \nFill out the interest form.
URL:https://envirocenter.org/event/shp-course-begins/
LOCATION:Deschutes Brewery Public House\, 1044 NW Bond St\, Bend\, OR\, 97701\, United States
GEO:44.0593984;-121.3113079
X-APPLE-STRUCTURED-LOCATION;VALUE=URI;X-ADDRESS=Deschutes Brewery Public House 1044 NW Bond St Bend OR 97701 United States;X-APPLE-RADIUS=500;X-TITLE=1044 NW Bond St:geo:-121.3113079,44.0593984
END:VEVENT
BEGIN:VEVENT
DTSTART;VALUE=DATE:20170121
DTEND;VALUE=DATE:20170122
DTSTAMP:20260422T081519
CREATED:20170107T033538Z
LAST-MODIFIED:20230503T200515Z
UID:10000974-1484996400-1485003600@envirocenter.org
SUMMARY:Bend Solidarity March
DESCRIPTION:In solidarity with the Women’s March on Washington\, and similar actions occurring throughout the nation\, the Juniper Group of the Sierra Club will join a coalition of local groups and individuals to encourage your participation in the BEND SOLIDARITY MARCH on January 21. \n“This family-friendly event will highlight the power of  intersectional communities in resistance against hate\, fear and oppression in all its forms. The recent election indisputably shows us that everything we value is under assault. \nWe cannot stay silent\, and we will not stay seated. We will stand up with one voice about all progressive issues. We are feminists\, we are people of color\, we are planet protectors\, we are LGBTQI\, we are allies\, we are seniors\, we are teachers and healers\, mothers and fathers and brothers and sisters. We are everyone and we  are strong.” \nDETAILS: Assemble at Drake Park at 11 AM. \nAfter a short rally\, we will orderly march on the sidewalks via a designated route through downtown Bend\, ending at Riverfront Park (Crow’s Feet Commons) off Brooks Alley behind the Tower Theater. \nAt the Commons we will listen to a few short speakers\, be entertained by music\, and will also have an “open mic” format through which groups or individuals may briefly express VALUES  and actions we may consider to defend those values. \nAdditional information about the Bend Solidarity March can also be found at the WOMEN’S MARCH BEND Facebook Page.
URL:https://envirocenter.org/event/bend-solidarity-march/
LOCATION:Deschutes Brewery Public House\, 1044 NW Bond St\, Bend\, OR\, 97701\, United States
GEO:44.0593984;-121.3113079
X-APPLE-STRUCTURED-LOCATION;VALUE=URI;X-ADDRESS=Deschutes Brewery Public House 1044 NW Bond St Bend OR 97701 United States;X-APPLE-RADIUS=500;X-TITLE=1044 NW Bond St:geo:-121.3113079,44.0593984
END:VEVENT
END:VCALENDAR