BEGIN:VCALENDAR
VERSION:2.0
PRODID:-//The Environmental Center - ECPv6.15.20//NONSGML v1.0//EN
CALSCALE:GREGORIAN
METHOD:PUBLISH
X-WR-CALNAME:The Environmental Center
X-ORIGINAL-URL:https://envirocenter.org
X-WR-CALDESC:Events for The Environmental Center
REFRESH-INTERVAL;VALUE=DURATION:PT1H
X-Robots-Tag:noindex
X-PUBLISHED-TTL:PT1H
BEGIN:VTIMEZONE
TZID:America/Los_Angeles
BEGIN:DAYLIGHT
TZOFFSETFROM:-0800
TZOFFSETTO:-0700
TZNAME:PDT
DTSTART:20160313T100000
END:DAYLIGHT
BEGIN:STANDARD
TZOFFSETFROM:-0700
TZOFFSETTO:-0800
TZNAME:PST
DTSTART:20161106T090000
END:STANDARD
BEGIN:DAYLIGHT
TZOFFSETFROM:-0800
TZOFFSETTO:-0700
TZNAME:PDT
DTSTART:20170312T100000
END:DAYLIGHT
BEGIN:STANDARD
TZOFFSETFROM:-0700
TZOFFSETTO:-0800
TZNAME:PST
DTSTART:20171105T090000
END:STANDARD
BEGIN:DAYLIGHT
TZOFFSETFROM:-0800
TZOFFSETTO:-0700
TZNAME:PDT
DTSTART:20180311T100000
END:DAYLIGHT
BEGIN:STANDARD
TZOFFSETFROM:-0700
TZOFFSETTO:-0800
TZNAME:PST
DTSTART:20181104T090000
END:STANDARD
END:VTIMEZONE
BEGIN:VEVENT
DTSTART;VALUE=DATE:20170109
DTEND;VALUE=DATE:20170110
DTSTAMP:20260423T035426
CREATED:20170103T232121Z
LAST-MODIFIED:20230503T200512Z
UID:10000968-1483986600-1483990200@envirocenter.org
SUMMARY:A presentation about the Oregon Spotted Frog lawsuit
DESCRIPTION:Part 1: OSF and Related Acronyms\nA presentation about the Oregon Spotted Frog lawsuit\n  \nOSF\, NEPA\, HCP\, ITP…If you’re scratching your head about the nuts and bolts of the Oregon Spotted Frog lawsuit – what happened\, where are we today\, what’s next\, and what do those acronyms stand for – this is your opportunity get your questions answered. \nOur presenter will be U.S. Fish and Wildlife Service’s (USFWS) Field Supervisor\, Bridget Moran. Bridget is the USFWS Bend Field Office buck-stops-here\, go-to spotted frog manager for Central Oregon. \nBridget has spent the last 18 months figuratively eating and breathing Oregon spotted frogs. She welcomes the opportunity to talk with those interested in spotted frog conservation and the restoration of the Deschutes River. \nThis program is free\, but please RSVP so we know how many chairs to set up. \nVenue: Brooks Room\, Deschutes Public Library Downtown Branch \n\nJoin the Coalition for the Deschutes for two programs related to the Upper Deschutes River and the Oregon Spotted Frog: \nThe first\, on Monday\, January 9 will address the legal aspects of the frog.\n\nThe second\, on Tuesday January 24\, will review the latest science about the frog and the river channel.
URL:https://envirocenter.org/event/9685/
LOCATION:Deschutes Brewery Public House\, 1044 NW Bond St\, Bend\, OR\, 97701\, United States
GEO:44.0593984;-121.3113079
X-APPLE-STRUCTURED-LOCATION;VALUE=URI;X-ADDRESS=Deschutes Brewery Public House 1044 NW Bond St Bend OR 97701 United States;X-APPLE-RADIUS=500;X-TITLE=1044 NW Bond St:geo:-121.3113079,44.0593984
END:VEVENT
BEGIN:VEVENT
DTSTART;VALUE=DATE:20170112
DTEND;VALUE=DATE:20170113
DTSTAMP:20260423T035426
CREATED:20170112T013726Z
LAST-MODIFIED:20230503T200516Z
UID:10002775-1484238600-1484242200@envirocenter.org
SUMMARY:Locavore Food School Presents: Natural Beekeeping
DESCRIPTION:Locavore Food School is a monthly\, on the third Thursday of each month\, offering of nutrition and cooking classes taught by volunteers and community members including farmers\, local food producers\, nutritionists\, chefs and alternative health care practitioners. \nNatural Beekeeping is becoming more popular than ever\, as well it should be. This class will explore some of the facts that will help you be successful as well as some of the fallacies that get many well intentioned beekeepers into trouble. From top bar hives to the “James Bond” method of beekeeping\, we will cover many of the topics that confront beekeepers wanting to move away from some of the traditional practices of beekeeping. Topics will include mite treatments\, foundation vs foundationless\, types of hives and more. Come prepared for what will likely be a lively round of discussion and questions following the presentation.
URL:https://envirocenter.org/event/locavore-food-school-presents-natural-beekeeping/
LOCATION:Deschutes Brewery Public House\, 1044 NW Bond St\, Bend\, OR\, 97701\, United States
GEO:44.0593984;-121.3113079
X-APPLE-STRUCTURED-LOCATION;VALUE=URI;X-ADDRESS=Deschutes Brewery Public House 1044 NW Bond St Bend OR 97701 United States;X-APPLE-RADIUS=500;X-TITLE=1044 NW Bond St:geo:-121.3113079,44.0593984
END:VEVENT
BEGIN:VEVENT
DTSTART;VALUE=DATE:20170112
DTEND;VALUE=DATE:20170113
DTSTAMP:20260423T035426
CREATED:20160803T235848Z
LAST-MODIFIED:20230503T200442Z
UID:10000599-1484241300-1484251200@envirocenter.org
SUMMARY:Bend COTA Work Events
DESCRIPTION:When:  Thursday Aug 11\, Tuesday Aug 16\, Tuesday Aug 23 and Tuesday Aug 30\, 5:15 to Dusk \nWhere:  Meet at the old Ray’s parking lot\, NE corner of Simpson Ave and Century Drive in Bend \nWorksite:  Varies \nThere’s only one thing better than mountain biking in Bend\, OR and that’s riding in Bend\, knowing that you helped build and maintain the trails you love. \nPlease bring a hydration pack with water and a snack. \nBe sure to bring appropriate layers to accommodate whatever the weather may be. \nQuestions?  contact@cotamtb.com \nAll COTA trail work events require the following safety measures: \nAll participants are required to have the following protective clothing and equipment: \n\nSturdy shoes or boots\nGloves\nEye protection with clear or light colored lens\nLong pants\n\nDue to COTA’s insurance requirements and the inherent dangers of trail work\, we must implement the following policy regarding children at work events: \n\nFor anyone 14 years of age or younger\, we require one parent\, guardian\, or responsible adult for supervision of every four kids attending any COTA trail work events.\nAll minors under the age of 18 must have a parent or guardian available to sign our waiver.\n\nAnyone who arrives for a work event may be turned away if he/she cannot meet the above requirements.
URL:https://envirocenter.org/event/bend-cota-work-events-2016-08-11/
LOCATION:Deschutes Brewery Public House\, 1044 NW Bond St\, Bend\, OR\, 97701\, United States
GEO:44.0593984;-121.3113079
X-APPLE-STRUCTURED-LOCATION;VALUE=URI;X-ADDRESS=Deschutes Brewery Public House 1044 NW Bond St Bend OR 97701 United States;X-APPLE-RADIUS=500;X-TITLE=1044 NW Bond St:geo:-121.3113079,44.0593984
END:VEVENT
BEGIN:VEVENT
DTSTART;VALUE=DATE:20170114
DTEND;VALUE=DATE:20170115
DTSTAMP:20260423T035426
CREATED:20170107T070641Z
LAST-MODIFIED:20230503T200516Z
UID:10002772-1484352000-1484438399@envirocenter.org
SUMMARY:Give Back to your Community with SOLVE this MLK Day!
DESCRIPTION:Get outdoors and make a difference for your local neighborhood or natural area this New Year!  This year we’re inviting you to join us in service to benefit local wildlife and communities. Events are led by local volunteer leaders and focus on improving our neighborhoods and natural areas with hands-on work including litter cleanup\, invasive plant removal\, planting native trees and shrubs and other restorative projects. \nVolunteers of all ages and abilities are encouraged to get involved. See all opportunities below: \n1/14 – January Second Saturday Cleanup – Portland \nhttp://solveoregon.org/get-involved/events/january-second-saturday-cleanup \n1/14 – Baltimore Woods Renewal – Portland\nhttp://solveoregon.org/get-involved/events/baltimore-woods-renewal \n1/14 – MLK Service Day at Gabriel Park – Portland\nhttp://solveoregon.org/get-involved/events/mlk-service-day-gabriel-park \nSpending just a few hours removing litter or invasive plants from our neighborhoods and natural areas\, or planting native trees and shrubs\, makes a big difference for wildlife\, water quality\, and communities. Sign up to get involved today! Visit our full calendar of events or contact SOLVE at 503-844-9571 ext. 332 or info@solveoregon.org.
URL:https://envirocenter.org/event/give-back-to-your-community-with-solve-this-mlk-day/
LOCATION:Deschutes Brewery Public House\, 1044 NW Bond St\, Bend\, OR\, 97701\, United States
GEO:44.0593984;-121.3113079
X-APPLE-STRUCTURED-LOCATION;VALUE=URI;X-ADDRESS=Deschutes Brewery Public House 1044 NW Bond St Bend OR 97701 United States;X-APPLE-RADIUS=500;X-TITLE=1044 NW Bond St:geo:-121.3113079,44.0593984
END:VEVENT
END:VCALENDAR