BEGIN:VCALENDAR
VERSION:2.0
PRODID:-//The Environmental Center - ECPv6.15.20//NONSGML v1.0//EN
CALSCALE:GREGORIAN
METHOD:PUBLISH
X-ORIGINAL-URL:https://envirocenter.org
X-WR-CALDESC:Events for The Environmental Center
REFRESH-INTERVAL;VALUE=DURATION:PT1H
X-Robots-Tag:noindex
X-PUBLISHED-TTL:PT1H
BEGIN:VTIMEZONE
TZID:America/Los_Angeles
BEGIN:DAYLIGHT
TZOFFSETFROM:-0800
TZOFFSETTO:-0700
TZNAME:PDT
DTSTART:20150308T100000
END:DAYLIGHT
BEGIN:STANDARD
TZOFFSETFROM:-0700
TZOFFSETTO:-0800
TZNAME:PST
DTSTART:20151101T090000
END:STANDARD
BEGIN:DAYLIGHT
TZOFFSETFROM:-0800
TZOFFSETTO:-0700
TZNAME:PDT
DTSTART:20160313T100000
END:DAYLIGHT
BEGIN:STANDARD
TZOFFSETFROM:-0700
TZOFFSETTO:-0800
TZNAME:PST
DTSTART:20161106T090000
END:STANDARD
BEGIN:DAYLIGHT
TZOFFSETFROM:-0800
TZOFFSETTO:-0700
TZNAME:PDT
DTSTART:20170312T100000
END:DAYLIGHT
BEGIN:STANDARD
TZOFFSETFROM:-0700
TZOFFSETTO:-0800
TZNAME:PST
DTSTART:20171105T090000
END:STANDARD
END:VTIMEZONE
BEGIN:VEVENT
DTSTART;VALUE=DATE:20161101
DTEND;VALUE=DATE:20161102
DTSTAMP:20260422T112737
CREATED:20161026T230028Z
LAST-MODIFIED:20230503T200504Z
UID:10002755-1478019600-1478026800@envirocenter.org
SUMMARY:Bend 2030 Charter Review Forum Two: Your Input
DESCRIPTION:Join us from 5-7 p.m. on Nov. 1 at the Central Oregon Collective to give your input on critical questions such as: \nDoes our current city council structure offer Bend citizens the best leadership possible for addressing our complicated population\, housing\, transportation and livability issues? \nBend 2030\, the Bend Chamber of Commerce and City Club of Central Oregon are partnering to present this two-part charter review event series this fall to give you the tools and the forum to answer this question for yourself. \nAt the first charter review forum\, community members shared more than 50 questions they believe are important to consider in a charter review process. \nRead the report of their input here.\n\nWe’ve curated the ones they deemed most important and now we’re asking you to weigh in. Give your input on the following: \n\nShould Bend residents begin electing a mayor? If yes\, what powers should they have?\nShould Bend implement a ward system with councilors elected from each area of town? If yes\, how many wards should there be?\nShould councilors be paid more than the current $200 per month? If yes\, what negative and positive affects could that have?\n\nRegister here to attend this forum. It’s FREE!
URL:https://envirocenter.org/event/bend-2030-charter-review-forum-two-your-input/
LOCATION:Deschutes Brewery Public House\, 1044 NW Bond St\, Bend\, OR\, 97701\, United States
GEO:44.0593984;-121.3113079
X-APPLE-STRUCTURED-LOCATION;VALUE=URI;X-ADDRESS=Deschutes Brewery Public House 1044 NW Bond St Bend OR 97701 United States;X-APPLE-RADIUS=500;X-TITLE=1044 NW Bond St:geo:-121.3113079,44.0593984
END:VEVENT
BEGIN:VEVENT
DTSTART;VALUE=DATE:20161101
DTEND;VALUE=DATE:20161102
DTSTAMP:20260422T112737
CREATED:20161008T045126Z
LAST-MODIFIED:20230503T200500Z
UID:10000945-1478026800-1478032200@envirocenter.org
SUMMARY:Bend Grows UP\, Part 3: Developer Strategies
DESCRIPTION:Lecture by: Alex Joyce\, Principal\, Fregonese Associates and Tom Cody\, Managing Partner\, project^ \nIn this third and final part of Bend Grows UP\, we hear from two experts with on-the-ground experience in vertical development. Together\, they’ll share strategies on how to make vertical development “pencil” and how to ensure a project integrates well with the surrounding community. \nAlex Joyce is a principal at Fregonese Associates\, a Portland land use planning firm with an award-winning track record of helping make better cities and regions since 1997. Alex has over 10 years of experience managing a wide range of projects including redevelopment analysis\, urban design\, transit-oriented development feasibility and infill strategies. He has recently worked with the city of Bend on the Central West Side Plan and Urban Growth Boundary Remand project. \nTom Cody is the founder and president of project^\, located in Portland. As a real estate executive\, Tom has over 20 years of experience executing mixed-use\, transit-oriented sustainable developments. Tom received a Masters degree in Urban Planning from Harvard University and a Bachelor of Science degree in Urban Planning and Development from the University of Southern California. His company currently has two projects in Bend: Basecamp townhomes in the Mill Quarter and Range apartments\, soon to be built in NorthWest Crossing. \nSponsored by Pinnacle Architecture\, Kittelson & Associates\, Inc.\, Wall Street Suites\, Killian Pacific and Central Oregon LandWatch
URL:https://envirocenter.org/event/bend-grows-up-part-3-developer-strategies/
LOCATION:Deschutes Brewery Public House\, 1044 NW Bond St\, Bend\, OR\, 97701\, United States
GEO:44.0593984;-121.3113079
X-APPLE-STRUCTURED-LOCATION;VALUE=URI;X-ADDRESS=Deschutes Brewery Public House 1044 NW Bond St Bend OR 97701 United States;X-APPLE-RADIUS=500;X-TITLE=1044 NW Bond St:geo:-121.3113079,44.0593984
END:VEVENT
BEGIN:VEVENT
DTSTART;VALUE=DATE:20161103
DTEND;VALUE=DATE:20161104
DTSTAMP:20260422T112737
CREATED:20160720T010343Z
LAST-MODIFIED:20230503T200438Z
UID:10002715-1478192400-1478199600@envirocenter.org
SUMMARY:2016 Sustainability Awards
DESCRIPTION:The Environmental Center is pleased to announce the 2016 Sustainability Awards Ceremony will be held on Thursday\, November 3rd at 5pm at the Unitarian Universalist Fellowship of Central Oregon.\n\nThe Environmental Center hosts the bi-annual Sustainability Awards to highlight the determined and persistent change makers—in business\, government\, nonprofits and the community—who are essential to achieving a sustainable future. \nAwards will be given to an individual\, small business\, large business\, and organization (agency or nonprofit) that are leading the way to a sustainable future in Central Oregon. \nIn 2014\, awards went to: \n\nIndividual: Bill Hull\nSmall Business: Winter Creek Restoration\nLarge Business: EartH20\nOrganization: Bend Area Habitat for Humanity\nSpecial Award – Grassroots Action: Lisa Barnett\nSpecial Award – Sustainability Pioneers: Tom Elliot and Barbara Scott\n\nWe’ll let you know when tickets to the event are available. In the meantime\, check out photos from the 2014 event!
URL:https://envirocenter.org/event/2016-sustainability-awards/
LOCATION:Deschutes Brewery Public House\, 1044 NW Bond St\, Bend\, OR\, 97701\, United States
GEO:44.0593984;-121.3113079
X-APPLE-STRUCTURED-LOCATION;VALUE=URI;X-ADDRESS=Deschutes Brewery Public House 1044 NW Bond St Bend OR 97701 United States;X-APPLE-RADIUS=500;X-TITLE=1044 NW Bond St:geo:-121.3113079,44.0593984
END:VEVENT
BEGIN:VEVENT
DTSTART;VALUE=DATE:20161103
DTEND;VALUE=DATE:20161104
DTSTAMP:20260422T112737
CREATED:20161017T222216Z
LAST-MODIFIED:20230503T200500Z
UID:10000950-1478192400-1478205000@envirocenter.org
SUMMARY:Babysitter Training Course
DESCRIPTION:Camp Fire Members – Receive A $10 Discount On This Course. \nWhether your child is gearing up to take care of siblings\, or thinking of making a little extra summer cash as a babysitter – they won’t want to miss this educational\, hands-on course! \nBoys and girls (5th-9th grades) will learn important babysitting skills including basic child care and first aid\, safety measures\, safe play with children\, and job ethics. Participants will earn a babysitting certificate at the end of the course. \nSCHEDULE: \nThis course is broken up into two meetings. You are required to attend BOTH sessions in order to receive a certificate of completion. \nFirst Meeting – THURSDAY\, November 3rd:  5:00 – 8:30 pm \nSecond Meeting – SATURDAY\, November 5th: 9:00 am – 2:00 pm (Lunch will not be included – make sure to pack enough food for the day!) \nREGISTER HERE\nIMPORTANT:  \nIn order for this course to run\, we must have at least 5 participants signed up by October 30th. Tell your friends and family to sign up ASAP. If we must cancel due to low registration numbers\, you will receive a full refund and be notified by the 31st of October.
URL:https://envirocenter.org/event/babysitter-training-course/
LOCATION:Deschutes Brewery Public House\, 1044 NW Bond St\, Bend\, OR\, 97701\, United States
GEO:44.0593984;-121.3113079
X-APPLE-STRUCTURED-LOCATION;VALUE=URI;X-ADDRESS=Deschutes Brewery Public House 1044 NW Bond St Bend OR 97701 United States;X-APPLE-RADIUS=500;X-TITLE=1044 NW Bond St:geo:-121.3113079,44.0593984
END:VEVENT
BEGIN:VEVENT
DTSTART;VALUE=DATE:20161103
DTEND;VALUE=DATE:20161104
DTSTAMP:20260422T112737
CREATED:20160803T235848Z
LAST-MODIFIED:20230503T200442Z
UID:10000589-1478193300-1478203200@envirocenter.org
SUMMARY:Bend COTA Work Events
DESCRIPTION:When:  Thursday Aug 11\, Tuesday Aug 16\, Tuesday Aug 23 and Tuesday Aug 30\, 5:15 to Dusk \nWhere:  Meet at the old Ray’s parking lot\, NE corner of Simpson Ave and Century Drive in Bend \nWorksite:  Varies \nThere’s only one thing better than mountain biking in Bend\, OR and that’s riding in Bend\, knowing that you helped build and maintain the trails you love. \nPlease bring a hydration pack with water and a snack. \nBe sure to bring appropriate layers to accommodate whatever the weather may be. \nQuestions?  contact@cotamtb.com \nAll COTA trail work events require the following safety measures: \nAll participants are required to have the following protective clothing and equipment: \n\nSturdy shoes or boots\nGloves\nEye protection with clear or light colored lens\nLong pants\n\nDue to COTA’s insurance requirements and the inherent dangers of trail work\, we must implement the following policy regarding children at work events: \n\nFor anyone 14 years of age or younger\, we require one parent\, guardian\, or responsible adult for supervision of every four kids attending any COTA trail work events.\nAll minors under the age of 18 must have a parent or guardian available to sign our waiver.\n\nAnyone who arrives for a work event may be turned away if he/she cannot meet the above requirements.
URL:https://envirocenter.org/event/bend-cota-work-events-2016-08-11/
LOCATION:Deschutes Brewery Public House\, 1044 NW Bond St\, Bend\, OR\, 97701\, United States
GEO:44.0593984;-121.3113079
X-APPLE-STRUCTURED-LOCATION;VALUE=URI;X-ADDRESS=Deschutes Brewery Public House 1044 NW Bond St Bend OR 97701 United States;X-APPLE-RADIUS=500;X-TITLE=1044 NW Bond St:geo:-121.3113079,44.0593984
END:VEVENT
BEGIN:VEVENT
DTSTART;VALUE=DATE:20161104
DTEND;VALUE=DATE:20161105
DTSTAMP:20260422T112737
CREATED:20161020T232055Z
LAST-MODIFIED:20230503T200501Z
UID:10002752-1478253600-1478271600@envirocenter.org
SUMMARY:Fall Milkweed Plantings
DESCRIPTION:Monarch Advocates of Central Oregon (MACO) is teaming up with the Great Old Broads for Wilderness to help the Ochoco National Forest/Crooked River National Grassland plant native milkweed and increase critical Monarch butterfly breeding habitat in Central Oregon – and they need your help! \nRoll up your sleeves as you’re guided by Forest Service botanists and MACO founder Katya Spiecker in four different planting projects this fall within the Ochoco National Forest and Crooked River National Grassland. Each location and planting date is listed below. \nPlease bring work gloves\, shovels and trowels (labeled!) if you have them\, water and lunch. Dress in layers for cool variable weather and wear sturdy close-toed shoes or boots. Be prepared to navigate uneven ground while carrying your water\, lunch\, plants and tools. \nAt each planting\, an overview will be given of the natural history of Monarchs passing through our area and why native milkweed is critical for their survival. We’ll also talk about volunteer monitoring efforts for these milkweed stands in the future. \nCarpooling options and directions to each site will be emailed to registrants the week prior to planting day. Please indicate in the comments section whether you’re willing to drive. \nThank you for joining us in creating healthy Monarch breeding habitat! \n*4 events available\, please see website for more info and to sign up. 
URL:https://envirocenter.org/event/fall-milkweed-plantings-2/
LOCATION:Deschutes Brewery Public House\, 1044 NW Bond St\, Bend\, OR\, 97701\, United States
GEO:44.0593984;-121.3113079
X-APPLE-STRUCTURED-LOCATION;VALUE=URI;X-ADDRESS=Deschutes Brewery Public House 1044 NW Bond St Bend OR 97701 United States;X-APPLE-RADIUS=500;X-TITLE=1044 NW Bond St:geo:-121.3113079,44.0593984
END:VEVENT
BEGIN:VEVENT
DTSTART;VALUE=DATE:20161104
DTEND;VALUE=DATE:20161105
DTSTAMP:20260422T112737
CREATED:20161018T033310Z
LAST-MODIFIED:20230503T200501Z
UID:10000952-1478278800-1478293200@envirocenter.org
SUMMARY:Wild Desert Calendar Release Party
DESCRIPTION:Join the Oregon Natural Desert Association and conservation supporters for an evening of First Friday revelry as we unveil our Wild Desert Calendar at the Deschutes Brewery Public House in downtown Bend! Meet the photographers\, listen to the sweet tunes of Coyote Willow\, and sip desert-inspired beer. Get a jump on your holiday shopping. Art and calendars will be available for purchase. No need to sign up\, this event is free and open to all. Hope to see you there! \nPhoto: 2017 Wild Desert Calendar cover. Photo: Wildhorse Lake\, Steens Mountain Wilderness. Greg Vaughn.
URL:https://envirocenter.org/event/wild-desert-calendar-release-party/
LOCATION:Deschutes Brewery Public House\, 1044 NW Bond St\, Bend\, OR\, 97701\, United States
GEO:44.0593984;-121.3113079
X-APPLE-STRUCTURED-LOCATION;VALUE=URI;X-ADDRESS=Deschutes Brewery Public House 1044 NW Bond St Bend OR 97701 United States;X-APPLE-RADIUS=500;X-TITLE=1044 NW Bond St:geo:-121.3113079,44.0593984
END:VEVENT
END:VCALENDAR