BEGIN:VCALENDAR
VERSION:2.0
PRODID:-//The Environmental Center - ECPv6.15.20//NONSGML v1.0//EN
CALSCALE:GREGORIAN
METHOD:PUBLISH
X-ORIGINAL-URL:https://envirocenter.org
X-WR-CALDESC:Events for The Environmental Center
REFRESH-INTERVAL;VALUE=DURATION:PT1H
X-Robots-Tag:noindex
X-PUBLISHED-TTL:PT1H
BEGIN:VTIMEZONE
TZID:America/Los_Angeles
BEGIN:DAYLIGHT
TZOFFSETFROM:-0800
TZOFFSETTO:-0700
TZNAME:PDT
DTSTART:20130310T100000
END:DAYLIGHT
BEGIN:STANDARD
TZOFFSETFROM:-0700
TZOFFSETTO:-0800
TZNAME:PST
DTSTART:20131103T090000
END:STANDARD
BEGIN:DAYLIGHT
TZOFFSETFROM:-0800
TZOFFSETTO:-0700
TZNAME:PDT
DTSTART:20140309T100000
END:DAYLIGHT
BEGIN:STANDARD
TZOFFSETFROM:-0700
TZOFFSETTO:-0800
TZNAME:PST
DTSTART:20141102T090000
END:STANDARD
BEGIN:DAYLIGHT
TZOFFSETFROM:-0800
TZOFFSETTO:-0700
TZNAME:PDT
DTSTART:20150308T100000
END:DAYLIGHT
BEGIN:STANDARD
TZOFFSETFROM:-0700
TZOFFSETTO:-0800
TZNAME:PST
DTSTART:20151101T090000
END:STANDARD
END:VTIMEZONE
BEGIN:VEVENT
DTSTART;VALUE=DATE:20140409
DTEND;VALUE=DATE:20140410
DTSTAMP:20260422T150334
CREATED:20190313T044320Z
LAST-MODIFIED:20230503T200828Z
UID:10002103-1397030400-1397077200@envirocenter.org
SUMMARY:Whole Foods 5% Day
DESCRIPTION:Shop at Whole Foods Market in Bend on Thursday\, April 18th and 5% of the store’s net sales will be donated to our school gardens program! Hope to see you there. Please spread the word.
URL:https://envirocenter.org/event/whole-foods-5-day-4/
LOCATION:Deschutes Brewery Public House\, 1044 NW Bond St\, Bend\, OR\, 97701\, United States
CATEGORIES:Garden
GEO:44.0593984;-121.3113079
X-APPLE-STRUCTURED-LOCATION;VALUE=URI;X-ADDRESS=Deschutes Brewery Public House 1044 NW Bond St Bend OR 97701 United States;X-APPLE-RADIUS=500;X-TITLE=1044 NW Bond St:geo:-121.3113079,44.0593984
END:VEVENT
BEGIN:VEVENT
DTSTART;VALUE=DATE:20140411
DTEND;VALUE=DATE:20140412
DTSTAMP:20260422T150334
CREATED:20140409T064450Z
LAST-MODIFIED:20230503T200006Z
UID:10002151-1397196000-1397246400@envirocenter.org
SUMMARY:Celebrate the 50th Wilderness Act Anniversary
DESCRIPTION:Join Discover Your Forest and the Deschutes National Forest for an evening celebrating Wilderness! \nUS Fish & Wildlife Wolf Coordinator\, John Stephenson\, will discuss wolves in Oregon and their connection with the wolves in the Frank Church Wilderness in the film. \nThe Film\, River of No Return\, is set deep in the heart of Idaho’s Frank Church-River of No Return Wilderness\, part of the largest roadless area left in the lower 48 states. At 2.5 million acres\, it is larger than Yellowstone\, yet most people have never even heard of it. Designated a federally-protected wilderness in 1980 by Congress\, the region is full of deep canyons and mountain forests\, rivers and abundant wildlife. Otters and elk\, deer and coyotes\, blue birds and bighorn sheep\, and newly-restored wolf populations all thrive there. Today\, nine packs of wolves roam freely through the park\, each pack dependent on family – raising their young and hunting together. \nWorking with the Nez Perce Tribe in Central Idaho\, wolf biologist Isaac Babcock spent 13 years participating in the wolf reintroduction program organized in the area. Wanting to share the raw beauty of the land and the wolves with his new wife\, Bjornen\, Isaac proposes spending a year there as an unconventional honeymoon\, documenting their days as they go along. River of No Return tells their story\, the story of a couple that took on the wilderness and all its challenges. The two have come to treasure their experience in an untamed place that\, for a period of time\, they called home. \n$5 at the door goes towards Discover Your Forest.
URL:https://envirocenter.org/event/celebrate-the-50th-wilderness-act-anniversary/
LOCATION:Deschutes Brewery Public House\, 1044 NW Bond St\, Bend\, OR\, 97701\, United States
GEO:44.0593984;-121.3113079
X-APPLE-STRUCTURED-LOCATION;VALUE=URI;X-ADDRESS=Deschutes Brewery Public House 1044 NW Bond St Bend OR 97701 United States;X-APPLE-RADIUS=500;X-TITLE=1044 NW Bond St:geo:-121.3113079,44.0593984
END:VEVENT
BEGIN:VEVENT
DTSTART;VALUE=DATE:20140412
DTEND;VALUE=DATE:20140413
DTSTAMP:20260422T150334
CREATED:20140306T082228Z
LAST-MODIFIED:20230503T195956Z
UID:10002130-1397296800-1397304000@envirocenter.org
SUMMARY:Growing Vegetables Class\, Advanced Level
DESCRIPTION:This class will go into detail how to grow the most common vegetables for the area\, including tomatoes. A two hour class for the community. \nFor more information call 541-548-6088. Click here to register.
URL:https://envirocenter.org/event/growing-vegetables-class-advanced-level-2/
LOCATION:Deschutes Brewery Public House\, 1044 NW Bond St\, Bend\, OR\, 97701\, United States
GEO:44.0593984;-121.3113079
X-APPLE-STRUCTURED-LOCATION;VALUE=URI;X-ADDRESS=Deschutes Brewery Public House 1044 NW Bond St Bend OR 97701 United States;X-APPLE-RADIUS=500;X-TITLE=1044 NW Bond St:geo:-121.3113079,44.0593984
END:VEVENT
BEGIN:VEVENT
DTSTART;VALUE=DATE:20140412
DTEND;VALUE=DATE:20140413
DTSTAMP:20260422T150334
CREATED:20140408T011424Z
LAST-MODIFIED:20230503T200005Z
UID:10000020-1397307600-1397318400@envirocenter.org
SUMMARY:Bling Your Bike for Earth Day
DESCRIPTION:Rowena Meyer-Allen\, a local encaustic artist\, fabric soft treatments designer\, and founder of the C.R.A.F.T. (Creative Reuse: Art From Trash) Materials Exchange will be offering a “Bling Your Bike for Earth Day” workshop at the Environmental Center. Bring your bicycle\, tricycle\, unicycle\, wagon or other human-powered mode of transportation and transform it into the species of your choice to ride in the Earth Day Parade! \nThis is a free workshop. C.R.A.F.T. will be supplying materials. Donations of recyclable art materials are also welcomed and please\, feel free to bring along any art supplies or tools you may wish to use or share. For a more information and a list of suggested materials\, please visit the C.R.A.F.T. website.
URL:https://envirocenter.org/event/3162/
LOCATION:Deschutes Brewery Public House\, 1044 NW Bond St\, Bend\, OR\, 97701\, United States
GEO:44.0593984;-121.3113079
X-APPLE-STRUCTURED-LOCATION;VALUE=URI;X-ADDRESS=Deschutes Brewery Public House 1044 NW Bond St Bend OR 97701 United States;X-APPLE-RADIUS=500;X-TITLE=1044 NW Bond St:geo:-121.3113079,44.0593984
END:VEVENT
END:VCALENDAR