BEGIN:VCALENDAR
VERSION:2.0
PRODID:-//The Environmental Center - ECPv6.15.20//NONSGML v1.0//EN
CALSCALE:GREGORIAN
METHOD:PUBLISH
X-WR-CALNAME:The Environmental Center
X-ORIGINAL-URL:https://envirocenter.org
X-WR-CALDESC:Events for The Environmental Center
REFRESH-INTERVAL;VALUE=DURATION:PT1H
X-Robots-Tag:noindex
X-PUBLISHED-TTL:PT1H
BEGIN:VTIMEZONE
TZID:America/Los_Angeles
BEGIN:DAYLIGHT
TZOFFSETFROM:-0800
TZOFFSETTO:-0700
TZNAME:PDT
DTSTART:20130310T100000
END:DAYLIGHT
BEGIN:STANDARD
TZOFFSETFROM:-0700
TZOFFSETTO:-0800
TZNAME:PST
DTSTART:20131103T090000
END:STANDARD
BEGIN:DAYLIGHT
TZOFFSETFROM:-0800
TZOFFSETTO:-0700
TZNAME:PDT
DTSTART:20140309T100000
END:DAYLIGHT
BEGIN:STANDARD
TZOFFSETFROM:-0700
TZOFFSETTO:-0800
TZNAME:PST
DTSTART:20141102T090000
END:STANDARD
BEGIN:DAYLIGHT
TZOFFSETFROM:-0800
TZOFFSETTO:-0700
TZNAME:PDT
DTSTART:20150308T100000
END:DAYLIGHT
BEGIN:STANDARD
TZOFFSETFROM:-0700
TZOFFSETTO:-0800
TZNAME:PST
DTSTART:20151101T090000
END:STANDARD
END:VTIMEZONE
BEGIN:VEVENT
DTSTART;VALUE=DATE:20140401
DTEND;VALUE=DATE:20140402
DTSTAMP:20260422T150339
CREATED:20140314T015801Z
LAST-MODIFIED:20230503T200004Z
UID:10002147-1396353600-1396357200@envirocenter.org
SUMMARY:Lunch with LandWatch: Protecting Central Oregon at the Legislature
DESCRIPTION:At this month’s Lunch with LandWatch\, Jonathan Manton will give an update on the 2014 legislative session. He will talk about why it is so important for Central Oregonians to have a voice in Salem\, how grassroots efforts can make a difference\, and what we can do to ensure the laws we have in place continue to protect the place we love. \nWhat: LandWatch’s lobbyist for the public interest\, Jonathan Manton\, will speak about giving a voice to public interest issues in Salem and update us on the most recent legislative session. \nWhen: Tuesday\, April 1st\, 12-1pm. Please arrive half an hour early to order your lunch. \nWhere: Zydeco Kitchen & Cocktails 919 NW Bond St. Bend. Menu can be found here. \nPlease RSVP here \nMore about Jonathan: \n Jonathan is a graduate of the University of Oregon School of Law and has over a decade of professional experience in Oregon state government and politics.  He is the Principal of Sawnee Services\, a small business providing government relations and campaign services to clients throughout Oregon. Central Oregon LandWatch and Friends of the Metolius are among his clients. \n  \nJonathan has been the lead advocate and author of several recent laws to further the public interest. These include a funding measure for survivors of domestic violence\, a bill that improves crosswalk safety for pedestrians\, and provisions that make bike/ped projects eligible for Connect Oregon dollars. \n  \nIn a 2011 survey by the Portland Mercury\, Oregon legislators ranked Jonathan the lobbyist most committed to the public interest\, the lobbyist with the highest integrity\, and the most effective lobbyist in Oregon.
URL:https://envirocenter.org/event/lunch-with-landwatch-protecting-central-oregon-at-the-legislature/
LOCATION:Deschutes Brewery Public House\, 1044 NW Bond St\, Bend\, OR\, 97701\, United States
GEO:44.0593984;-121.3113079
X-APPLE-STRUCTURED-LOCATION;VALUE=URI;X-ADDRESS=Deschutes Brewery Public House 1044 NW Bond St Bend OR 97701 United States;X-APPLE-RADIUS=500;X-TITLE=1044 NW Bond St:geo:-121.3113079,44.0593984
END:VEVENT
BEGIN:VEVENT
DTSTART;VALUE=DATE:20140403
DTEND;VALUE=DATE:20140404
DTSTAMP:20260422T150339
CREATED:20220629T034731Z
LAST-MODIFIED:20230503T210453Z
UID:10002140-1396548000-1396555200@envirocenter.org
SUMMARY:Repair Café
DESCRIPTION:Join us for our in-person Repair Café on Wednesday\, July 20\, 5:30-7:30pm at Gear Fix! \nThe Environmental Center’s Rethink Waste Project coordinates with an amazing group of volunteer fixers to host Repair Cafés every few months. This will be the first in-person Repair Café in Central Oregon since 2020. These free events connect people with broken stuff to people who like to fix stuff – they’re all about repairing things (together). Stuff like\, jewelry\, small appliances and electronics\, outdoor gear\, clothing\, and more. Repair Cafés are held around the world!  Repairing with other people saves natural resources\, prevents waste\, and cultivates community. Learn more at envirocenter.org/tec-events/repair-cafe/ \nNot sure if it can be fixed? Bring it!  \nContact: udara@envirocenter.org with questions or if you’re interested in being a volunteer fixer!
URL:https://envirocenter.org/event/repair-cafe-4/
LOCATION:Deschutes Brewery Public House\, 1044 NW Bond St\, Bend\, OR\, 97701\, United States
CATEGORIES:Repair Cafe
GEO:44.0593984;-121.3113079
X-APPLE-STRUCTURED-LOCATION;VALUE=URI;X-ADDRESS=Deschutes Brewery Public House 1044 NW Bond St Bend OR 97701 United States;X-APPLE-RADIUS=500;X-TITLE=1044 NW Bond St:geo:-121.3113079,44.0593984
END:VEVENT
BEGIN:VEVENT
DTSTART;VALUE=DATE:20140404
DTEND;VALUE=DATE:20140405
DTSTAMP:20260422T150339
CREATED:20140401T014409Z
LAST-MODIFIED:20230503T200005Z
UID:10000018-1396630800-1396641600@envirocenter.org
SUMMARY:5th Birthday Bash for Badlands & Spring Basin
DESCRIPTION:On March 30\, 2009\, the Oregon Badlands and Spring Basin became forever protected with a stroke of the president’s pen. Join us on Friday\, April 4\, at the Oregon Natural Desert Association’s Bend office to celebrate the fifth anniversary of their designation as wilderness! We’ll offer up a fun photo contest\, serve bites and bevs\, dance to live music and recognize those whose hard work helped secure more than 35\,000 acres of wild lands for future generations. \n 
URL:https://envirocenter.org/event/5th-birthday-bash-for-badlands-spring-basin/
LOCATION:Deschutes Brewery Public House\, 1044 NW Bond St\, Bend\, OR\, 97701\, United States
GEO:44.0593984;-121.3113079
X-APPLE-STRUCTURED-LOCATION;VALUE=URI;X-ADDRESS=Deschutes Brewery Public House 1044 NW Bond St Bend OR 97701 United States;X-APPLE-RADIUS=500;X-TITLE=1044 NW Bond St:geo:-121.3113079,44.0593984
END:VEVENT
BEGIN:VEVENT
DTSTART;VALUE=DATE:20140405
DTEND;VALUE=DATE:20140406
DTSTAMP:20260422T150339
CREATED:20150804T010544Z
LAST-MODIFIED:20230503T200312Z
UID:10002146-1396690200-1396704600@envirocenter.org
SUMMARY:Discover Nature Days
DESCRIPTION:Presented by the Children’s Forest of Central Oregon Partners \n\nAugust 6th\n11:00am– 12:00pm\nBoyd Park \n\n\nPredators and Prey presented by The Environmental Center. Have fun learning about the diverse animals that call Central Oregon home through exciting games and interactive science activities. Free! \n\nAugust 13th\n11:00am– 12:00pm\nPine Ridge Park \n\n\nBirds of Prey presented by High Desert Museum. Experience an up close encounter with a raptor and learn about exciting adaptations of birds of prey. Free!
URL:https://envirocenter.org/event/discover-nature-days-2-2015-08-06/
LOCATION:Deschutes Brewery Public House\, 1044 NW Bond St\, Bend\, OR\, 97701\, United States
GEO:44.0593984;-121.3113079
X-APPLE-STRUCTURED-LOCATION;VALUE=URI;X-ADDRESS=Deschutes Brewery Public House 1044 NW Bond St Bend OR 97701 United States;X-APPLE-RADIUS=500;X-TITLE=1044 NW Bond St:geo:-121.3113079,44.0593984
END:VEVENT
BEGIN:VEVENT
DTSTART;VALUE=DATE:20140405
DTEND;VALUE=DATE:20140406
DTSTAMP:20260422T150339
CREATED:20150309T232727Z
LAST-MODIFIED:20230503T200215Z
UID:10002129-1396693800-1396699200@envirocenter.org
SUMMARY:Seed Starting Class
DESCRIPTION:Learn how to start your own seeds for your garden from OSU Master Gardeners™.  Part of class will be in OSU Extension Greenhouse.
URL:https://envirocenter.org/event/seed-starting-class-2/
LOCATION:Deschutes Brewery Public House\, 1044 NW Bond St\, Bend\, OR\, 97701\, United States
GEO:44.0593984;-121.3113079
X-APPLE-STRUCTURED-LOCATION;VALUE=URI;X-ADDRESS=Deschutes Brewery Public House 1044 NW Bond St Bend OR 97701 United States;X-APPLE-RADIUS=500;X-TITLE=1044 NW Bond St:geo:-121.3113079,44.0593984
END:VEVENT
BEGIN:VEVENT
DTSTART;VALUE=DATE:20140405
DTEND;VALUE=DATE:20140406
DTSTAMP:20260422T150339
CREATED:20140318T230751Z
LAST-MODIFIED:20230503T200004Z
UID:10000012-1396702800-1396713600@envirocenter.org
SUMMARY:Earth Day Mask Making Workshop
DESCRIPTION:Saturday\, April 5\, at The Environmental Center\n$5.00 materials donation greatly appreciated! \nC.O. mask maker\, OPB Art Beat Alumni and long time A.I.E. artist Debra Fisher will be volunteering her time to teach mask/costume workshops at The Environmental Centers for our Earth Day Parade held in downtown Bend on Saturday April 19\, 2014. Being an animal not your thing? How about a plant\, or create a portable mural of your favorite natural scene! \nCentral Oregon is full of amazing artist and creative folks\, who live here for the natural beauty and out door life style. The Earth Day Parade needs your creative expression to help increase awareness and sustain our natural environment for generations to come. Please join us\, to make this the best Earth Day event ever! \nIf you already have an idea for a mask/costume and need help with a design\, or can’t make the workshop you can contact Debra by phone at 541-388-8369 for free consulting. \n 
URL:https://envirocenter.org/event/earth-day-mask-making-workshop/
LOCATION:Deschutes Brewery Public House\, 1044 NW Bond St\, Bend\, OR\, 97701\, United States
GEO:44.0593984;-121.3113079
X-APPLE-STRUCTURED-LOCATION;VALUE=URI;X-ADDRESS=Deschutes Brewery Public House 1044 NW Bond St Bend OR 97701 United States;X-APPLE-RADIUS=500;X-TITLE=1044 NW Bond St:geo:-121.3113079,44.0593984
END:VEVENT
END:VCALENDAR