BEGIN:VCALENDAR
VERSION:2.0
PRODID:-//The Environmental Center - ECPv6.15.20//NONSGML v1.0//EN
CALSCALE:GREGORIAN
METHOD:PUBLISH
X-ORIGINAL-URL:https://envirocenter.org
X-WR-CALDESC:Events for The Environmental Center
REFRESH-INTERVAL;VALUE=DURATION:PT1H
X-Robots-Tag:noindex
X-PUBLISHED-TTL:PT1H
BEGIN:VTIMEZONE
TZID:America/Los_Angeles
BEGIN:DAYLIGHT
TZOFFSETFROM:-0800
TZOFFSETTO:-0700
TZNAME:PDT
DTSTART:20190310T100000
END:DAYLIGHT
BEGIN:STANDARD
TZOFFSETFROM:-0700
TZOFFSETTO:-0800
TZNAME:PST
DTSTART:20191103T090000
END:STANDARD
BEGIN:DAYLIGHT
TZOFFSETFROM:-0800
TZOFFSETTO:-0700
TZNAME:PDT
DTSTART:20200308T100000
END:DAYLIGHT
BEGIN:STANDARD
TZOFFSETFROM:-0700
TZOFFSETTO:-0800
TZNAME:PST
DTSTART:20201101T090000
END:STANDARD
BEGIN:DAYLIGHT
TZOFFSETFROM:-0800
TZOFFSETTO:-0700
TZNAME:PDT
DTSTART:20210314T100000
END:DAYLIGHT
BEGIN:STANDARD
TZOFFSETFROM:-0700
TZOFFSETTO:-0800
TZNAME:PST
DTSTART:20211107T090000
END:STANDARD
END:VTIMEZONE
BEGIN:VEVENT
DTSTART;VALUE=DATE:20201004
DTEND;VALUE=DATE:20201005
DTSTAMP:20260424T071616
CREATED:20200907T225540Z
LAST-MODIFIED:20230503T201052Z
UID:10001570-1601769600-1601855999@envirocenter.org
SUMMARY:Bigfoot Road 10K\, Bend
DESCRIPTION:Race Information:\nThis downhill road race is perfect for people looking to keep it in the 5- to 10K range. You’ll fly as you head from the Cascade Lakes Welcome Center and finish at Riverbend Park. \nSUNDAY OCTOBER 4th 2020. Wave Starts beginning at 9:00am Cascade Lakes Welcome Center \nPACKET PICKUP and Paper Registration at Footzone on Saturday 10/3 from 2-6pm\n \nCourse-The Bigfoot 10K:\nThe course in its third year will start at the Cascade Lakes Welcome Center and wind downhill on the bike path and connect to the Deschutes River Trail finishing at Riverbend Park. This half pavement half smooth wide trail is a fun\, fast and scenic course with nearly 500 ft of elevation loss \nDue to the wave start format\, you’ll have plenty of room but be respectful of others and wear facial covering when a distance of 6 feet cannot be maintained. \nCOURSE MAP \nCharity: All proceeds go to support the Bend/LaPine high school cross-country teams\nQuestions? centraloregonrunningklub@gmail.com
URL:https://envirocenter.org/event/bigfoot-road-10k-bend/
LOCATION:Deschutes Brewery Public House\, 1044 NW Bond St\, Bend\, OR\, 97701\, United States
GEO:44.0593984;-121.3113079
X-APPLE-STRUCTURED-LOCATION;VALUE=URI;X-ADDRESS=Deschutes Brewery Public House 1044 NW Bond St Bend OR 97701 United States;X-APPLE-RADIUS=500;X-TITLE=1044 NW Bond St:geo:-121.3113079,44.0593984
END:VEVENT
END:VCALENDAR