BEGIN:VCALENDAR
VERSION:2.0
PRODID:-//The Environmental Center - ECPv6.15.20//NONSGML v1.0//EN
CALSCALE:GREGORIAN
METHOD:PUBLISH
X-WR-CALNAME:The Environmental Center
X-ORIGINAL-URL:https://envirocenter.org
X-WR-CALDESC:Events for The Environmental Center
REFRESH-INTERVAL;VALUE=DURATION:PT1H
X-Robots-Tag:noindex
X-PUBLISHED-TTL:PT1H
BEGIN:VTIMEZONE
TZID:America/Los_Angeles
BEGIN:DAYLIGHT
TZOFFSETFROM:-0800
TZOFFSETTO:-0700
TZNAME:PDT
DTSTART:20140309T100000
END:DAYLIGHT
BEGIN:STANDARD
TZOFFSETFROM:-0700
TZOFFSETTO:-0800
TZNAME:PST
DTSTART:20141102T090000
END:STANDARD
BEGIN:DAYLIGHT
TZOFFSETFROM:-0800
TZOFFSETTO:-0700
TZNAME:PDT
DTSTART:20150308T100000
END:DAYLIGHT
BEGIN:STANDARD
TZOFFSETFROM:-0700
TZOFFSETTO:-0800
TZNAME:PST
DTSTART:20151101T090000
END:STANDARD
BEGIN:DAYLIGHT
TZOFFSETFROM:-0800
TZOFFSETTO:-0700
TZNAME:PDT
DTSTART:20160313T100000
END:DAYLIGHT
BEGIN:STANDARD
TZOFFSETFROM:-0700
TZOFFSETTO:-0800
TZNAME:PST
DTSTART:20161106T090000
END:STANDARD
END:VTIMEZONE
BEGIN:VEVENT
DTSTART;VALUE=DATE:20150610
DTEND;VALUE=DATE:20150611
DTSTAMP:20260425T080920
CREATED:20150603T020038Z
LAST-MODIFIED:20230503T200257Z
UID:10002491-1433961000-1433968200@envirocenter.org
SUMMARY:Theatrical Evening Benefits Volunteer Connect
DESCRIPTION:Join Volunteer Connect and Cascades Theatrical Company for a special benefit preview of “A Funny Thing Happened on the Way to the Forum”. We invite you to enjoy this “non-stop laugh-fest” while also supporting our efforts to increase volunteerism in Central Oregon – all proceeds benefit Volunteer Connect! \nTo purchase tickets\, call the box office at 541-389-0803 and mention the promo code Forum2015 OR visit cascadestheatrical.org and follow instructions below. \n(Click on “Buy Tickets” on the upper right and then click on the “Get Tickets” link; choose the Wed. June 10 showing. Confirm your seats\, log in or create a login\, and enter the promo code\, Forum2015\, under the Coupon Pass Code on the right. Click “Apply” and your tickets will be reduced to $10. Enter a credit card number to proceed and complete purchase.)
URL:https://envirocenter.org/event/theatrical-evening-benefits-volunteer-connect/
LOCATION:Deschutes Brewery Public House\, 1044 NW Bond St\, Bend\, OR\, 97701\, United States
GEO:44.0593984;-121.3113079
X-APPLE-STRUCTURED-LOCATION;VALUE=URI;X-ADDRESS=Deschutes Brewery Public House 1044 NW Bond St Bend OR 97701 United States;X-APPLE-RADIUS=500;X-TITLE=1044 NW Bond St:geo:-121.3113079,44.0593984
END:VEVENT
BEGIN:VEVENT
DTSTART;VALUE=DATE:20150611
DTEND;VALUE=DATE:20150612
DTSTAMP:20260425T080920
CREATED:20150603T020435Z
LAST-MODIFIED:20230503T200300Z
UID:10002492-1434015000-1434022200@envirocenter.org
SUMMARY:Prineville Volunteer Management Workshop
DESCRIPTION:Location: Crook County Library\, Broughton Room  \nDo you struggle with finding volunteers in Crook County? Are you interested in learning more about recruiting volunteers? Do you utilize volunteers to fulfill your organizational mission in Crook County? \nPlan to attend our informative and interactive Volunteer Managers Workshop. We plan to… \n\nAssess your organizational need for volunteers\nCreate a volunteer position description for your most essential vacant volunteer position\nDevelop a volunteer recruitment announcement and identify successful volunteer recruitment methods\nCreate your own organizational volunteer recruitment plan\n\nAll of this takes place in an interactive setting while networking and sharing ideas with other nonprofit professionals who are seeking and managing volunteers within the Crook County community. \nParticipation is limited so please RSVP before Monday\, June 8th! If you have any questions please\ncontact Daleena: daleena@volunteerconnectnow.org
URL:https://envirocenter.org/event/prineville-volunteer-management-workshop/
LOCATION:Deschutes Brewery Public House\, 1044 NW Bond St\, Bend\, OR\, 97701\, United States
GEO:44.0593984;-121.3113079
X-APPLE-STRUCTURED-LOCATION;VALUE=URI;X-ADDRESS=Deschutes Brewery Public House 1044 NW Bond St Bend OR 97701 United States;X-APPLE-RADIUS=500;X-TITLE=1044 NW Bond St:geo:-121.3113079,44.0593984
END:VEVENT
BEGIN:VEVENT
DTSTART;VALUE=DATE:20150612
DTEND;VALUE=DATE:20150613
DTSTAMP:20260425T080920
CREATED:20150515T044328Z
LAST-MODIFIED:20230503T200251Z
UID:10002478-1434099600-1434117600@envirocenter.org
SUMMARY:Beers Made By Walking: Badlands hike with Worthy
DESCRIPTION:Beers Made By Walking presents a day hike in the Badlands Wilderness with Oregon Natural Desert Association and Worthy Brewing Company. \nWe’ll meet at ONDA’s Bend office and carpool roughly 20 minutes to the trailhead together. \nOur 3-mile hiking trail in the Badlands is generally flat with some rocky terrain and slight elevation gain– perfect for any level of hiker. Bring sturdy shoes\, lunch\, plenty of water\, a keen eye for flora and an appreciation for micro-brews.
URL:https://envirocenter.org/event/beers-made-by-walking-badlands-hike-with-worthy/
LOCATION:Deschutes Brewery Public House\, 1044 NW Bond St\, Bend\, OR\, 97701\, United States
GEO:44.0593984;-121.3113079
X-APPLE-STRUCTURED-LOCATION;VALUE=URI;X-ADDRESS=Deschutes Brewery Public House 1044 NW Bond St Bend OR 97701 United States;X-APPLE-RADIUS=500;X-TITLE=1044 NW Bond St:geo:-121.3113079,44.0593984
END:VEVENT
END:VCALENDAR