BEGIN:VCALENDAR
VERSION:2.0
PRODID:-//The Environmental Center - ECPv6.15.20//NONSGML v1.0//EN
CALSCALE:GREGORIAN
METHOD:PUBLISH
X-WR-CALNAME:The Environmental Center
X-ORIGINAL-URL:https://envirocenter.org
X-WR-CALDESC:Events for The Environmental Center
REFRESH-INTERVAL;VALUE=DURATION:PT1H
X-Robots-Tag:noindex
X-PUBLISHED-TTL:PT1H
BEGIN:VTIMEZONE
TZID:America/Los_Angeles
BEGIN:DAYLIGHT
TZOFFSETFROM:-0800
TZOFFSETTO:-0700
TZNAME:PDT
DTSTART:20140309T100000
END:DAYLIGHT
BEGIN:STANDARD
TZOFFSETFROM:-0700
TZOFFSETTO:-0800
TZNAME:PST
DTSTART:20141102T090000
END:STANDARD
BEGIN:DAYLIGHT
TZOFFSETFROM:-0800
TZOFFSETTO:-0700
TZNAME:PDT
DTSTART:20150308T100000
END:DAYLIGHT
BEGIN:STANDARD
TZOFFSETFROM:-0700
TZOFFSETTO:-0800
TZNAME:PST
DTSTART:20151101T090000
END:STANDARD
BEGIN:DAYLIGHT
TZOFFSETFROM:-0800
TZOFFSETTO:-0700
TZNAME:PDT
DTSTART:20160313T100000
END:DAYLIGHT
BEGIN:STANDARD
TZOFFSETFROM:-0700
TZOFFSETTO:-0800
TZNAME:PST
DTSTART:20161106T090000
END:STANDARD
END:VTIMEZONE
BEGIN:VEVENT
DTSTART;VALUE=DATE:20150303
DTEND;VALUE=DATE:20150304
DTSTAMP:20260423T214646
CREATED:20150804T024509Z
LAST-MODIFIED:20230503T200313Z
UID:10000257-1425407400-1425414600@envirocenter.org
SUMMARY:Green Team Movie Night
DESCRIPTION:Green Team Movie Night is coming right up!  We are going to watch a few episodes of  “Saving the Ocean with Carl Safina” on Tuesday\, Aug 4th at 6:30 – 8:00 p.m. at First  Presbyterian Church\, 230 NE Ninth St.\, in Bend in the church library.  Watch and hear stories of hope and the innovation and  the inspiration of scientists\, conservationists and local communities who are working hard to care for the world’s oceans.  This PBS series is hosted by Carl Safina\, renowned marine biologist and writer and founder of the Blue Ocean Institute.
URL:https://envirocenter.org/event/green-team-movie-night-5/
LOCATION:Deschutes Brewery Public House\, 1044 NW Bond St\, Bend\, OR\, 97701\, United States
GEO:44.0593984;-121.3113079
X-APPLE-STRUCTURED-LOCATION;VALUE=URI;X-ADDRESS=Deschutes Brewery Public House 1044 NW Bond St Bend OR 97701 United States;X-APPLE-RADIUS=500;X-TITLE=1044 NW Bond St:geo:-121.3113079,44.0593984
END:VEVENT
BEGIN:VEVENT
DTSTART;VALUE=DATE:20150304
DTEND;VALUE=DATE:20150305
DTSTAMP:20260423T214646
CREATED:20150212T053506Z
LAST-MODIFIED:20230503T200200Z
UID:10000248-1425484800-1425492000@envirocenter.org
SUMMARY:Book Discussion Celebration: A Community United Against Racism
DESCRIPTION:As the community book discussions conclude their review of “Overcoming Our Racism: Journey to Liberation”\, we will hold a community celebration and dialogue about the next steps that we can take together to end racial injustice in our community. Whether you’ve participated in the book discussions or not\, please join in this important community conversation. \nCo-sponsored with Building Common Ground and the Social Justice Center. \nWille Hall\, COCC Campus Center\, Bend \nContact: Bruce Morris\, cosjcenter@gmail; Info@cosjc.org
URL:https://envirocenter.org/event/book-discussion-celebration-community-united-racism/
LOCATION:Deschutes Brewery Public House\, 1044 NW Bond St\, Bend\, OR\, 97701\, United States
GEO:44.0593984;-121.3113079
X-APPLE-STRUCTURED-LOCATION;VALUE=URI;X-ADDRESS=Deschutes Brewery Public House 1044 NW Bond St Bend OR 97701 United States;X-APPLE-RADIUS=500;X-TITLE=1044 NW Bond St:geo:-121.3113079,44.0593984
END:VEVENT
BEGIN:VEVENT
DTSTART;VALUE=DATE:20150305
DTEND;VALUE=DATE:20150306
DTSTAMP:20260423T214646
CREATED:20150212T065853Z
LAST-MODIFIED:20230503T200201Z
UID:10002380-1425576600-1425583800@envirocenter.org
SUMMARY:Kôr Community Land Trust Info Exchange
DESCRIPTION:Kôr Community Land Trust invites you to join us for cocktails\, lite-bites  and some great information about our vision for affordable housing communities in Bend. The event is open to the public. Bring your questions and a friend! \n  \n 
URL:https://envirocenter.org/event/kor-community-land-trust-info-exchange/
LOCATION:Deschutes Brewery Public House\, 1044 NW Bond St\, Bend\, OR\, 97701\, United States
GEO:44.0593984;-121.3113079
X-APPLE-STRUCTURED-LOCATION;VALUE=URI;X-ADDRESS=Deschutes Brewery Public House 1044 NW Bond St Bend OR 97701 United States;X-APPLE-RADIUS=500;X-TITLE=1044 NW Bond St:geo:-121.3113079,44.0593984
END:VEVENT
BEGIN:VEVENT
DTSTART;VALUE=DATE:20150305
DTEND;VALUE=DATE:20150306
DTSTAMP:20260423T214646
CREATED:20150501T030302Z
LAST-MODIFIED:20230503T200244Z
UID:10002395-1425585600-1425589200@envirocenter.org
SUMMARY:Full Moon Hike
DESCRIPTION:Full Moon Hike; May 4th from 8pm-9pm\, June 2nd from 9pm-10pm; At SNCO; Adults $6\, kids $4\, SNCO members Free (Registration required: 541-593-4394).
URL:https://envirocenter.org/event/full-moon-hike-3/
LOCATION:Deschutes Brewery Public House\, 1044 NW Bond St\, Bend\, OR\, 97701\, United States
GEO:44.0593984;-121.3113079
X-APPLE-STRUCTURED-LOCATION;VALUE=URI;X-ADDRESS=Deschutes Brewery Public House 1044 NW Bond St Bend OR 97701 United States;X-APPLE-RADIUS=500;X-TITLE=1044 NW Bond St:geo:-121.3113079,44.0593984
END:VEVENT
BEGIN:VEVENT
DTSTART;VALUE=DATE:20150306
DTEND;VALUE=DATE:20150307
DTSTAMP:20260423T214646
CREATED:20150304T075449Z
LAST-MODIFIED:20230503T200210Z
UID:10000269-1425632400-1425655800@envirocenter.org
SUMMARY:Building Science Literacy through Outdoor Inquiry
DESCRIPTION:Join Children’s Forest of Central Oregon partners for fun and interactive trainings which provide skills for K-12 teachers to lead effective outdoor educational activities. Teachers will learn natural resource information\, inquiry skills\, hands-on science activities which align with Next Generation Science Standards\, and tips for group management and logistics for field trips. Substitute costs are available for public school teachers through the School Engagement Fund. Post-training support will be provided to participating teachers to assist with facilitating field experiences.
URL:https://envirocenter.org/event/building-science-literacy-outdoor-inquiry/
LOCATION:Deschutes Brewery Public House\, 1044 NW Bond St\, Bend\, OR\, 97701\, United States
GEO:44.0593984;-121.3113079
X-APPLE-STRUCTURED-LOCATION;VALUE=URI;X-ADDRESS=Deschutes Brewery Public House 1044 NW Bond St Bend OR 97701 United States;X-APPLE-RADIUS=500;X-TITLE=1044 NW Bond St:geo:-121.3113079,44.0593984
END:VEVENT
BEGIN:VEVENT
DTSTART;VALUE=DATE:20150306
DTEND;VALUE=DATE:20150307
DTSTAMP:20260423T214646
CREATED:20150227T010700Z
LAST-MODIFIED:20230503T200207Z
UID:10002390-1425668400-1425672000@envirocenter.org
SUMMARY:Eagles in Oregon: Watching Them Watch Us Watch Them
DESCRIPTION:Friends and Neighbors of the Deschutes Canyon Area (FANs) Winter Lecture Series:\nEagles in Oregon: Watching Them Watch Us Watch Them\nPresented by Frank Isaacs\, Oregon Eagle Foundation \nOregon is fortunate to have abundant habitat for both bald and golden eagles. Frank Isaacs has studied both species for over thirty years. His program will compare and contrast the look\, behavior\, history and current status of eagles in Oregon. \nFrank Isaacs is co-founder of The Oregon Eagle Foundation.  He leads a statewide golden eagle nest survey in Oregon and has many volunteers monitoring nests throughout our Central Oregon scenic canyons. Frank graduated Michigan Technological University where he earned his Bachelor’s Degree in Forestry and a Master’s Degree in Forest Wildlife Management. He has lived in Oregon since 1977 and worked on bald eagle research at Oregon State University for 31 years. While at OSU\, Frank led the statewide bald eagle nest survey for 29 years and studied wintering bald eagles in eastern Oregon for 10 winters. He has also led Oregon’s peregrine falcon nest survey for 5 years. Frank has received many awards for his work with bald eagles\, habitat and conservation. \nDoors open at 6:30 p.m.\, and the presentation starts at 7:00 p.m. FANs members are admitted free; non-members pay $1 at the door. Held at The Ranch Chapel’s Family Center\, Crooked River Ranch. Space is limited; click here to register today.
URL:https://envirocenter.org/event/eagles-oregon-watching-watch-us-watch/
LOCATION:Deschutes Brewery Public House\, 1044 NW Bond St\, Bend\, OR\, 97701\, United States
GEO:44.0593984;-121.3113079
X-APPLE-STRUCTURED-LOCATION;VALUE=URI;X-ADDRESS=Deschutes Brewery Public House 1044 NW Bond St Bend OR 97701 United States;X-APPLE-RADIUS=500;X-TITLE=1044 NW Bond St:geo:-121.3113079,44.0593984
END:VEVENT
BEGIN:VEVENT
DTSTART;VALUE=DATE:20150307
DTEND;VALUE=DATE:20150308
DTSTAMP:20260423T214646
CREATED:20150305T064626Z
LAST-MODIFIED:20230503T200211Z
UID:10000263-1425754800-1425762000@envirocenter.org
SUMMARY:'Wild' Night in Bend
DESCRIPTION:BendFilm is hosting a screening of two independent films celebrating the Pacific Crest Trail and the 50thAnniversary of the Wilderness Act. Filmmakers will be in attendance! \nThe headlining film\, “Only the Essential”\, is a truly independent documentary film by former Bend resident\, Colin Arsiman.  Arisman and friend Casey Gannon thru-hiked the Pacific Crest Trail with cameras in hand. “Only The Essential” is the story of their 5 month\, 2668 mile journey on foot from Mexico to Canada across the wilderness of California\, Oregon\, and Washington.  Their goal was to capture the brutal\, yet breathtaking\, ebb and flow of thru-hiking.  The film serves as a window to experience the Pacific Crest Trail and witness the value of simplifying life to a point where “only the essential” remains.  Arisman and Gannon are scheduled to attend for a post-screening Q&A and a raffle.  (See more information and the trailer here: http://www.onlytheessential.com/watch) \nA screening of “The Meaning of Wild” will open the evening.  The film is a half hour documentary film that takes viewers on a journeythrough one of our nation’s wildest landscapes\, the Tongass National Forest of Southeast Alaska. The film follows wildlife cameraman Ben Hamilton as he travels by boat\, plane\, kayak and foot to capture and share the true value of Wilderness. Along the journey\, Ben encounters bears\, calving glaciers\, ancient forests\, and harsh seas\, but it’s the characters he meets along the way that bring true insight to his mission.  (See more information and the trailer here: http://www.meaningofwild.com/) \nTickets are available on BendTicket.com and on the BendFilm websites: http://bendticket.strangertickets.com/events/23290288/a-wild-night-in-bend
URL:https://envirocenter.org/event/wild-night-bend/
LOCATION:Deschutes Brewery Public House\, 1044 NW Bond St\, Bend\, OR\, 97701\, United States
GEO:44.0593984;-121.3113079
X-APPLE-STRUCTURED-LOCATION;VALUE=URI;X-ADDRESS=Deschutes Brewery Public House 1044 NW Bond St Bend OR 97701 United States;X-APPLE-RADIUS=500;X-TITLE=1044 NW Bond St:geo:-121.3113079,44.0593984
END:VEVENT
BEGIN:VEVENT
DTSTART;VALUE=DATE:20150309
DTEND;VALUE=DATE:20150310
DTSTAMP:20260423T214646
CREATED:20150309T235833Z
LAST-MODIFIED:20230503T200217Z
UID:10000275-1425895200-1425902400@envirocenter.org
SUMMARY:Introduction to Growing Vegetables Class
DESCRIPTION:An introductory class given by OSU Master Gardeners™ on growing vegetables including climate\, site selection\, soil preparation\, season extension\, and how to grow the most common vegetables for the area.
URL:https://envirocenter.org/event/introduction-growing-vegetables-class-3/
LOCATION:Deschutes Brewery Public House\, 1044 NW Bond St\, Bend\, OR\, 97701\, United States
GEO:44.0593984;-121.3113079
X-APPLE-STRUCTURED-LOCATION;VALUE=URI;X-ADDRESS=Deschutes Brewery Public House 1044 NW Bond St Bend OR 97701 United States;X-APPLE-RADIUS=500;X-TITLE=1044 NW Bond St:geo:-121.3113079,44.0593984
END:VEVENT
BEGIN:VEVENT
DTSTART;VALUE=DATE:20150309
DTEND;VALUE=DATE:20150310
DTSTAMP:20260423T214646
CREATED:20150310T000042Z
LAST-MODIFIED:20230503T200218Z
UID:10000276-1425897000-1425902400@envirocenter.org
SUMMARY:Class - Plan Before Planting
DESCRIPTION:Learn everything you need to know from OSU Master Gardeners™ about planning a successful vegetable garden in Central Oregon including climate issues\, soil preparation\, choosing seeds and other vegetable starts\, for optimal growth and harvests. \nFor more info: Page 32 in Winter-Spring catalogue www.bendparksandrec.org\n541-389-7275
URL:https://envirocenter.org/event/class-plan-planting/
LOCATION:Deschutes Brewery Public House\, 1044 NW Bond St\, Bend\, OR\, 97701\, United States
GEO:44.0593984;-121.3113079
X-APPLE-STRUCTURED-LOCATION;VALUE=URI;X-ADDRESS=Deschutes Brewery Public House 1044 NW Bond St Bend OR 97701 United States;X-APPLE-RADIUS=500;X-TITLE=1044 NW Bond St:geo:-121.3113079,44.0593984
END:VEVENT
BEGIN:VEVENT
DTSTART;VALUE=DATE:20150309
DTEND;VALUE=DATE:20150310
DTSTAMP:20260423T214646
CREATED:20150306T061409Z
LAST-MODIFIED:20230503T200212Z
UID:10000238-1425915900-1425921300@envirocenter.org
SUMMARY:Fledgling Fun: The Life Cycle of Birds
DESCRIPTION:Fledgling Fun: The Life Cycle of Birds\n3:45-5:15 PM\n(3:45-4:15 pm: gathering & crafts; 4:15-5:15 pm: activities & presentation) \nMarch 9th: Cranes\nApril 13th: Bird Migration\nMay 11th: A Bird-Day Celebration …(A celebration of what we have learned) \nJoin Mary Yanalcanlin for an exploration of our local birds geared towards grades K-5 (though all ages are welcome). The February session\, devoted to the Life cycle of Birds\, is from 3:45-5:15 PM\, doors open at 3:15pm. Location is the Environmental Care Center\, 16 NW Kansas in Bend. Fledglings (kids) must be accompanied by a responsible adult. \nThe East Cascades Audubon Society (ECAS) is a 501(c)(3) organization whose mission is to further the knowledge and appreciation of birds and their habitats through field trips and education programs. Besides outreach to the community for the enjoyment and study of birds\, ECAS also actively participates in field studies\, data collection programs and other conservation projects to help protect local bird populations. Join ECAS and help preserve the birds in the Central Oregon region at www.ecaudubon.org.
URL:https://envirocenter.org/event/fledgling-fun-life-cycle-birds-2/
LOCATION:Deschutes Brewery Public House\, 1044 NW Bond St\, Bend\, OR\, 97701\, United States
GEO:44.0593984;-121.3113079
X-APPLE-STRUCTURED-LOCATION;VALUE=URI;X-ADDRESS=Deschutes Brewery Public House 1044 NW Bond St Bend OR 97701 United States;X-APPLE-RADIUS=500;X-TITLE=1044 NW Bond St:geo:-121.3113079,44.0593984
END:VEVENT
BEGIN:VEVENT
DTSTART;VALUE=DATE:20150310
DTEND;VALUE=DATE:20150311
DTSTAMP:20260423T214646
CREATED:20150212T054048Z
LAST-MODIFIED:20230503T200201Z
UID:10000249-1425978000-1426006800@envirocenter.org
SUMMARY:Oregon Strong Voice Grassroots Lobby Day
DESCRIPTION:Leaving from Bend for conversations with legislators about laws on wages and working conditions and other priorities for our Oregon Strong Voice Coalition. \nContact: Bruce Morris\, Bruce Morris\, coscjenter@gmail.
URL:https://envirocenter.org/event/oregon-strong-voice-grassroots-lobby-day/
LOCATION:Deschutes Brewery Public House\, 1044 NW Bond St\, Bend\, OR\, 97701\, United States
GEO:44.0593984;-121.3113079
X-APPLE-STRUCTURED-LOCATION;VALUE=URI;X-ADDRESS=Deschutes Brewery Public House 1044 NW Bond St Bend OR 97701 United States;X-APPLE-RADIUS=500;X-TITLE=1044 NW Bond St:geo:-121.3113079,44.0593984
END:VEVENT
BEGIN:VEVENT
DTSTART;VALUE=DATE:20150310
DTEND;VALUE=DATE:20150311
DTSTAMP:20260423T214646
CREATED:20150306T013221Z
LAST-MODIFIED:20230503T200211Z
UID:10002398-1425981600-1425985200@envirocenter.org
SUMMARY:Birding for PreSchoolers
DESCRIPTION:10:00 AM Monday mornings\, Drake Park in Bend \nA birding and nature walk geared towards preschoolers but all ages are welcome.  Exploration\, singing\, finger plays\, observation\, learning\, questioning…it’s all part of a fun-filled hour on Monday mornings at Drake Park.  We meet near the middle of the park by the restrooms.  Parent or responsible care-taker is required to accompany child.  Come join us for the whole hour or feel free to leave early if necessary for your child’s needs and interest. We will meet regardless of the weather so please dress in warm\, dry layers.   \nContact Mary Yanalcanlin by email (birdingfun@gmail.com) if you have any questions.
URL:https://envirocenter.org/event/birding-preschoolers-2015-03-10/
LOCATION:Deschutes Brewery Public House\, 1044 NW Bond St\, Bend\, OR\, 97701\, United States
GEO:44.0593984;-121.3113079
X-APPLE-STRUCTURED-LOCATION;VALUE=URI;X-ADDRESS=Deschutes Brewery Public House 1044 NW Bond St Bend OR 97701 United States;X-APPLE-RADIUS=500;X-TITLE=1044 NW Bond St:geo:-121.3113079,44.0593984
END:VEVENT
BEGIN:VEVENT
DTSTART;VALUE=DATE:20150310
DTEND;VALUE=DATE:20150311
DTSTAMP:20260423T214646
CREATED:20150307T031753Z
LAST-MODIFIED:20230503T200215Z
UID:10002412-1426008600-1426014000@envirocenter.org
SUMMARY:Oregon Climate Meet Up
DESCRIPTION:Oregon Climate is a statewide\, grassroots campaign to put a price on pollution in Oregon. We have one overarching goal: to pass a carbon price and dividend for our state. This simple system will charge polluters and give the money directly back to each and every taxpayer. Join the Oregon Climate Action Hub in Bend\, where we’ll be initiating and organizing action on the local level\, to contribute to our ambitious campaign to put a price on carbon. \nThe following topics will be discussed: \n1)  What is the purpose of this Oregon Climate Action Hub? \n— Our voice \n— Our views on climate \n— Our resources \n2) What is the role of the Action Hub Leader (job description) \n3) What is the role of the Assistant Action Hub Leader (job description) \n4) What is the role of the Action Hub Secretary (job description) \n5) What is the role of the Action Hub Members (job description) \n6) Nominations and vote for leader\, assistant leader and secretary \n7) Determine Action Hub regular meeting times and location \n8) Discuss Bend area event survey results \n9) Discuss possible city and/or county resolutions \n10) Actions\, ideas\, thoughts and comments for next meeting
URL:https://envirocenter.org/event/oregon-climate-meet/
LOCATION:Deschutes Brewery Public House\, 1044 NW Bond St\, Bend\, OR\, 97701\, United States
GEO:44.0593984;-121.3113079
X-APPLE-STRUCTURED-LOCATION;VALUE=URI;X-ADDRESS=Deschutes Brewery Public House 1044 NW Bond St Bend OR 97701 United States;X-APPLE-RADIUS=500;X-TITLE=1044 NW Bond St:geo:-121.3113079,44.0593984
END:VEVENT
BEGIN:VEVENT
DTSTART;VALUE=DATE:20150311
DTEND;VALUE=DATE:20150312
DTSTAMP:20260423T214646
CREATED:20150218T064312Z
LAST-MODIFIED:20230503T200206Z
UID:10000254-1426100400-1426105800@envirocenter.org
SUMMARY:Oregon State Legislature Policy 101
DESCRIPTION:On Wednesday\, March 11th\, join Central Oregon LandWatch\, Friends of Family Farmers\, and High Desert Food and Farm Alliance for a FREE workshop. \nCome learn how the Oregon Legislature works and get engaged with your government. \nLearn about relevant food\, farm and Land Use Bills that will be addressed by the 2015 Legislature and how to use your voice to stand up for issues that matter to you! \nSeating is limited\, so please RSVP. Light refreshments and beer from Worthy Brewing will be served.
URL:https://envirocenter.org/event/oregon-state-legislature-policy-101/
LOCATION:Deschutes Brewery Public House\, 1044 NW Bond St\, Bend\, OR\, 97701\, United States
GEO:44.0593984;-121.3113079
X-APPLE-STRUCTURED-LOCATION;VALUE=URI;X-ADDRESS=Deschutes Brewery Public House 1044 NW Bond St Bend OR 97701 United States;X-APPLE-RADIUS=500;X-TITLE=1044 NW Bond St:geo:-121.3113079,44.0593984
END:VEVENT
BEGIN:VEVENT
DTSTART;VALUE=DATE:20150311
DTEND;VALUE=DATE:20150312
DTSTAMP:20260423T214646
CREATED:20150220T080355Z
LAST-MODIFIED:20230503T200206Z
UID:10000259-1426100400-1426107600@envirocenter.org
SUMMARY:High Desert Lecture Series: Shane Von Schlemp & Thru-Hiking the Oregon Desert Trail
DESCRIPTION:In the second installment of its new High Desert Lecture Series\, the Oregon Natural Desert Association on Wednesday\, March 11 will welcome an adventurer who last summer completed the entire 800-mile Oregon Desert Trail. \nJoin us for “Shane Von Schlemp and Through-Hiking the Oregon Desert Trail.” \nLast summer\, long-distance hiker Shane Von Schlemp became one of the first to complete the new\, roughly 800-mile Oregon Desert Trail. A project of ONDA\, the trail winds from outside Bend through Hart Mountain National Antelope Refuge\, Steens Mountain Wilderness and the Owyhee Canyonlands to nearly the Idaho border. The journey took Shane through red-rock canyons\, over high alpine landscapes and across sagebrush plains. Shane will share his 34 days on the trail\, including the moments that made his heart soar and those that tested his spirit through what remains a wild\, largely undiscovered part of Oregon. \nThere will be time after the event to enjoy a beverage and chat with Shane. Space is limited. Please assist us by signing up in advance. Doors will open at 6:30 p.m. \nONDA’s High Desert Lecture Series offers the chance to learn more about Oregon’s high desert from experts. The next talk is slated for April 7: Stu Garrett\, co-founder of the local chapter of the Native Plant Society of Oregon\, will talk about high desert wildflowers\, just in time for hiking season.
URL:https://envirocenter.org/event/high-desert-lecture-series-shane-von-schlemp-thru-hiking-oregon-desert-trail/
LOCATION:Deschutes Brewery Public House\, 1044 NW Bond St\, Bend\, OR\, 97701\, United States
GEO:44.0593984;-121.3113079
X-APPLE-STRUCTURED-LOCATION;VALUE=URI;X-ADDRESS=Deschutes Brewery Public House 1044 NW Bond St Bend OR 97701 United States;X-APPLE-RADIUS=500;X-TITLE=1044 NW Bond St:geo:-121.3113079,44.0593984
END:VEVENT
BEGIN:VEVENT
DTSTART;VALUE=DATE:20150312
DTEND;VALUE=DATE:20150313
DTSTAMP:20260423T214646
CREATED:20150225T004621Z
LAST-MODIFIED:20230503T200206Z
UID:10000260-1426170600-1426179600@envirocenter.org
SUMMARY:Energy Trust of Oregon Presents: Deep Retrofits on Historic Projects
DESCRIPTION:Join Energy Trust for the beginning of the 2015 Allies for Efficiency training series. The training will cover design and construction best practices for deep energy retrofit projects\, including a case study on the Vestas building itself. Following the training\, Energy Trust will host a catered reception\, and Vestas staff will be available to provide building tours. Professionals taking this training are eligible for 2.5 AIA LU/HSW and LFA continuing education credits. \nIn addition to the live event in Portland\, Energy Trust will host group webinars throughout Oregon. Attendees can gather in Salem\, Bend\, Medford or Eugene to watch the live presentation with an Energy Trust representative facilitating questions. \nPresenters:\nMitch Dec\, Principal\, Glumac\nSteve Clem\, Vice President of Preconstruction\, Skanska\nRenee Loveland\, Sustainability Manager\, Gerding Edlen\nSabine O’Halloran\, Principal\, Ankrom Moisan\nVanessa Benedetti\, Office Services Manager\, Vestas \nCourse Description:\nDeep retrofits go well beyond a system-by-system approach to existing building equipment upgrades. They require a holistic building redesign that incorporates infrastructure\, mechanical and electrical systems\, building skin\, renewable energy\, and energy analysis and management. Unlike new construction projects\, deep retrofits have the added complexity of working through constraints inherent in the existing structure that designers and contractors must resolve. \nThis course will present how the owner\, developer\, design teams\, and general contractor approached the conversion and deep retrofit of the former Meier & Frank warehouse into a high-performance office building that serves as the North American headquarters for Vestas. The project is LEED® Platinum certified and has achieved an Energy Star score of 99 through post occupancy energy analysis verification.
URL:https://envirocenter.org/event/energy-trust-oregon-presents-deep-retrofits-historic-projects/
LOCATION:Deschutes Brewery Public House\, 1044 NW Bond St\, Bend\, OR\, 97701\, United States
GEO:44.0593984;-121.3113079
X-APPLE-STRUCTURED-LOCATION;VALUE=URI;X-ADDRESS=Deschutes Brewery Public House 1044 NW Bond St Bend OR 97701 United States;X-APPLE-RADIUS=500;X-TITLE=1044 NW Bond St:geo:-121.3113079,44.0593984
END:VEVENT
END:VCALENDAR