BEGIN:VCALENDAR
VERSION:2.0
PRODID:-//The Environmental Center - ECPv6.15.20//NONSGML v1.0//EN
CALSCALE:GREGORIAN
METHOD:PUBLISH
X-WR-CALNAME:The Environmental Center
X-ORIGINAL-URL:https://envirocenter.org
X-WR-CALDESC:Events for The Environmental Center
REFRESH-INTERVAL;VALUE=DURATION:PT1H
X-Robots-Tag:noindex
X-PUBLISHED-TTL:PT1H
BEGIN:VTIMEZONE
TZID:America/Los_Angeles
BEGIN:DAYLIGHT
TZOFFSETFROM:-0800
TZOFFSETTO:-0700
TZNAME:PDT
DTSTART:20130310T100000
END:DAYLIGHT
BEGIN:STANDARD
TZOFFSETFROM:-0700
TZOFFSETTO:-0800
TZNAME:PST
DTSTART:20131103T090000
END:STANDARD
BEGIN:DAYLIGHT
TZOFFSETFROM:-0800
TZOFFSETTO:-0700
TZNAME:PDT
DTSTART:20140309T100000
END:DAYLIGHT
BEGIN:STANDARD
TZOFFSETFROM:-0700
TZOFFSETTO:-0800
TZNAME:PST
DTSTART:20141102T090000
END:STANDARD
BEGIN:DAYLIGHT
TZOFFSETFROM:-0800
TZOFFSETTO:-0700
TZNAME:PDT
DTSTART:20150308T100000
END:DAYLIGHT
BEGIN:STANDARD
TZOFFSETFROM:-0700
TZOFFSETTO:-0800
TZNAME:PST
DTSTART:20151101T090000
END:STANDARD
END:VTIMEZONE
BEGIN:VEVENT
DTSTART;VALUE=DATE:20140322
DTEND;VALUE=DATE:20140323
DTSTAMP:20260422T213246
CREATED:20140307T022532Z
LAST-MODIFIED:20230503T195959Z
UID:10000001-1395478800-1395504000@envirocenter.org
SUMMARY:Geology Hike - Smith Rock State Park
DESCRIPTION:Join the Deschutes Land Trust and Derek Loeb for a geology hike along the Summit Loop Trail at Smith Rock State Park. This gorgeous 7-mile hike follows the Burma Road up to a ridge overlooking famed peaks like Monkey Face. On the descent\, the trail crosses a private property protected by the Land Trust for its mule deer and Crooked River habitat. Along the way\, learn about how Smith Rock’s unique geology was shaped by volcanoes and water. \nRegistration is required and opens 1 month prior to the event. Please register here.  \nRating: Difficult\, ~7 mile hike. \nWhat to Bring: Snacks/Lunch\, water\, sturdy hiking shoes. Dress for the weather.
URL:https://envirocenter.org/event/geology-hike-smith-rock-state-park/
LOCATION:Deschutes Brewery Public House\, 1044 NW Bond St\, Bend\, OR\, 97701\, United States
GEO:44.0593984;-121.3113079
X-APPLE-STRUCTURED-LOCATION;VALUE=URI;X-ADDRESS=Deschutes Brewery Public House 1044 NW Bond St Bend OR 97701 United States;X-APPLE-RADIUS=500;X-TITLE=1044 NW Bond St:geo:-121.3113079,44.0593984
END:VEVENT
BEGIN:VEVENT
DTSTART;VALUE=DATE:20140322
DTEND;VALUE=DATE:20140323
DTSTAMP:20260422T213246
CREATED:20140306T081819Z
LAST-MODIFIED:20230503T195956Z
UID:10002128-1395482400-1395489600@envirocenter.org
SUMMARY:Growing Vegetables Class\, Introductory Level
DESCRIPTION:An introductory class on growing vegetables including climate\, site selection\, soil preparation\, season extension and crop selection. A two hour class for the community. \nA two hour class for the community. For a full class schedule go here and here to sign up. \nCall 541-548-6088 for more information
URL:https://envirocenter.org/event/growing-vegetables-class-introductory-level-3/
LOCATION:Deschutes Brewery Public House\, 1044 NW Bond St\, Bend\, OR\, 97701\, United States
GEO:44.0593984;-121.3113079
X-APPLE-STRUCTURED-LOCATION;VALUE=URI;X-ADDRESS=Deschutes Brewery Public House 1044 NW Bond St Bend OR 97701 United States;X-APPLE-RADIUS=500;X-TITLE=1044 NW Bond St:geo:-121.3113079,44.0593984
END:VEVENT
BEGIN:VEVENT
DTSTART;VALUE=DATE:20140325
DTEND;VALUE=DATE:20140326
DTSTAMP:20260422T213246
CREATED:20140326T035258Z
LAST-MODIFIED:20230503T200005Z
UID:10000016-1395754200-1395761400@envirocenter.org
SUMMARY:Growing Carbon
DESCRIPTION:Join former Central Oregonian and natural resource advocate\, Jeff Goebel\, to hear about his experience internationally and at home on how planting trees and plants in the quickest way out of the global dilemma. \nVisit www.aboutlistening.com for more information about Jeff and his work abroad.
URL:https://envirocenter.org/event/growing-carbon/
LOCATION:Deschutes Brewery Public House\, 1044 NW Bond St\, Bend\, OR\, 97701\, United States
GEO:44.0593984;-121.3113079
X-APPLE-STRUCTURED-LOCATION;VALUE=URI;X-ADDRESS=Deschutes Brewery Public House 1044 NW Bond St Bend OR 97701 United States;X-APPLE-RADIUS=500;X-TITLE=1044 NW Bond St:geo:-121.3113079,44.0593984
END:VEVENT
BEGIN:VEVENT
DTSTART;VALUE=DATE:20140326
DTEND;VALUE=DATE:20140327
DTSTAMP:20260422T213246
CREATED:20140307T023203Z
LAST-MODIFIED:20230503T200000Z
UID:10000003-1395833400-1395838800@envirocenter.org
SUMMARY:Bend Area Habitat for Humanity Home Dedication
DESCRIPTION:Join Bend Area Habitat for Humanity for the Nickelson Family home dedication\, tour and lunch. \nLocation: \n2848 NE Spring Water Place \nBend\, OR 97701
URL:https://envirocenter.org/event/bend-area-habitat-for-humanity-home-dedication/
LOCATION:Deschutes Brewery Public House\, 1044 NW Bond St\, Bend\, OR\, 97701\, United States
GEO:44.0593984;-121.3113079
X-APPLE-STRUCTURED-LOCATION;VALUE=URI;X-ADDRESS=Deschutes Brewery Public House 1044 NW Bond St Bend OR 97701 United States;X-APPLE-RADIUS=500;X-TITLE=1044 NW Bond St:geo:-121.3113079,44.0593984
END:VEVENT
BEGIN:VEVENT
DTSTART;VALUE=DATE:20140327
DTEND;VALUE=DATE:20140328
DTSTAMP:20260422T213246
CREATED:20140318T071942Z
LAST-MODIFIED:20230503T200004Z
UID:10000011-1395939600-1395946800@envirocenter.org
SUMMARY:March Green Drinks\, hosted by Nature's Natural Foods Marketplace!
DESCRIPTION:We are returning to our standard Green Drinks for the month of March so that you can catch up with friends and meet some new faces. Stay tuned for more special Green Drinks events in 2014! \nOur host for this month’s Green Drinks\, Nature’s Natural Food Marketplace\, has been a treat for the senses since they opened 30 years ago. Walking in the door\, Nature’s customers are welcomed by colorful produce\, friendly staff\, and the aroma of daily soup specials\, freshly roasted coffee\, and naturally scented soaps and candles. \nFun fact about Debbie and Nature’s: she organized Bend’s first Earth Day Fair\, in the Wagner Mall parking lot in front of her store. She wanted to bring together local people committed to environmental protection and personal health through natural foods.  That’s the heart of Nature’s—pioneering the way for natural foods in Bend since 1986. \nGreen Drinks is a fun community event. You can learn about local green businesses and their sustainability efforts and share a drink or two with like-minded community members. \n* Enjoy a truly Green Drink by bring your own cup to help keep this event Zero Waste and consider alternatives to driving alone such as carpooling\, walking\, biking and transit. \n 
URL:https://envirocenter.org/event/march-green-drinks-hosted-by-natures-natural-foods-marketplace/
LOCATION:Deschutes Brewery Public House\, 1044 NW Bond St\, Bend\, OR\, 97701\, United States
GEO:44.0593984;-121.3113079
X-APPLE-STRUCTURED-LOCATION;VALUE=URI;X-ADDRESS=Deschutes Brewery Public House 1044 NW Bond St Bend OR 97701 United States;X-APPLE-RADIUS=500;X-TITLE=1044 NW Bond St:geo:-121.3113079,44.0593984
END:VEVENT
END:VCALENDAR