BEGIN:VCALENDAR
VERSION:2.0
PRODID:-//The Environmental Center - ECPv6.15.20//NONSGML v1.0//EN
CALSCALE:GREGORIAN
METHOD:PUBLISH
X-WR-CALNAME:The Environmental Center
X-ORIGINAL-URL:https://envirocenter.org
X-WR-CALDESC:Events for The Environmental Center
REFRESH-INTERVAL;VALUE=DURATION:PT1H
X-Robots-Tag:noindex
X-PUBLISHED-TTL:PT1H
BEGIN:VTIMEZONE
TZID:America/Los_Angeles
BEGIN:DAYLIGHT
TZOFFSETFROM:-0800
TZOFFSETTO:-0700
TZNAME:PDT
DTSTART:20130310T100000
END:DAYLIGHT
BEGIN:STANDARD
TZOFFSETFROM:-0700
TZOFFSETTO:-0800
TZNAME:PST
DTSTART:20131103T090000
END:STANDARD
BEGIN:DAYLIGHT
TZOFFSETFROM:-0800
TZOFFSETTO:-0700
TZNAME:PDT
DTSTART:20140309T100000
END:DAYLIGHT
BEGIN:STANDARD
TZOFFSETFROM:-0700
TZOFFSETTO:-0800
TZNAME:PST
DTSTART:20141102T090000
END:STANDARD
BEGIN:DAYLIGHT
TZOFFSETFROM:-0800
TZOFFSETTO:-0700
TZNAME:PDT
DTSTART:20150308T100000
END:DAYLIGHT
BEGIN:STANDARD
TZOFFSETFROM:-0700
TZOFFSETTO:-0800
TZNAME:PST
DTSTART:20151101T090000
END:STANDARD
END:VTIMEZONE
BEGIN:VEVENT
DTSTART;VALUE=DATE:20141022
DTEND;VALUE=DATE:20141023
DTSTAMP:20260425T042803
CREATED:20160910T022240Z
LAST-MODIFIED:20230503T200453Z
UID:10002312-1413999000-1414006200@envirocenter.org
SUMMARY:Deschutes Land Trust Open House
DESCRIPTION:The Deschutes Land Trust Annual Open House is Thursday\, October 27! Join them from 5:00-7:00pm at Five Pine Lodge in Sisters to celebrate conservation successes\, honor outstanding volunteers\, and mingle with Land Trust staff and friends. \nDrinks and light appetizers will be provided with remarks to begin at 6pm. Please RSVP.
URL:https://envirocenter.org/event/deschutes-land-trust-open-house-2/
LOCATION:Deschutes Brewery Public House\, 1044 NW Bond St\, Bend\, OR\, 97701\, United States
GEO:44.0593984;-121.3113079
X-APPLE-STRUCTURED-LOCATION;VALUE=URI;X-ADDRESS=Deschutes Brewery Public House 1044 NW Bond St Bend OR 97701 United States;X-APPLE-RADIUS=500;X-TITLE=1044 NW Bond St:geo:-121.3113079,44.0593984
END:VEVENT
BEGIN:VEVENT
DTSTART;VALUE=DATE:20141022
DTEND;VALUE=DATE:20141023
DTSTAMP:20260425T042803
CREATED:20150115T081826Z
LAST-MODIFIED:20230503T200151Z
UID:10000180-1414004400-1414011600@envirocenter.org
SUMMARY:Water & Volcanoes in Central Oregon
DESCRIPTION:What do volcanoes have to do with your water supply? The volcanic landscapes of Central Oregon have shaped the hydrology of this area in surprising ways\, giving us one of the most unique groundwater systems in the western United States. Spring fed rivers and streams in central Oregon are directly connected to groundwater systems\, which provide steady flows and cool water temperatures. How have volcanoes created this special connection between groundwater and surface water? What does this connection tell us about water use in Central Oregon and the impacts of withdrawing groundwater for development? \nDaniele McKay studies volcanoes and teaches geology courses at Oregon State University-Cascades. She graduated with a PhD in geology from the University of Oregon in 2012\, where she studied recent volcanic eruptions in the Cascades. Much of this research involved mapping ash deposits produced by cinder cones in Central Oregon and comparing them to similar eruptions in Iceland\, Mexico\, and other parts of the world. \nRegister soon as this will fill up fast! \nJoin us for refreshments when the doors open at 3:30 p.m.; the presentation starts at 4:00 p.m.  FANs members are admitted free; non-members pay $1 at the door. \nWater & Volcanoes in Central Oregon\nSaturday\, January 24th 3:30 – 5:00pm \nJuniper Room\, Crooked River Ranch Club House \nPlease Register by clicking here.
URL:https://envirocenter.org/event/water-volcanoes-central-oregon-2/
LOCATION:Deschutes Brewery Public House\, 1044 NW Bond St\, Bend\, OR\, 97701\, United States
GEO:44.0593984;-121.3113079
X-APPLE-STRUCTURED-LOCATION;VALUE=URI;X-ADDRESS=Deschutes Brewery Public House 1044 NW Bond St Bend OR 97701 United States;X-APPLE-RADIUS=500;X-TITLE=1044 NW Bond St:geo:-121.3113079,44.0593984
END:VEVENT
BEGIN:VEVENT
DTSTART;VALUE=DATE:20141023
DTEND;VALUE=DATE:20141026
DTSTAMP:20260425T042803
CREATED:20140920T023805Z
LAST-MODIFIED:20230503T200128Z
UID:10002316-1414022400-1414281599@envirocenter.org
SUMMARY:Educating for a Sustainable Future Workshop
DESCRIPTION:With support from the Gray Family Foundation\, The Environmental Center is excited to offer a professional development workshop designed to increase K-12 educators’ understanding of sustainability and their capacity to integrate it into their curriculum using experiential and outdoor education techniques. \n\nSpend three days at a retreat style workshop at Skyliner Lodge\, west of Bend Take home Project Learning Tree\, Aquatic WILD and Project WILD Terrestrial curriculum\nReflect on practice\, collaborate with fellow educators and develop lessons to use in your classroom and in outdoor learning environments\nAccess coaching for sustainability projects or field-based learning experiences during the 2014-2015 school year\nApply sustainability education and environmental literacy to enhance and support state required curriculum\, standards and assessment\n\nDetails: \n\nOpen to K-12 Educators\nSub reimbursement available 10/23 and 10/24\nFree (additional fee for PSU Credit)\nRegister by application before 10/10/14\nContact: Kirin Stryker by email or call 541/385.6908 x16\n\nFor more information about this program\, go here.
URL:https://envirocenter.org/event/educating-sustainable-future-workshop/
LOCATION:Deschutes Brewery Public House\, 1044 NW Bond St\, Bend\, OR\, 97701\, United States
GEO:44.0593984;-121.3113079
X-APPLE-STRUCTURED-LOCATION;VALUE=URI;X-ADDRESS=Deschutes Brewery Public House 1044 NW Bond St Bend OR 97701 United States;X-APPLE-RADIUS=500;X-TITLE=1044 NW Bond St:geo:-121.3113079,44.0593984
END:VEVENT
BEGIN:VEVENT
DTSTART;VALUE=DATE:20141023
DTEND;VALUE=DATE:20141024
DTSTAMP:20260425T042803
CREATED:20170513T011219Z
LAST-MODIFIED:20230503T200556Z
UID:10000158-1414054800-1414080000@envirocenter.org
SUMMARY:Summit Loop Hike\, Smith Rock State Park
DESCRIPTION:Join the Deschutes Land Trust and Eva Eagle for a hike along the Summit Loop Trail at Smith Rock State Park. This gorgeous loop follows the Burma Road up to a ridge overlooking famed crags like Monkey Face. On the descent\, the Summit Loop trail crosses a private property protected by the Land Trust before joining the Park’s river trail. Enjoy the spring wildflowers and take in the sweeping views of the Cascade crest. Registration is required and opens 1 month prior to the event. Please register online at www.deschuteslandtrust.org/hikes \nRating: This is a challenging\, 7-mile hike.\nWhat to bring: Snacks/Lunch\, water\, sturdy hiking shoes. Dress for the weather.
URL:https://envirocenter.org/event/summit-loop-hike-smith-rock-state-park-3/
LOCATION:Deschutes Brewery Public House\, 1044 NW Bond St\, Bend\, OR\, 97701\, United States
GEO:44.0593984;-121.3113079
X-APPLE-STRUCTURED-LOCATION;VALUE=URI;X-ADDRESS=Deschutes Brewery Public House 1044 NW Bond St Bend OR 97701 United States;X-APPLE-RADIUS=500;X-TITLE=1044 NW Bond St:geo:-121.3113079,44.0593984
END:VEVENT
BEGIN:VEVENT
DTSTART;VALUE=DATE:20141023
DTEND;VALUE=DATE:20141024
DTSTAMP:20260425T042803
CREATED:20140827T030632Z
LAST-MODIFIED:20230503T200115Z
UID:10000159-1414058400-1414063800@envirocenter.org
SUMMARY:Indian Ford Meadow Preserve Wander
DESCRIPTION:Explore your Land Trust Preserves in a whole new way: the Wander! Join Kelly Madden for a short stroll to learn about one of our flagship Preserves\, Indian Ford Meadow. Enjoy some of the best mountain views in Central Oregon with some of the most beautiful fall colors. Take in the vibrant yellow aspen leaves and red willow twigs as you explore the Preserve’s pine forest and sage meadow. Registration opens 1 month prior to the event. \nRegistration is required \n– See more here
URL:https://envirocenter.org/event/indian-ford-meadow-preserve-wander/
LOCATION:Deschutes Brewery Public House\, 1044 NW Bond St\, Bend\, OR\, 97701\, United States
GEO:44.0593984;-121.3113079
X-APPLE-STRUCTURED-LOCATION;VALUE=URI;X-ADDRESS=Deschutes Brewery Public House 1044 NW Bond St Bend OR 97701 United States;X-APPLE-RADIUS=500;X-TITLE=1044 NW Bond St:geo:-121.3113079,44.0593984
END:VEVENT
BEGIN:VEVENT
DTSTART;TZID=America/Los_Angeles:20141024T090000
DTEND;TZID=America/Los_Angeles:20141024T140000
DTSTAMP:20260425T042803
CREATED:20140826T201150Z
LAST-MODIFIED:20140826T201150Z
UID:10000160-1414141200-1414159200@envirocenter.org
SUMMARY:Geology Hike\, Alder Springs
DESCRIPTION:Join the Deschutes Land Trust and Derek Loeb for hike to Alder Springs with a focus on geology. We’ll hike down to bubbling Alder Springs and check out examples of volcanic and sedimentary rocks that tell the story of the early Cascade mountains. Learn how these ancient rocks formed the underground aquifers that much of Central Oregon depends on for water. Registration opens 1 month prior to the event. \nRegistration is required \n– See more here
URL:https://envirocenter.org/event/geology-hike-alder-springs-3/
LOCATION:Alder Springs\, OR\, United States
ORGANIZER;CN="Deschutes Land Trust":MAILTO:event@deschuteslandtrust.org
END:VEVENT
BEGIN:VEVENT
DTSTART;VALUE=DATE:20141024
DTEND;VALUE=DATE:20141025
DTSTAMP:20260425T042803
CREATED:20141014T031621Z
LAST-MODIFIED:20230503T200135Z
UID:10000200-1414177200-1414184400@envirocenter.org
SUMMARY:High Desert Geology Talk
DESCRIPTION:Join ONDA and geologist Daniele McKay for a Geology of the High Desert presentation. Daniele is a vulcanolgist and a PhD in geology who teaches at OSU-Cascades. Don’t miss this opportunity to learn more about the geological phenomena that formed some of Oregon’s most stunning landscapes.
URL:https://envirocenter.org/event/high-desert-geology-talk/
LOCATION:Deschutes Brewery Public House\, 1044 NW Bond St\, Bend\, OR\, 97701\, United States
GEO:44.0593984;-121.3113079
X-APPLE-STRUCTURED-LOCATION;VALUE=URI;X-ADDRESS=Deschutes Brewery Public House 1044 NW Bond St Bend OR 97701 United States;X-APPLE-RADIUS=500;X-TITLE=1044 NW Bond St:geo:-121.3113079,44.0593984
END:VEVENT
BEGIN:VEVENT
DTSTART;VALUE=DATE:20141025
DTEND;VALUE=DATE:20141026
DTSTAMP:20260425T042803
CREATED:20140820T003812Z
LAST-MODIFIED:20230503T200109Z
UID:10000146-1414222200-1414252800@envirocenter.org
SUMMARY:Central Oregon Food Summit
DESCRIPTION:October 25\, Bend: This one-day event will offer opportunities for the public\, food professionals\, CSA members\, community organizers\, farmers and politicians to come together to celebrate our progress and define our future for healthy\, local food in Central Oregon.  This conference will provide attendees with opportunity to learn about regional farm and food issues\, healthy food access\, infrastructure and methods to mobilize communities in order to increase access to farm-fresh\, locally grown food. \nLearn more and Register at our website!
URL:https://envirocenter.org/event/central-oregon-food-summit/
LOCATION:Deschutes Brewery Public House\, 1044 NW Bond St\, Bend\, OR\, 97701\, United States
GEO:44.0593984;-121.3113079
X-APPLE-STRUCTURED-LOCATION;VALUE=URI;X-ADDRESS=Deschutes Brewery Public House 1044 NW Bond St Bend OR 97701 United States;X-APPLE-RADIUS=500;X-TITLE=1044 NW Bond St:geo:-121.3113079,44.0593984
END:VEVENT
BEGIN:VEVENT
DTSTART;VALUE=DATE:20141025
DTEND;VALUE=DATE:20141026
DTSTAMP:20260425T042803
CREATED:20140827T031540Z
LAST-MODIFIED:20230503T200115Z
UID:10002288-1414251000-1414261800@envirocenter.org
SUMMARY:Fall Colors Hike\, Rimrock Ranch
DESCRIPTION:Join the Land Trust and Mary Crow to explore this spectacular private ranch perched above Whychus Creek near Sisters. See unique rock formations\, walk along the banks of the willow and cottonwood lined creek\, and learn about the ranch’s ecology and conservation while you revel in the fall colors. Registration opens 1 month prior to the event. \nRegistration is required \n– See more here
URL:https://envirocenter.org/event/fall-colors-hike-rimrock-ranch/
LOCATION:Deschutes Brewery Public House\, 1044 NW Bond St\, Bend\, OR\, 97701\, United States
GEO:44.0593984;-121.3113079
X-APPLE-STRUCTURED-LOCATION;VALUE=URI;X-ADDRESS=Deschutes Brewery Public House 1044 NW Bond St Bend OR 97701 United States;X-APPLE-RADIUS=500;X-TITLE=1044 NW Bond St:geo:-121.3113079,44.0593984
END:VEVENT
BEGIN:VEVENT
DTSTART;VALUE=DATE:20141028
DTEND;VALUE=DATE:20141029
DTSTAMP:20260425T042803
CREATED:20141007T040855Z
LAST-MODIFIED:20230503T200133Z
UID:10002327-1414486800-1414517400@envirocenter.org
SUMMARY:Strategic Storytelling Workshop
DESCRIPTION:Strategic Storytelling Workshop: The Secret to Stories that Inspire Action\nDesigned for Nonprofit and Business Leaders and Outreach Specialists alike\, this workshop will help you harness the power of storytelling and strategy to inform\, persuade\, inspire\, and engage audiences. In this one-day workshop\, you’ll create a “GAME Plan” for identifying\, capturing\, and sharing powerful stories that inspire deep connections among donors\, volunteers\, and others. \nYou’ll walk away with stories and tools you can use immediately to help you meet your organizational goals. \nThis workshop is brought to you by The Environmental Center and Lightbox Collaborative\, and will be taught by Renee Alexander and Ryan Schwartz (click on their names for bios). A description of the workshop topics and bios of the teachers can also be found here. \nStrategic Storytelling Workshop Rates: \nNonprofit/Student Individual: $110\nNonprofit Team (of 2 or more): $90/person\nFor-Profit Individual: $150\nFor-Profit Team (of 2 or more): $130/person \nRegister by emailing Sara this information:\n \n\nYour First and Last Name\nYour Organization/Business Name\nYour Email Address\nYour Phone Number\n\n  \nIf you have any questions\, please contact Sara at 541-385-6908 x18. \n 
URL:https://envirocenter.org/event/strategic-storytelling-workshop/
LOCATION:Deschutes Brewery Public House\, 1044 NW Bond St\, Bend\, OR\, 97701\, United States
GEO:44.0593984;-121.3113079
X-APPLE-STRUCTURED-LOCATION;VALUE=URI;X-ADDRESS=Deschutes Brewery Public House 1044 NW Bond St Bend OR 97701 United States;X-APPLE-RADIUS=500;X-TITLE=1044 NW Bond St:geo:-121.3113079,44.0593984
END:VEVENT
BEGIN:VEVENT
DTSTART;VALUE=DATE:20141028
DTEND;VALUE=DATE:20141029
DTSTAMP:20260425T042803
CREATED:20141028T042955Z
LAST-MODIFIED:20230503T200138Z
UID:10002337-1414515600-1414522800@envirocenter.org
SUMMARY:Drink More Give More for Commute Options
DESCRIPTION:Join us for a night of great brews and food for a good cause. \nOn the evening of Tuesday October 28th from 5-9 PM\, all proceeds from retail\, food and beverage sales will be donated to Commute Options. This includes to go items if people don’t want to wait\, but would like to participate. \n10 Barrel is also selling the “Drink More Give More” charity shirts during the month of October and will donate all the proceeds to Commute Options. \nCome enjoy the evening with us!
URL:https://envirocenter.org/event/drink-give-commute-options/
LOCATION:Deschutes Brewery Public House\, 1044 NW Bond St\, Bend\, OR\, 97701\, United States
GEO:44.0593984;-121.3113079
X-APPLE-STRUCTURED-LOCATION;VALUE=URI;X-ADDRESS=Deschutes Brewery Public House 1044 NW Bond St Bend OR 97701 United States;X-APPLE-RADIUS=500;X-TITLE=1044 NW Bond St:geo:-121.3113079,44.0593984
END:VEVENT
END:VCALENDAR