BEGIN:VCALENDAR
VERSION:2.0
PRODID:-//The Environmental Center - ECPv6.15.20//NONSGML v1.0//EN
CALSCALE:GREGORIAN
METHOD:PUBLISH
X-WR-CALNAME:The Environmental Center
X-ORIGINAL-URL:https://envirocenter.org
X-WR-CALDESC:Events for The Environmental Center
REFRESH-INTERVAL;VALUE=DURATION:PT1H
X-Robots-Tag:noindex
X-PUBLISHED-TTL:PT1H
BEGIN:VTIMEZONE
TZID:America/Los_Angeles
BEGIN:DAYLIGHT
TZOFFSETFROM:-0800
TZOFFSETTO:-0700
TZNAME:PDT
DTSTART:20130310T100000
END:DAYLIGHT
BEGIN:STANDARD
TZOFFSETFROM:-0700
TZOFFSETTO:-0800
TZNAME:PST
DTSTART:20131103T090000
END:STANDARD
BEGIN:DAYLIGHT
TZOFFSETFROM:-0800
TZOFFSETTO:-0700
TZNAME:PDT
DTSTART:20140309T100000
END:DAYLIGHT
BEGIN:STANDARD
TZOFFSETFROM:-0700
TZOFFSETTO:-0800
TZNAME:PST
DTSTART:20141102T090000
END:STANDARD
BEGIN:DAYLIGHT
TZOFFSETFROM:-0800
TZOFFSETTO:-0700
TZNAME:PDT
DTSTART:20150308T100000
END:DAYLIGHT
BEGIN:STANDARD
TZOFFSETFROM:-0700
TZOFFSETTO:-0800
TZNAME:PST
DTSTART:20151101T090000
END:STANDARD
END:VTIMEZONE
BEGIN:VEVENT
DTSTART;VALUE=DATE:20141008
DTEND;VALUE=DATE:20141009
DTSTAMP:20260422T053807
CREATED:20140927T035322Z
LAST-MODIFIED:20230503T200129Z
UID:10000186-1412793000-1412800200@envirocenter.org
SUMMARY:UGB 101
DESCRIPTION:Ever wondered\, “What’s a UGB?” \nWe have the educational event for you! Central Oregon LandWatch and The Environmental Center are hosting a UGB 101 discussion-based seminar to bring you up to speed on this critically important planning process for our City. \nFormer City Planning Commissioner\, Nathan Hovekamp\, will give an overview of the UGB planning process and facilitate discussion. Representatives from the UGB Technical Advisory Committees (TACs) will be present to update participants on where we are in the planning process. \nThere will be an opportunity to review displays and participate in open discussions before and after the presentation. \n6:30-8:30pm \nPresentation begins at 7pm. \nPLEASE RSVP for this event here! \n \n 
URL:https://envirocenter.org/event/ugb-101/
LOCATION:Deschutes Brewery Public House\, 1044 NW Bond St\, Bend\, OR\, 97701\, United States
GEO:44.0593984;-121.3113079
X-APPLE-STRUCTURED-LOCATION;VALUE=URI;X-ADDRESS=Deschutes Brewery Public House 1044 NW Bond St Bend OR 97701 United States;X-APPLE-RADIUS=500;X-TITLE=1044 NW Bond St:geo:-121.3113079,44.0593984
END:VEVENT
BEGIN:VEVENT
DTSTART;VALUE=DATE:20141009
DTEND;VALUE=DATE:20141010
DTSTAMP:20260422T053807
CREATED:20140930T053619Z
LAST-MODIFIED:20230503T200130Z
UID:10000190-1412847000-1412866800@envirocenter.org
SUMMARY:Hawk Watch!
DESCRIPTION:Join the East Cascades Audubon Society for their annual Hawk Migration event at Green Ridge\, outside of Sisters. Please RSVP for carpooling! Other dates for upcoming Hawk Watch events: \nOctober 2nd\, 4th-5th\nOctober 9th\, 11th-12th\nOctober 17th\, 18th-19th \nFor more information about this event\, visit the East Cascades Audubon Society’s webpage.
URL:https://envirocenter.org/event/hawk-watch-2/
LOCATION:Deschutes Brewery Public House\, 1044 NW Bond St\, Bend\, OR\, 97701\, United States
GEO:44.0593984;-121.3113079
X-APPLE-STRUCTURED-LOCATION;VALUE=URI;X-ADDRESS=Deschutes Brewery Public House 1044 NW Bond St Bend OR 97701 United States;X-APPLE-RADIUS=500;X-TITLE=1044 NW Bond St:geo:-121.3113079,44.0593984
END:VEVENT
BEGIN:VEVENT
DTSTART;VALUE=DATE:20141009
DTEND;VALUE=DATE:20141010
DTSTAMP:20260422T053807
CREATED:20141002T002557Z
LAST-MODIFIED:20230503T200130Z
UID:10002322-1412856000-1412859600@envirocenter.org
SUMMARY:KPOV Election Coverage
DESCRIPTION:The League of Women Voters of Deschutes County continues their free public candidate forums on Wednesday\, October 8th\, at 5:15 p.m. as they host the candidates for Bend City Council Positions #5 and #7 at the County/State Building in Bend. KPOV will also be broadcasting this forum recorded on Thursday\, October 9th at NOON.  \nFor more information\, go here.
URL:https://envirocenter.org/event/kpov-election-coverage/
LOCATION:Deschutes Brewery Public House\, 1044 NW Bond St\, Bend\, OR\, 97701\, United States
GEO:44.0593984;-121.3113079
X-APPLE-STRUCTURED-LOCATION;VALUE=URI;X-ADDRESS=Deschutes Brewery Public House 1044 NW Bond St Bend OR 97701 United States;X-APPLE-RADIUS=500;X-TITLE=1044 NW Bond St:geo:-121.3113079,44.0593984
END:VEVENT
END:VCALENDAR