BEGIN:VCALENDAR
VERSION:2.0
PRODID:-//The Environmental Center - ECPv6.15.20//NONSGML v1.0//EN
CALSCALE:GREGORIAN
METHOD:PUBLISH
X-WR-CALNAME:The Environmental Center
X-ORIGINAL-URL:https://envirocenter.org
X-WR-CALDESC:Events for The Environmental Center
REFRESH-INTERVAL;VALUE=DURATION:PT1H
X-Robots-Tag:noindex
X-PUBLISHED-TTL:PT1H
BEGIN:VTIMEZONE
TZID:America/Los_Angeles
BEGIN:DAYLIGHT
TZOFFSETFROM:-0800
TZOFFSETTO:-0700
TZNAME:PDT
DTSTART:20130310T100000
END:DAYLIGHT
BEGIN:STANDARD
TZOFFSETFROM:-0700
TZOFFSETTO:-0800
TZNAME:PST
DTSTART:20131103T090000
END:STANDARD
BEGIN:DAYLIGHT
TZOFFSETFROM:-0800
TZOFFSETTO:-0700
TZNAME:PDT
DTSTART:20140309T100000
END:DAYLIGHT
BEGIN:STANDARD
TZOFFSETFROM:-0700
TZOFFSETTO:-0800
TZNAME:PST
DTSTART:20141102T090000
END:STANDARD
BEGIN:DAYLIGHT
TZOFFSETFROM:-0800
TZOFFSETTO:-0700
TZNAME:PDT
DTSTART:20150308T100000
END:DAYLIGHT
BEGIN:STANDARD
TZOFFSETFROM:-0700
TZOFFSETTO:-0800
TZNAME:PST
DTSTART:20151101T090000
END:STANDARD
END:VTIMEZONE
BEGIN:VEVENT
DTSTART;VALUE=DATE:20140311
DTEND;VALUE=DATE:20140312
DTSTAMP:20260423T025911
CREATED:20140606T064353Z
LAST-MODIFIED:20230503T200038Z
UID:10000006-1394523000-1394528400@envirocenter.org
SUMMARY:Birding By Ear
DESCRIPTION:The East Cascades Audubon Society will be kicking off another season of Birding By Ear guided birdwalks in March. Dave Tracy will be leading walks each Tuesday thru mid-June and we look forward to seeing what migrants will be showing up over the course of the upcoming spring season. \nWe’ll meet at Sawyer Park along the Deschutes River starting at 8:00am. \nAttendance is FREE and ALL AGES and skill levels are welcome to attend. Bring your binoculars and be prepared for chilly weather\, so dress warm with gloves and appropriate footwear. Typical time and distances will vary\, but generally the walk will from 1.5-3 miles long over the course of a 1.5-2 hour walk. \nOur objective will be for all to have an enjoyable time and get to know our local birds better\, by sight as well as by ear. We will focus early on getting to know the relatively small number of resident and wintering birds and then share the excitement as we note the arrival of neotropical migrant wrens\, vireos\, swallows\, swifts and others. The morning chorus will fill the air with song over the next few months\, and knowing the bird vocalizations adds another level of enjoyment and strengthens our connection to nature as we soak in this wonderful seasonal phenomenon. \nContact Dave Tracy for more information. Tel (541) 390-9931. \nVisit the East Cascades Audubon Society’s website for more information.
URL:https://envirocenter.org/event/birding-ear/
LOCATION:Deschutes Brewery Public House\, 1044 NW Bond St\, Bend\, OR\, 97701\, United States
GEO:44.0593984;-121.3113079
X-APPLE-STRUCTURED-LOCATION;VALUE=URI;X-ADDRESS=Deschutes Brewery Public House 1044 NW Bond St Bend OR 97701 United States;X-APPLE-RADIUS=500;X-TITLE=1044 NW Bond St:geo:-121.3113079,44.0593984
END:VEVENT
BEGIN:VEVENT
DTSTART;VALUE=DATE:20140311
DTEND;VALUE=DATE:20140312
DTSTAMP:20260423T025911
CREATED:20140307T043033Z
LAST-MODIFIED:20230503T200000Z
UID:10000008-1394553600-1394560800@envirocenter.org
SUMMARY:Camp Fire Alumni Open House
DESCRIPTION:Were you in Camp Fire as a kid? Come see what we’re doing at the Central Oregon council! \nDrink tea\, enjoy Camp Fire candies\, tour the office\, check out our historical books and photos\, and share Camp Fire memories. \nRSVP to info@campfireco.org.
URL:https://envirocenter.org/event/camp-fire-alumni-open-house/
LOCATION:Deschutes Brewery Public House\, 1044 NW Bond St\, Bend\, OR\, 97701\, United States
GEO:44.0593984;-121.3113079
X-APPLE-STRUCTURED-LOCATION;VALUE=URI;X-ADDRESS=Deschutes Brewery Public House 1044 NW Bond St Bend OR 97701 United States;X-APPLE-RADIUS=500;X-TITLE=1044 NW Bond St:geo:-121.3113079,44.0593984
END:VEVENT
BEGIN:VEVENT
DTSTART;VALUE=DATE:20140311
DTEND;VALUE=DATE:20140312
DTSTAMP:20260423T025911
CREATED:20140307T022834Z
LAST-MODIFIED:20230503T195959Z
UID:10000002-1394562600-1394569800@envirocenter.org
SUMMARY:Chasing Ice Film Screening
DESCRIPTION:Join the Juniper Group Sierra Club for a free film screening of Chasing Ice. \nJames Balog and his young team set out on a bold expedition to capture the receding of Iceland’s Solheim Glacier. Employing time-lapse photography over 3 years in harsh subzero Arctic conditions\, we see undeniable evidence that these giants of ice are literally shrinking before our eyes. Winner of over 30 film festival awards\, Chasing Ice delivers photography and adventure at its most spectacular. \n6:30 pm gathering\, 7:00 pm program \nFree and open to the public. \n  \n 
URL:https://envirocenter.org/event/chasing-ice-film-screening/
LOCATION:Deschutes Brewery Public House\, 1044 NW Bond St\, Bend\, OR\, 97701\, United States
GEO:44.0593984;-121.3113079
X-APPLE-STRUCTURED-LOCATION;VALUE=URI;X-ADDRESS=Deschutes Brewery Public House 1044 NW Bond St Bend OR 97701 United States;X-APPLE-RADIUS=500;X-TITLE=1044 NW Bond St:geo:-121.3113079,44.0593984
END:VEVENT
BEGIN:VEVENT
DTSTART;VALUE=DATE:20140311
DTEND;VALUE=DATE:20140312
DTSTAMP:20260423T025911
CREATED:20140306T052149Z
LAST-MODIFIED:20230503T195955Z
UID:10002124-1394562600-1394569800@envirocenter.org
SUMMARY:Growing Vegetables Class\, Advanced Level
DESCRIPTION:This class will go into detail how to grow the most common vegetables for the area\, including tomatoes. \nA two hour class for the community. Go here for details and here to sign up. \nCall 541-548-6088 for more information
URL:https://envirocenter.org/event/growing-vegetables-class-advanced-level/
LOCATION:Deschutes Brewery Public House\, 1044 NW Bond St\, Bend\, OR\, 97701\, United States
GEO:44.0593984;-121.3113079
X-APPLE-STRUCTURED-LOCATION;VALUE=URI;X-ADDRESS=Deschutes Brewery Public House 1044 NW Bond St Bend OR 97701 United States;X-APPLE-RADIUS=500;X-TITLE=1044 NW Bond St:geo:-121.3113079,44.0593984
END:VEVENT
BEGIN:VEVENT
DTSTART;VALUE=DATE:20140312
DTEND;VALUE=DATE:20140313
DTSTAMP:20260423T025911
CREATED:20140307T034143Z
LAST-MODIFIED:20230503T200000Z
UID:10000007-1394582400-1394668799@envirocenter.org
SUMMARY:Wednesday Morning Birders
DESCRIPTION:Join local birders every Wednesday for birding trips in Central Oregon. \nMeet at Nancy P’s at designated time for each day. The group car pools\, sharing expenses for gas\, and taking turns driving. \nCurrent plans for March are: \n• March 12 – Millican Valley – 7 AM\n• March 19 – Fort Rock\, ALL DAY – 7 AM\n• March 26 – Prineville Wastewater Ponds – 8 AM
URL:https://envirocenter.org/event/wednesday-birders-2014-03-12/
LOCATION:Deschutes Brewery Public House\, 1044 NW Bond St\, Bend\, OR\, 97701\, United States
GEO:44.0593984;-121.3113079
X-APPLE-STRUCTURED-LOCATION;VALUE=URI;X-ADDRESS=Deschutes Brewery Public House 1044 NW Bond St Bend OR 97701 United States;X-APPLE-RADIUS=500;X-TITLE=1044 NW Bond St:geo:-121.3113079,44.0593984
END:VEVENT
BEGIN:VEVENT
DTSTART;VALUE=DATE:20140312
DTEND;VALUE=DATE:20140313
DTSTAMP:20260423T025911
CREATED:20140313T013709Z
LAST-MODIFIED:20230503T200001Z
UID:10002143-1394611200-1394643600@envirocenter.org
SUMMARY:2014 Build It! Breakfast
DESCRIPTION:Join us for a FREE fundraising breakfast where you will hear inspiring family stories and learn about how Habitat is changing lives in Bend and Crook County. \nSeating Still Available\,  \nPlease RSVP by Friday\, March 14\nTo attend\, contact Robin Cooper Engle\, rcooper@bendhabitat.org. \nFor more infomation click HERE
URL:https://envirocenter.org/event/2014-build-it-breakfast/
LOCATION:Deschutes Brewery Public House\, 1044 NW Bond St\, Bend\, OR\, 97701\, United States
GEO:44.0593984;-121.3113079
X-APPLE-STRUCTURED-LOCATION;VALUE=URI;X-ADDRESS=Deschutes Brewery Public House 1044 NW Bond St Bend OR 97701 United States;X-APPLE-RADIUS=500;X-TITLE=1044 NW Bond St:geo:-121.3113079,44.0593984
END:VEVENT
BEGIN:VEVENT
DTSTART;VALUE=DATE:20140312
DTEND;VALUE=DATE:20140313
DTSTAMP:20260423T025911
CREATED:20140311T033712Z
LAST-MODIFIED:20230503T200001Z
UID:10002139-1394622000-1394625600@envirocenter.org
SUMMARY:Powering Up for People\, Planet and Peace over Profit
DESCRIPTION:The Global Climate Convergence for People\, Planet\, and Peace over Profit is an education and direct action campaign beginning this spring\, with “10 days to change course\,” running from Earth Day to May Day. It provides coordinated action and collaboration across fronts of struggle and national borders to harness the transformative power we already possess as a thousand separate movements. These grassroots justice movements are sweeping the globe\, rising up against the global assault on our shared economy\, ecology\, peace and democracy. The accelerated climate disaster\, which threatens to unravel civilization as soon as 2050\, intensifies all these struggles and creates new urgency for collaboration and unified action. \nYou are invited to a planning meeting to Power Up our community… \nWe will discuss ways to meet folks from other organizations to share information\, ideas and strategies to increase our visibility and effectiveness as a community. \nCome join us Wednesday brimming with energy\, enthusiasm\, ideas and TIME in these TIMES of CHAOS! \nFor more details call Sue Bastian at 541-389-3677 or email her runsuebike@hotmail.com
URL:https://envirocenter.org/event/powering-up-for-people-planet-and-peace-over-profit/
LOCATION:Deschutes Brewery Public House\, 1044 NW Bond St\, Bend\, OR\, 97701\, United States
GEO:44.0593984;-121.3113079
X-APPLE-STRUCTURED-LOCATION;VALUE=URI;X-ADDRESS=Deschutes Brewery Public House 1044 NW Bond St Bend OR 97701 United States;X-APPLE-RADIUS=500;X-TITLE=1044 NW Bond St:geo:-121.3113079,44.0593984
END:VEVENT
BEGIN:VEVENT
DTSTART;VALUE=DATE:20140313
DTEND;VALUE=DATE:20140314
DTSTAMP:20260423T025911
CREATED:20140307T045627Z
LAST-MODIFIED:20230503T200000Z
UID:10000009-1394694000-1394733600@envirocenter.org
SUMMARY:Camp Fire Day Camp
DESCRIPTION:Spend March 13th & 14th–No School Days–at Westside Village School with Camp Fire! Kids kindergarten through fifth grade will explore theater\, dive into science projects\, make crafts\, learn about nature\, sing songs\, play games\, and get outside. Join us for just one day or both days.
URL:https://envirocenter.org/event/camp-fire-day-camp-2014-03-13/
LOCATION:Deschutes Brewery Public House\, 1044 NW Bond St\, Bend\, OR\, 97701\, United States
GEO:44.0593984;-121.3113079
X-APPLE-STRUCTURED-LOCATION;VALUE=URI;X-ADDRESS=Deschutes Brewery Public House 1044 NW Bond St Bend OR 97701 United States;X-APPLE-RADIUS=500;X-TITLE=1044 NW Bond St:geo:-121.3113079,44.0593984
END:VEVENT
BEGIN:VEVENT
DTSTART;VALUE=DATE:20140314
DTEND;VALUE=DATE:20140315
DTSTAMP:20260423T025911
CREATED:20160312T060216Z
LAST-MODIFIED:20230503T200403Z
UID:10000005-1394791200-1394798400@envirocenter.org
SUMMARY:Old Mill Bird Walk
DESCRIPTION:Old Mill Bird Walks occur every other Friday\, beginning April 1st through May 27th. \nTime: 10:00 AM – 12 noon \nLocation: Meet at The Old Mill Ticket Kiosk. Binoculars are available for check-out. \nWhat: A leisurely walk around the Old Mill  property adjacent  to the Deschutes River. \nWho is invited: Walks are appropriate for all ages and interested parties\, from novices to experienced avian experts.
URL:https://envirocenter.org/event/old-mill-bird-walk-2-2016-04-01/
LOCATION:Deschutes Brewery Public House\, 1044 NW Bond St\, Bend\, OR\, 97701\, United States
GEO:44.0593984;-121.3113079
X-APPLE-STRUCTURED-LOCATION;VALUE=URI;X-ADDRESS=Deschutes Brewery Public House 1044 NW Bond St Bend OR 97701 United States;X-APPLE-RADIUS=500;X-TITLE=1044 NW Bond St:geo:-121.3113079,44.0593984
END:VEVENT
BEGIN:VEVENT
DTSTART;VALUE=DATE:20140314
DTEND;VALUE=DATE:20140315
DTSTAMP:20260423T025911
CREATED:20140312T040920Z
LAST-MODIFIED:20230503T200001Z
UID:10002141-1394823600-1394830800@envirocenter.org
SUMMARY:FARMER & RANCHER LISTENING SESSION
DESCRIPTION:Listening Sessions are an excellent venue for farmers and ranchers to come together to talk about the beauty of and the barriers to farming successfully in Oregon. It is also a chance to brainstorm solutions and help define the future of agricultural policy in Oregon. \nFor more information click Here \nRSVP
URL:https://envirocenter.org/event/farmer-rancher-listening-sessions/
LOCATION:Deschutes Brewery Public House\, 1044 NW Bond St\, Bend\, OR\, 97701\, United States
GEO:44.0593984;-121.3113079
X-APPLE-STRUCTURED-LOCATION;VALUE=URI;X-ADDRESS=Deschutes Brewery Public House 1044 NW Bond St Bend OR 97701 United States;X-APPLE-RADIUS=500;X-TITLE=1044 NW Bond St:geo:-121.3113079,44.0593984
END:VEVENT
BEGIN:VEVENT
DTSTART;VALUE=DATE:20140315
DTEND;VALUE=DATE:20140316
DTSTAMP:20260423T025911
CREATED:20140228T032027Z
LAST-MODIFIED:20230503T195955Z
UID:10002120-1394841600-1394927999@envirocenter.org
SUMMARY:KPOV’s Spring DJ Class
DESCRIPTION:KPOV’s Spring DJ class begins Saturday\, March 15th. The three session class will prepare you for going on air or volunteering at High Desert Community Radio. \nRegistration is through COCC Community Learning. \nFor more information about the DJ classes\, or about becoming a KPOV DJ\, email Jill at KPOV.
URL:https://envirocenter.org/event/kpovs-spring-dj-class/
LOCATION:Deschutes Brewery Public House\, 1044 NW Bond St\, Bend\, OR\, 97701\, United States
GEO:44.0593984;-121.3113079
X-APPLE-STRUCTURED-LOCATION;VALUE=URI;X-ADDRESS=Deschutes Brewery Public House 1044 NW Bond St Bend OR 97701 United States;X-APPLE-RADIUS=500;X-TITLE=1044 NW Bond St:geo:-121.3113079,44.0593984
END:VEVENT
BEGIN:VEVENT
DTSTART;VALUE=DATE:20140316
DTEND;VALUE=DATE:20140317
DTSTAMP:20260423T025911
CREATED:20140307T022249Z
LAST-MODIFIED:20230503T195959Z
UID:10002137-1394964000-1394978400@envirocenter.org
SUMMARY:Whychus Canyon Hike
DESCRIPTION:Join the Deschutes Land Trust and Mary Crow for a late winter hike at Whychus Canyon Preserve. Explore ancient juniper groves and panoramic mountain views as you hike down into a canyon carved by Whychus Creek. Then\, watch for birds and maybe even some early wildflowers as you hike out of this stunning rimrock canyon into the grasslands and beyond. \nRegistration is required and opens 1 month prior to the event. Please register here.  \nRating: Moderate\, ~4 mile hike. \nWhat to Bring: Snacks/Lunch\, water\, sturdy hiking shoes. Dress for the weather.
URL:https://envirocenter.org/event/whychus-canyon-hike/
LOCATION:Deschutes Brewery Public House\, 1044 NW Bond St\, Bend\, OR\, 97701\, United States
GEO:44.0593984;-121.3113079
X-APPLE-STRUCTURED-LOCATION;VALUE=URI;X-ADDRESS=Deschutes Brewery Public House 1044 NW Bond St Bend OR 97701 United States;X-APPLE-RADIUS=500;X-TITLE=1044 NW Bond St:geo:-121.3113079,44.0593984
END:VEVENT
END:VCALENDAR