BEGIN:VCALENDAR
VERSION:2.0
PRODID:-//The Environmental Center - ECPv6.15.20//NONSGML v1.0//EN
CALSCALE:GREGORIAN
METHOD:PUBLISH
X-WR-CALNAME:The Environmental Center
X-ORIGINAL-URL:https://envirocenter.org
X-WR-CALDESC:Events for The Environmental Center
REFRESH-INTERVAL;VALUE=DURATION:PT1H
X-Robots-Tag:noindex
X-PUBLISHED-TTL:PT1H
BEGIN:VTIMEZONE
TZID:America/Los_Angeles
BEGIN:DAYLIGHT
TZOFFSETFROM:-0800
TZOFFSETTO:-0700
TZNAME:PDT
DTSTART:20180311T100000
END:DAYLIGHT
BEGIN:STANDARD
TZOFFSETFROM:-0700
TZOFFSETTO:-0800
TZNAME:PST
DTSTART:20181104T090000
END:STANDARD
BEGIN:DAYLIGHT
TZOFFSETFROM:-0800
TZOFFSETTO:-0700
TZNAME:PDT
DTSTART:20190310T100000
END:DAYLIGHT
BEGIN:STANDARD
TZOFFSETFROM:-0700
TZOFFSETTO:-0800
TZNAME:PST
DTSTART:20191103T090000
END:STANDARD
BEGIN:DAYLIGHT
TZOFFSETFROM:-0800
TZOFFSETTO:-0700
TZNAME:PDT
DTSTART:20200308T100000
END:DAYLIGHT
BEGIN:STANDARD
TZOFFSETFROM:-0700
TZOFFSETTO:-0800
TZNAME:PST
DTSTART:20201101T090000
END:STANDARD
END:VTIMEZONE
BEGIN:VEVENT
DTSTART;VALUE=DATE:20190829
DTEND;VALUE=DATE:20190830
DTSTAMP:20260419T053509
CREATED:20160803T235848Z
LAST-MODIFIED:20230503T200442Z
UID:10000736-1567098900-1567108800@envirocenter.org
SUMMARY:Bend COTA Work Events
DESCRIPTION:When:  Thursday Aug 11\, Tuesday Aug 16\, Tuesday Aug 23 and Tuesday Aug 30\, 5:15 to Dusk \nWhere:  Meet at the old Ray’s parking lot\, NE corner of Simpson Ave and Century Drive in Bend \nWorksite:  Varies \nThere’s only one thing better than mountain biking in Bend\, OR and that’s riding in Bend\, knowing that you helped build and maintain the trails you love. \nPlease bring a hydration pack with water and a snack. \nBe sure to bring appropriate layers to accommodate whatever the weather may be. \nQuestions?  contact@cotamtb.com \nAll COTA trail work events require the following safety measures: \nAll participants are required to have the following protective clothing and equipment: \n\nSturdy shoes or boots\nGloves\nEye protection with clear or light colored lens\nLong pants\n\nDue to COTA’s insurance requirements and the inherent dangers of trail work\, we must implement the following policy regarding children at work events: \n\nFor anyone 14 years of age or younger\, we require one parent\, guardian\, or responsible adult for supervision of every four kids attending any COTA trail work events.\nAll minors under the age of 18 must have a parent or guardian available to sign our waiver.\n\nAnyone who arrives for a work event may be turned away if he/she cannot meet the above requirements.
URL:https://envirocenter.org/event/bend-cota-work-events-2016-08-11/
LOCATION:Deschutes Brewery Public House\, 1044 NW Bond St\, Bend\, OR\, 97701\, United States
GEO:44.0593984;-121.3113079
X-APPLE-STRUCTURED-LOCATION;VALUE=URI;X-ADDRESS=Deschutes Brewery Public House 1044 NW Bond St Bend OR 97701 United States;X-APPLE-RADIUS=500;X-TITLE=1044 NW Bond St:geo:-121.3113079,44.0593984
END:VEVENT
BEGIN:VEVENT
DTSTART;TZID=America/Los_Angeles:20190903T000000
DTEND;TZID=America/Los_Angeles:20190903T000000
DTSTAMP:20260419T053509
CREATED:20230127T091532Z
LAST-MODIFIED:20230504T204825Z
UID:10003979-1567468800-1567468800@envirocenter.org
SUMMARY:CIF Info Session (In Person/Virtual)
DESCRIPTION:Do you have an idea for reducing waste in your neighborhood\, workplace\, school\, your favorite park or restaurant\, or other community space\, but aren’t sure how to get started? Apply for the Rethink Waste Community Innovation Fund! \nThe Environmental Center’s Rethink Waste Project will provide a total of $40\,000* awards to individuals\, businesses\, or community organizations to implement waste reduction or recovery projects throughout Deschutes County. Each project will be awarded up to $5\,000. There is no minimum project budget/award amount. 20% of the project funds must come from matching funds (cash or in-kind). Depending on project budget requirements\, 8 to 12 projects will be funded in 2023. \n*$15\,000 of the $40\,000 total projects budget will be awarded to projects that take place at or largely impact visitor destinations\, such as a visitor lodging property\, restaurant / eatery\, park / trail/ nature area\, outfitter / activity company\, museum / gallery\, entertainment venue. \nAttend an info session in-person at The Environmental Center or Virtually! Info sessions are scheduled February 7th\, May 9th\, and August 8th 2023 from 1-2pm. \nRegister – In Person \nRegister – Virtual
URL:https://envirocenter.org/event/event-cif-info-session-in-person-virtual-2023-02-07/2019-09-03/
LOCATION:The Environmental Center\, 16 NW Kansas Avenue\, Bend\, OR\, 97703
CATEGORIES:Rethink Waste
ATTACH;FMTTYPE=image/jpeg:https://envirocenter.org/wp-content/uploads/2023/01/CIF-Info-Sessions.jpg
ORGANIZER;CN="Rethink Waste Project":MAILTO:naomi@envirocenter.org
GEO:44.055562;-121.3143083
X-APPLE-STRUCTURED-LOCATION;VALUE=URI;X-ADDRESS=The Environmental Center 16 NW Kansas Avenue Bend OR 97703;X-APPLE-RADIUS=500;X-TITLE=16 NW Kansas Avenue:geo:-121.3143083,44.055562
END:VEVENT
BEGIN:VEVENT
DTSTART;TZID=America/Los_Angeles:20190903T110000
DTEND;TZID=America/Los_Angeles:20190903T220000
DTSTAMP:20260419T053509
CREATED:20180728T201701Z
LAST-MODIFIED:20190828T162344Z
UID:10001215-1567508400-1567548000@envirocenter.org
SUMMARY:Community Pints
DESCRIPTION:Raise a glass to sustainability!\nEvery Tuesday in September\, Deschutes Brewery will donate $1 of every pint sold to The Environmental Center. \nWe’ve partnered with Deschutes Brewery for Community Pints during the month of August. Gather at the Bend Public House or Tasting Room for a pint of tasty beer and some good old fashioned community cheer! An easy and fun way to show your support. Thank you!
URL:https://envirocenter.org/event/community-pints-2/2019-09-03/
LOCATION:Deschutes Brewery Public House\, 1044 NW Bond St\, Bend\, OR\, 97701\, United States
CATEGORIES:Food
ATTACH;FMTTYPE=image/png:https://envirocenter.org/wp-content/uploads/2018/07/Sept-2019-Community-Pints-e1567009389621.png
GEO:44.0593984;-121.3113079
X-APPLE-STRUCTURED-LOCATION;VALUE=URI;X-ADDRESS=Deschutes Brewery Public House 1044 NW Bond St Bend OR 97701 United States;X-APPLE-RADIUS=500;X-TITLE=1044 NW Bond St:geo:-121.3113079,44.0593984
END:VEVENT
BEGIN:VEVENT
DTSTART;VALUE=DATE:20190905
DTEND;VALUE=DATE:20190908
DTSTAMP:20260419T053509
CREATED:20190806T055918Z
LAST-MODIFIED:20230503T200913Z
UID:10001366-1567641600-1567900799@envirocenter.org
SUMMARY:Cascadia Adventure Film Festival
DESCRIPTION:The inaugural year of the Cascade Adventure Film Festival\nCelebrate the adventures that push us to our limits\, and help us forge a deeper connection to the natural world.\nEarly bird tickets on sale until August 7th\, 11:59pm \nCAFF will showcase influential films that highlight the adventurous spirit that lives inside each of us — the films that get us stoked. We’re inspired by human-powered exploration\, and the values that keep the wilderness wild. It is through adventure that we discover who we are and what we can achieve. Adventure brings us closer to the natural world in our own backyard\, and wherever we may go. So are you in? \nThe program features 4 shows featuring inspiring adventure films about climbing\, biking\, trail running\, and water. Check out all the films here.
URL:https://envirocenter.org/event/cascadia-adventure-film-festival/
LOCATION:Deschutes Brewery Public House\, 1044 NW Bond St\, Bend\, OR\, 97701\, United States
CATEGORIES:Film
GEO:44.0593984;-121.3113079
X-APPLE-STRUCTURED-LOCATION;VALUE=URI;X-ADDRESS=Deschutes Brewery Public House 1044 NW Bond St Bend OR 97701 United States;X-APPLE-RADIUS=500;X-TITLE=1044 NW Bond St:geo:-121.3113079,44.0593984
END:VEVENT
BEGIN:VEVENT
DTSTART;VALUE=DATE:20190905
DTEND;VALUE=DATE:20190906
DTSTAMP:20260419T053509
CREATED:20160803T235848Z
LAST-MODIFIED:20230503T200442Z
UID:10000737-1567703700-1567713600@envirocenter.org
SUMMARY:Bend COTA Work Events
DESCRIPTION:When:  Thursday Aug 11\, Tuesday Aug 16\, Tuesday Aug 23 and Tuesday Aug 30\, 5:15 to Dusk \nWhere:  Meet at the old Ray’s parking lot\, NE corner of Simpson Ave and Century Drive in Bend \nWorksite:  Varies \nThere’s only one thing better than mountain biking in Bend\, OR and that’s riding in Bend\, knowing that you helped build and maintain the trails you love. \nPlease bring a hydration pack with water and a snack. \nBe sure to bring appropriate layers to accommodate whatever the weather may be. \nQuestions?  contact@cotamtb.com \nAll COTA trail work events require the following safety measures: \nAll participants are required to have the following protective clothing and equipment: \n\nSturdy shoes or boots\nGloves\nEye protection with clear or light colored lens\nLong pants\n\nDue to COTA’s insurance requirements and the inherent dangers of trail work\, we must implement the following policy regarding children at work events: \n\nFor anyone 14 years of age or younger\, we require one parent\, guardian\, or responsible adult for supervision of every four kids attending any COTA trail work events.\nAll minors under the age of 18 must have a parent or guardian available to sign our waiver.\n\nAnyone who arrives for a work event may be turned away if he/she cannot meet the above requirements.
URL:https://envirocenter.org/event/bend-cota-work-events-2016-08-11/
LOCATION:Deschutes Brewery Public House\, 1044 NW Bond St\, Bend\, OR\, 97701\, United States
GEO:44.0593984;-121.3113079
X-APPLE-STRUCTURED-LOCATION;VALUE=URI;X-ADDRESS=Deschutes Brewery Public House 1044 NW Bond St Bend OR 97701 United States;X-APPLE-RADIUS=500;X-TITLE=1044 NW Bond St:geo:-121.3113079,44.0593984
END:VEVENT
BEGIN:VEVENT
DTSTART;VALUE=DATE:20190905
DTEND;VALUE=DATE:20190906
DTSTAMP:20260419T053509
CREATED:20190827T220645Z
LAST-MODIFIED:20230503T200915Z
UID:10001369-1567706400-1567710000@envirocenter.org
SUMMARY:Hatfield Sustainable Resource Lecture
DESCRIPTION:Throughout their lives\, ranchers Doc and Connie Hatfield were committed to developing partnerships and building consensus to further sustainability in the High Desert. Now in its seventh year\, the Hatfield Sustainable Resource Lecture celebrates their work. This year\, Jon Griggs\, manager of the Maggie Creek Ranches near Elko\, Nevada\, will be the featured speaker. Griggs has been widely recognized for his collaborative relationships and sustainable practices in the beef industry. Free event; No-host bar. \n5:45 pm doors\, 6:00 pm lecture. 6:30 pm reception with hors d’oeuvres.
URL:https://envirocenter.org/event/hatfield-sustainable-resource-lecture/
LOCATION:Deschutes Brewery Public House\, 1044 NW Bond St\, Bend\, OR\, 97701\, United States
GEO:44.0593984;-121.3113079
X-APPLE-STRUCTURED-LOCATION;VALUE=URI;X-ADDRESS=Deschutes Brewery Public House 1044 NW Bond St Bend OR 97701 United States;X-APPLE-RADIUS=500;X-TITLE=1044 NW Bond St:geo:-121.3113079,44.0593984
END:VEVENT
BEGIN:VEVENT
DTSTART;TZID=America/Los_Angeles:20190910T110000
DTEND;TZID=America/Los_Angeles:20190910T220000
DTSTAMP:20260419T053509
CREATED:20180728T201701Z
LAST-MODIFIED:20190828T162344Z
UID:10001216-1568113200-1568152800@envirocenter.org
SUMMARY:Community Pints
DESCRIPTION:Raise a glass to sustainability!\nEvery Tuesday in September\, Deschutes Brewery will donate $1 of every pint sold to The Environmental Center. \nWe’ve partnered with Deschutes Brewery for Community Pints during the month of August. Gather at the Bend Public House or Tasting Room for a pint of tasty beer and some good old fashioned community cheer! An easy and fun way to show your support. Thank you!
URL:https://envirocenter.org/event/community-pints-2/2019-09-10/
LOCATION:Deschutes Brewery Public House\, 1044 NW Bond St\, Bend\, OR\, 97701\, United States
CATEGORIES:Food
ATTACH;FMTTYPE=image/png:https://envirocenter.org/wp-content/uploads/2018/07/Sept-2019-Community-Pints-e1567009389621.png
GEO:44.0593984;-121.3113079
X-APPLE-STRUCTURED-LOCATION;VALUE=URI;X-ADDRESS=Deschutes Brewery Public House 1044 NW Bond St Bend OR 97701 United States;X-APPLE-RADIUS=500;X-TITLE=1044 NW Bond St:geo:-121.3113079,44.0593984
END:VEVENT
BEGIN:VEVENT
DTSTART;VALUE=DATE:20190911
DTEND;VALUE=DATE:20190912
DTSTAMP:20260419T053509
CREATED:20190907T041546Z
LAST-MODIFIED:20230503T200920Z
UID:10003219-1568192400-1568217600@envirocenter.org
SUMMARY:Morning Altars with Day Schildkret
DESCRIPTION:In this fast-paced\, tech obsessed world\, we are forgetting some of our most basic human traits. We desperately need more time to slow down\, remember and make meaning together. To be outside together. To create and witness each other’s hearts together.  And to work on letting go more. Come explore this transformative 7-step practice to work with nature\, art and impermanence as an effective way to heal\, grieve\, celebrate and honor your life. \nSCHEDULE: \nWelcome | Wednesday\, SEPT 11 | 6:30PM – 8:30PM \nHands-on Practice | Thursday\, SEPT 12 | 9AM – 4PM \nCOST: $150 (sliding scale available upon request) *Jackson Corner lunch included!
URL:https://envirocenter.org/event/morning-altars-with-day-schildkret-2019-09-11/
LOCATION:Deschutes Brewery Public House\, 1044 NW Bond St\, Bend\, OR\, 97701\, United States
GEO:44.0593984;-121.3113079
X-APPLE-STRUCTURED-LOCATION;VALUE=URI;X-ADDRESS=Deschutes Brewery Public House 1044 NW Bond St Bend OR 97701 United States;X-APPLE-RADIUS=500;X-TITLE=1044 NW Bond St:geo:-121.3113079,44.0593984
END:VEVENT
BEGIN:VEVENT
DTSTART;VALUE=DATE:20190911
DTEND;VALUE=DATE:20190912
DTSTAMP:20260419T053509
CREATED:20190917T225424Z
LAST-MODIFIED:20230503T200920Z
UID:10003213-1568219400-1568223000@envirocenter.org
SUMMARY:Public Launch of New EV Charging Stations
DESCRIPTION:Join us for appetizers\, beverages\, and the latest on rebates\, credits and incentives on electric vehicles; view some EVs\, talk with the owners\, and enter the raffle to win a Black Bear Diner gift card!  350 Deschutes\, the COCC Sustainability Committee and Central Oregon Community College would like to invite you to join us for the ribbon cutting on the new EV charging at the Redmond campus.This project made possible with support from Pacific Power. Come help us thank them and the COCC Sustainability Committee for this new addition to Central Oregon’s charging infrastructure! \n*This will take place in the parking lot near the RTEC building
URL:https://envirocenter.org/event/public-launch-of-new-ev-charging-stations-2/
LOCATION:Deschutes Brewery Public House\, 1044 NW Bond St\, Bend\, OR\, 97701\, United States
CATEGORIES:Climate|Electric Vehicles|Energy
GEO:44.0593984;-121.3113079
X-APPLE-STRUCTURED-LOCATION;VALUE=URI;X-ADDRESS=Deschutes Brewery Public House 1044 NW Bond St Bend OR 97701 United States;X-APPLE-RADIUS=500;X-TITLE=1044 NW Bond St:geo:-121.3113079,44.0593984
END:VEVENT
BEGIN:VEVENT
DTSTART;VALUE=DATE:20190911
DTEND;VALUE=DATE:20190912
DTSTAMP:20260419T053509
CREATED:20190907T013054Z
LAST-MODIFIED:20230503T200919Z
UID:10003216-1568224800-1568228400@envirocenter.org
SUMMARY:Klamath 2050: River of Hope with Emma Marris
DESCRIPTION:In this lecture\, Emma Marris\, a Klamath Falls-based environmental author and journalist\, will tell the story of Upper Klamath Lake and the Klamath River\, a water system set to see big changes in the coming decades including dam removal\, climate change and changing management philosophies. She will use the Klamath Basin to tell a broader story about the best possible future for water in the American West\, imagining a 2050 where people inhabit their landscapes thoughtfully\, creatively and more than sustainably—where flourishing increases over time.
URL:https://envirocenter.org/event/klamath-2050-river-of-hope-with-emma-marris/
LOCATION:Deschutes Brewery Public House\, 1044 NW Bond St\, Bend\, OR\, 97701\, United States
CATEGORIES:Water
GEO:44.0593984;-121.3113079
X-APPLE-STRUCTURED-LOCATION;VALUE=URI;X-ADDRESS=Deschutes Brewery Public House 1044 NW Bond St Bend OR 97701 United States;X-APPLE-RADIUS=500;X-TITLE=1044 NW Bond St:geo:-121.3113079,44.0593984
END:VEVENT
BEGIN:VEVENT
DTSTART;VALUE=DATE:20190912
DTEND;VALUE=DATE:20190913
DTSTAMP:20260419T053509
CREATED:20190907T041546Z
LAST-MODIFIED:20230503T200920Z
UID:10003220-1568278800-1568304000@envirocenter.org
SUMMARY:Morning Altars with Day Schildkret
DESCRIPTION:In this fast-paced\, tech obsessed world\, we are forgetting some of our most basic human traits. We desperately need more time to slow down\, remember and make meaning together. To be outside together. To create and witness each other’s hearts together.  And to work on letting go more. Come explore this transformative 7-step practice to work with nature\, art and impermanence as an effective way to heal\, grieve\, celebrate and honor your life. \nSCHEDULE: \nWelcome | Wednesday\, SEPT 11 | 6:30PM – 8:30PM \nHands-on Practice | Thursday\, SEPT 12 | 9AM – 4PM \nCOST: $150 (sliding scale available upon request) *Jackson Corner lunch included!
URL:https://envirocenter.org/event/morning-altars-with-day-schildkret-2019-09-11/
LOCATION:Deschutes Brewery Public House\, 1044 NW Bond St\, Bend\, OR\, 97701\, United States
GEO:44.0593984;-121.3113079
X-APPLE-STRUCTURED-LOCATION;VALUE=URI;X-ADDRESS=Deschutes Brewery Public House 1044 NW Bond St Bend OR 97701 United States;X-APPLE-RADIUS=500;X-TITLE=1044 NW Bond St:geo:-121.3113079,44.0593984
END:VEVENT
BEGIN:VEVENT
DTSTART;VALUE=DATE:20190912
DTEND;VALUE=DATE:20190913
DTSTAMP:20260419T053509
CREATED:20160803T235848Z
LAST-MODIFIED:20230503T200442Z
UID:10000738-1568308500-1568318400@envirocenter.org
SUMMARY:Bend COTA Work Events
DESCRIPTION:When:  Thursday Aug 11\, Tuesday Aug 16\, Tuesday Aug 23 and Tuesday Aug 30\, 5:15 to Dusk \nWhere:  Meet at the old Ray’s parking lot\, NE corner of Simpson Ave and Century Drive in Bend \nWorksite:  Varies \nThere’s only one thing better than mountain biking in Bend\, OR and that’s riding in Bend\, knowing that you helped build and maintain the trails you love. \nPlease bring a hydration pack with water and a snack. \nBe sure to bring appropriate layers to accommodate whatever the weather may be. \nQuestions?  contact@cotamtb.com \nAll COTA trail work events require the following safety measures: \nAll participants are required to have the following protective clothing and equipment: \n\nSturdy shoes or boots\nGloves\nEye protection with clear or light colored lens\nLong pants\n\nDue to COTA’s insurance requirements and the inherent dangers of trail work\, we must implement the following policy regarding children at work events: \n\nFor anyone 14 years of age or younger\, we require one parent\, guardian\, or responsible adult for supervision of every four kids attending any COTA trail work events.\nAll minors under the age of 18 must have a parent or guardian available to sign our waiver.\n\nAnyone who arrives for a work event may be turned away if he/she cannot meet the above requirements.
URL:https://envirocenter.org/event/bend-cota-work-events-2016-08-11/
LOCATION:Deschutes Brewery Public House\, 1044 NW Bond St\, Bend\, OR\, 97701\, United States
GEO:44.0593984;-121.3113079
X-APPLE-STRUCTURED-LOCATION;VALUE=URI;X-ADDRESS=Deschutes Brewery Public House 1044 NW Bond St Bend OR 97701 United States;X-APPLE-RADIUS=500;X-TITLE=1044 NW Bond St:geo:-121.3113079,44.0593984
END:VEVENT
END:VCALENDAR