BEGIN:VCALENDAR
VERSION:2.0
PRODID:-//The Environmental Center - ECPv6.15.20//NONSGML v1.0//EN
CALSCALE:GREGORIAN
METHOD:PUBLISH
X-WR-CALNAME:The Environmental Center
X-ORIGINAL-URL:https://envirocenter.org
X-WR-CALDESC:Events for The Environmental Center
REFRESH-INTERVAL;VALUE=DURATION:PT1H
X-Robots-Tag:noindex
X-PUBLISHED-TTL:PT1H
BEGIN:VTIMEZONE
TZID:America/Los_Angeles
BEGIN:DAYLIGHT
TZOFFSETFROM:-0800
TZOFFSETTO:-0700
TZNAME:PDT
DTSTART:20180311T100000
END:DAYLIGHT
BEGIN:STANDARD
TZOFFSETFROM:-0700
TZOFFSETTO:-0800
TZNAME:PST
DTSTART:20181104T090000
END:STANDARD
BEGIN:DAYLIGHT
TZOFFSETFROM:-0800
TZOFFSETTO:-0700
TZNAME:PDT
DTSTART:20190310T100000
END:DAYLIGHT
BEGIN:STANDARD
TZOFFSETFROM:-0700
TZOFFSETTO:-0800
TZNAME:PST
DTSTART:20191103T090000
END:STANDARD
BEGIN:DAYLIGHT
TZOFFSETFROM:-0800
TZOFFSETTO:-0700
TZNAME:PDT
DTSTART:20200308T100000
END:DAYLIGHT
BEGIN:STANDARD
TZOFFSETFROM:-0700
TZOFFSETTO:-0800
TZNAME:PST
DTSTART:20201101T090000
END:STANDARD
END:VTIMEZONE
BEGIN:VEVENT
DTSTART;VALUE=DATE:20190502
DTEND;VALUE=DATE:20190503
DTSTAMP:20260425T115734
CREATED:20160803T235848Z
LAST-MODIFIED:20230503T200442Z
UID:10000719-1556817300-1556827200@envirocenter.org
SUMMARY:Bend COTA Work Events
DESCRIPTION:When:  Thursday Aug 11\, Tuesday Aug 16\, Tuesday Aug 23 and Tuesday Aug 30\, 5:15 to Dusk \nWhere:  Meet at the old Ray’s parking lot\, NE corner of Simpson Ave and Century Drive in Bend \nWorksite:  Varies \nThere’s only one thing better than mountain biking in Bend\, OR and that’s riding in Bend\, knowing that you helped build and maintain the trails you love. \nPlease bring a hydration pack with water and a snack. \nBe sure to bring appropriate layers to accommodate whatever the weather may be. \nQuestions?  contact@cotamtb.com \nAll COTA trail work events require the following safety measures: \nAll participants are required to have the following protective clothing and equipment: \n\nSturdy shoes or boots\nGloves\nEye protection with clear or light colored lens\nLong pants\n\nDue to COTA’s insurance requirements and the inherent dangers of trail work\, we must implement the following policy regarding children at work events: \n\nFor anyone 14 years of age or younger\, we require one parent\, guardian\, or responsible adult for supervision of every four kids attending any COTA trail work events.\nAll minors under the age of 18 must have a parent or guardian available to sign our waiver.\n\nAnyone who arrives for a work event may be turned away if he/she cannot meet the above requirements.
URL:https://envirocenter.org/event/bend-cota-work-events-2016-08-11/
LOCATION:Deschutes Brewery Public House\, 1044 NW Bond St\, Bend\, OR\, 97701\, United States
GEO:44.0593984;-121.3113079
X-APPLE-STRUCTURED-LOCATION;VALUE=URI;X-ADDRESS=Deschutes Brewery Public House 1044 NW Bond St Bend OR 97701 United States;X-APPLE-RADIUS=500;X-TITLE=1044 NW Bond St:geo:-121.3113079,44.0593984
END:VEVENT
BEGIN:VEVENT
DTSTART;VALUE=DATE:20190503
DTEND;VALUE=DATE:20190504
DTSTAMP:20260425T115734
CREATED:20190427T015459Z
LAST-MODIFIED:20230503T200847Z
UID:10003170-1556902800-1556910000@envirocenter.org
SUMMARY:2019 Food & Farm Directory Release
DESCRIPTION:The 8th Annual Food & Farm Directory from High Desert Food & Farm Alliance is a 48-page comprehensive community resource and guide to Central Oregon food. The directory is full of information to connect High Desert citizens and visitors with food that is grown\, raised and produced in our region. It will introduce you to the local family farmers\, ranchers\, and businesses that are committed to producing\, purchasing\, and providing local food to Central Oregon communities. \nThe directory is FREE\, and can be found first in The Bulletin’s May 3rd edition or at FootZone Bend downtown during First Friday on May 3rd\, from 5-7 p.m. 
URL:https://envirocenter.org/event/2019-food-farm-directory-release/
LOCATION:Deschutes Brewery Public House\, 1044 NW Bond St\, Bend\, OR\, 97701\, United States
CATEGORIES:Food
GEO:44.0593984;-121.3113079
X-APPLE-STRUCTURED-LOCATION;VALUE=URI;X-ADDRESS=Deschutes Brewery Public House 1044 NW Bond St Bend OR 97701 United States;X-APPLE-RADIUS=500;X-TITLE=1044 NW Bond St:geo:-121.3113079,44.0593984
END:VEVENT
BEGIN:VEVENT
DTSTART;VALUE=DATE:20190503
DTEND;VALUE=DATE:20190504
DTSTAMP:20260425T115734
CREATED:20190424T233038Z
LAST-MODIFIED:20230503T200843Z
UID:10001329-1556902800-1556910000@envirocenter.org
SUMMARY:National Historic Preservation Month Kick-Off Party
DESCRIPTION:Every May\, Deschutes County Historical Society and our partners celebrate the myriad of ways that historic preservation enhances our quality of life. With a full schedule of events\, it is easy to understand why This Place Matters. \nWhat is historic preservation? Historic preservation means saving the story of us—the communities we cherish\, the parks we love\, the buildings we admire\, the little stories we always share with visitors. From ancient cultures through the growth of our communities among the sagebrush\, it is about saving the places\, buildings\, artifacts\, stories\, and memories that preserve and enhance our story. \nSponsored by the Deschutes County Historical Society\, the Bend Chamber of Commerce\, Deschutes County Historic Landmarks Commission\, City of Bend Landmarks Commission\, City of Redmond Landmarks Commission\, and the Deschutes Land Trust. \nA full schedule of events for the month is now available on the Deschutes Historical Museum website.
URL:https://envirocenter.org/event/national-historic-preservation-month-kick-off-party/
LOCATION:Deschutes Brewery Public House\, 1044 NW Bond St\, Bend\, OR\, 97701\, United States
GEO:44.0593984;-121.3113079
X-APPLE-STRUCTURED-LOCATION;VALUE=URI;X-ADDRESS=Deschutes Brewery Public House 1044 NW Bond St Bend OR 97701 United States;X-APPLE-RADIUS=500;X-TITLE=1044 NW Bond St:geo:-121.3113079,44.0593984
END:VEVENT
BEGIN:VEVENT
DTSTART;VALUE=DATE:20190503
DTEND;VALUE=DATE:20190504
DTSTAMP:20260425T115734
CREATED:20190411T002105Z
LAST-MODIFIED:20230503T200841Z
UID:10001325-1556906400-1556917200@envirocenter.org
SUMMARY:4th Annual Faces of Farming Gala
DESCRIPTION:Central Oregon Locavore presents:\nInnovation in Farming\n4th Annual Faces of Farming Gala\, Silent Auction and Farm to Table Feast\nDo you love fresh\, nourishing food and the hard-working souls who make it possible? \nJoin Central Oregon Locavore on Friday\, May 3rd\, at The Tetherow Resort Event Pavilion for an evening of artful and delicious surprise\, designed to honor the hardy and dedicated people who grow and raise our food in Central Oregon. \nThis event will include a photograph narrative of our local farmers and ranchers\, a silent auction\, local wine\, beer and cocktails\, and an extensive menu showcasing the bounty of local farms and ranches brought to you by Chef Miguel and the culinary team at Tetherow.  \nThis years theme is Innovation in Farming. As casually observed by many\, and truly noticed by few\, farmers are the ultimate innovators. From fixing broken machinery\, to crafting complex security systems for curious livestock\, to gently tricking plants to a higher yield\, an extra month of production\, or an early germination\, farmers and ranchers are the ultimate craftsman. It takes a certain type of ingenuity\, or mad genius\, to contend with nature. And farmers have just that type of genius it takes. After all\, necessity is the mother of creation. Faces of Farming serves to connect those passionate about our sustainability\, cultivates strong relationships and celebrates the potential in all of us.
URL:https://envirocenter.org/event/4th-annual-faces-of-farming-gala/
LOCATION:Deschutes Brewery Public House\, 1044 NW Bond St\, Bend\, OR\, 97701\, United States
CATEGORIES:Food
GEO:44.0593984;-121.3113079
X-APPLE-STRUCTURED-LOCATION;VALUE=URI;X-ADDRESS=Deschutes Brewery Public House 1044 NW Bond St Bend OR 97701 United States;X-APPLE-RADIUS=500;X-TITLE=1044 NW Bond St:geo:-121.3113079,44.0593984
END:VEVENT
BEGIN:VEVENT
DTSTART;VALUE=DATE:20190504
DTEND;VALUE=DATE:20190505
DTSTAMP:20260425T115734
CREATED:20190501T232420Z
LAST-MODIFIED:20230503T200847Z
UID:10003172-1556964000-1556978400@envirocenter.org
SUMMARY:4th Annual Spring Farm & Food Faire
DESCRIPTION:The Central Oregon Community College (COCC) Sustainability Committee\, in partnership with Central Oregon Locavore and the High Desert Food & Farm Alliance\, is hosting the 4th annual Spring Farm & Food Faire on Saturday\, May 4th\, 10 a.m. to 2 p.m. at the Coats Campus Center in Bend. Rain or shine\, this event is free and open to the public. \nThe Spring Farm & Food Faire is an opportunity to browse\, taste\, and talk about local food. Purchase early-season crops\, eggs\, meats\, seed starts\, honey\, or sign up for community-supported agriculture (CSA) and herdshare memberships from 15+ area farms and ranches. The faire also serves as ​a place to learn about farm dinners\, events\, and volunteer opportunities scheduled throughout the year.
URL:https://envirocenter.org/event/4th-annual-spring-farm-food-faire/
LOCATION:Deschutes Brewery Public House\, 1044 NW Bond St\, Bend\, OR\, 97701\, United States
CATEGORIES:Food
GEO:44.0593984;-121.3113079
X-APPLE-STRUCTURED-LOCATION;VALUE=URI;X-ADDRESS=Deschutes Brewery Public House 1044 NW Bond St Bend OR 97701 United States;X-APPLE-RADIUS=500;X-TITLE=1044 NW Bond St:geo:-121.3113079,44.0593984
END:VEVENT
BEGIN:VEVENT
DTSTART;VALUE=DATE:20190504
DTEND;VALUE=DATE:20190505
DTSTAMP:20260425T115734
CREATED:20190426T033127Z
LAST-MODIFIED:20230503T200846Z
UID:10001331-1556982000-1556985600@envirocenter.org
SUMMARY:Tread Lightly Talk and Community Discussion
DESCRIPTION:In January\, Roundabout Books began a #treadlightly campaign and removed single use products such as paper cups\, plastic cups\, straws\, and bags. \nOn May 4th\, they will offer an in depth look at the 3 R’s that even Kindergartners know: Reduce\, Reuse\, Recycle. Why is it important\, why it matters\, what it looks like and what you can do to Rethink Waste. \nPresenters: Ani Kasch from The Environmental Center and Patricia Williams from Cascade Disposal
URL:https://envirocenter.org/event/tread-lightly-talk-and-community-discussion/
LOCATION:Deschutes Brewery Public House\, 1044 NW Bond St\, Bend\, OR\, 97701\, United States
CATEGORIES:Rethink Waste
GEO:44.0593984;-121.3113079
X-APPLE-STRUCTURED-LOCATION;VALUE=URI;X-ADDRESS=Deschutes Brewery Public House 1044 NW Bond St Bend OR 97701 United States;X-APPLE-RADIUS=500;X-TITLE=1044 NW Bond St:geo:-121.3113079,44.0593984
END:VEVENT
BEGIN:VEVENT
DTSTART;VALUE=DATE:20190504
DTEND;VALUE=DATE:20190505
DTSTAMP:20260425T115734
CREATED:20190427T004456Z
LAST-MODIFIED:20230503T200846Z
UID:10001332-1556985600-1556992800@envirocenter.org
SUMMARY:Core Area Project Pop-Up Event
DESCRIPTION:Get Involved in the Core Area Project! Help shape the heart of Bend by attending an upcoming event.\nCity of Bend staff will be at six different locations throughout the month of May to inform the community about the Core Area Project and encourage more people to attend the June 15 Community Workshop. Pop-in to any of the events while enjoying some of your favorite local hangouts. \nSaturday\, May 4: Box Factory 4-6 p.m.— 550 SW Industrial Way\nMonday\, May 6: Grocery Outlet 4-6 p.m— 694-B SE 3rd Street\nThursday\, May 9: Boneyard Brew Pub 4-6 p.m. — 1955 NE Division Street\nThursday\, May 16: Backporch Coffee Greenwood 8-10 a.m— 706 NE Greenwood Avenue #140\nMonday\, May 20: Webskis/Webcyclery (Old Stone Church) 4-6 p.m — 157 NW Franklin Avenue\nThursday\, May 23: Humm Kombucha 4-6 p.m— 1125 NE 2nd Street (there will also be live music at this event!) \nDon’t forget to save the date for the Community Workshop on June 15 10am-Noon at Bend High School Commons.
URL:https://envirocenter.org/event/core-area-project-pop-up-event/
LOCATION:Deschutes Brewery Public House\, 1044 NW Bond St\, Bend\, OR\, 97701\, United States
CATEGORIES:Transportation
GEO:44.0593984;-121.3113079
X-APPLE-STRUCTURED-LOCATION;VALUE=URI;X-ADDRESS=Deschutes Brewery Public House 1044 NW Bond St Bend OR 97701 United States;X-APPLE-RADIUS=500;X-TITLE=1044 NW Bond St:geo:-121.3113079,44.0593984
END:VEVENT
BEGIN:VEVENT
DTSTART;VALUE=DATE:20190506
DTEND;VALUE=DATE:20190507
DTSTAMP:20260425T115734
CREATED:20190427T004808Z
LAST-MODIFIED:20230503T200846Z
UID:10001333-1557158400-1557165600@envirocenter.org
SUMMARY:Core Area Project Pop-Up Event
DESCRIPTION:Get Involved in the Core Area Project! Help shape the heart of Bend by attending an upcoming event.\nCity of Bend staff will be at six different locations throughout the month of May to inform the community about the Core Area Project and encourage more people to attend the June 15 Community Workshop. Pop-in to any of the events while enjoying some of your favorite local hangouts. \nSaturday\, May 4: Box Factory 4-6 p.m.— 550 SW Industrial Way\nMonday\, May 6: Grocery Outlet 4-6 p.m— 694-B SE 3rd Street\nThursday\, May 9: Boneyard Brew Pub 4-6 p.m. — 1955 NE Division Street\nThursday\, May 16: Backporch Coffee Greenwood 8-10 a.m— 706 NE Greenwood Avenue #140\nMonday\, May 20: Webskis/Webcyclery (Old Stone Church) 4-6 p.m — 157 NW Franklin Avenue\nThursday\, May 23: Humm Kombucha 4-6 p.m— 1125 NE 2nd Street (there will also be live music at this event!) \nDon’t forget to save the date for the Community Workshop on June 15 10am-Noon at Bend High School Commons.
URL:https://envirocenter.org/event/core-area-project-pop-up/
LOCATION:Deschutes Brewery Public House\, 1044 NW Bond St\, Bend\, OR\, 97701\, United States
CATEGORIES:Transportation
GEO:44.0593984;-121.3113079
X-APPLE-STRUCTURED-LOCATION;VALUE=URI;X-ADDRESS=Deschutes Brewery Public House 1044 NW Bond St Bend OR 97701 United States;X-APPLE-RADIUS=500;X-TITLE=1044 NW Bond St:geo:-121.3113079,44.0593984
END:VEVENT
BEGIN:VEVENT
DTSTART;VALUE=DATE:20190507
DTEND;VALUE=DATE:20190508
DTSTAMP:20260425T115734
CREATED:20220503T060232Z
LAST-MODIFIED:20230503T210431Z
UID:10003134-1557244800-1557252000@envirocenter.org
SUMMARY:Happy Hour in the Garden
DESCRIPTION:This year\, Happy Hour in the Garden will run from March through October. Instead of weekly\, this volunteer event will be on the *1st & 3rd Tuesdays*\, kicking off Tuesday\, March 1st. Stop by anytime between 4-6 on the following dates to help out in the garden and enjoy a bubbly beverage. Family friendly\, no experience or tools necessary. \nContact Denise Rowcroft\, Garden Program Manager\, if you have any questions about getting involved. \n\nMarch 1 & 15 (March & April beer sponsored by Worthy Garden Club)\nApril 5 & 19\nMay 3 & 17 (May & June beer sponsored by Boneyard Beer)\nJune 7 & 21\n\nDue to summer trips\, please note that summer dates (July & August) are the 2nd & 4th Tuesdays of the month! \n\nJuly 12 & 26 (July & August beer sponsored by Deschutes Brewery)\n*August 9 & 23* (Note\, this is the 2nd & 4th Tuesday\, rescheduled due to planned time off)\nSeptember 6 & 20 (Sept & Oct beer sponsored by 10 Barrel Brewing Co)\nOctober 4 & 18
URL:https://envirocenter.org/event/happy-hour-in-the-garden-10-2022-07-05/
LOCATION:Deschutes Brewery Public House\, 1044 NW Bond St\, Bend\, OR\, 97701\, United States
CATEGORIES:Garden
GEO:44.0593984;-121.3113079
X-APPLE-STRUCTURED-LOCATION;VALUE=URI;X-ADDRESS=Deschutes Brewery Public House 1044 NW Bond St Bend OR 97701 United States;X-APPLE-RADIUS=500;X-TITLE=1044 NW Bond St:geo:-121.3113079,44.0593984
END:VEVENT
BEGIN:VEVENT
DTSTART;VALUE=DATE:20190507
DTEND;VALUE=DATE:20190508
DTSTAMP:20260425T115734
CREATED:20190409T235603Z
LAST-MODIFIED:20230503T200840Z
UID:10001323-1557252000-1557255600@envirocenter.org
SUMMARY:UP North Loop Talks
DESCRIPTION:Imagine walking out your front door one day in May and not coming back until early November\, covering more than 2\,600 miles on foot between those two days. \nThat’s just what Ras and Kathy Vaughn did last year when they embarked on a journey through the Pacific Northwest\, stitching together portions of several long trails in order to create one massive loop hike. \nRas and Kathy – also known as Team UltraPedestrian – were the first people to ground-truth a possible cross-country connection between the Idaho Centennial Trail and the Oregon Desert Trail\, a route which also includes extensive cross-country travel. With a bit of shimmying through canyons and a few twists and turns\, they made it work. \nThis adventurous thru-hiking duo will be presenting near you soon: \nUP North Loop Talks \n\nApril 11\, 7 p.m. | Footzone\, Bend\, OR\nApril 24\, 7 p.m. | Mountain Supply\, Bend\, OR\nMay 7\, 6 p.m. | Deschutes Public Library\, Downtown Bend\, OR
URL:https://envirocenter.org/event/up-north-loop-talks-3/
LOCATION:Deschutes Brewery Public House\, 1044 NW Bond St\, Bend\, OR\, 97701\, United States
GEO:44.0593984;-121.3113079
X-APPLE-STRUCTURED-LOCATION;VALUE=URI;X-ADDRESS=Deschutes Brewery Public House 1044 NW Bond St Bend OR 97701 United States;X-APPLE-RADIUS=500;X-TITLE=1044 NW Bond St:geo:-121.3113079,44.0593984
END:VEVENT
BEGIN:VEVENT
DTSTART;VALUE=DATE:20190507
DTEND;VALUE=DATE:20190508
DTSTAMP:20260425T115734
CREATED:20190328T021052Z
LAST-MODIFIED:20230503T200834Z
UID:10003130-1557253800-1557261000@envirocenter.org
SUMMARY:The Dam Fiasco at Bull Flat: A look back at the 1913-1914 Tumalo Project
DESCRIPTION:One hundred years ago the State of Oregon stepped in to help settlers in the Tumalo area salvage their crushed dreams. A rogue’s gallery of grifters\, chiselers\, swindlers and cheats had left hundreds of settlers high and dry. The State’s well-intended plans to bring irrigation to the area went awry. Join Mike Berry for a presentation on the follies and foibles of the Tumalo Project.
URL:https://envirocenter.org/event/the-dam-fiasco-at-bull-flat-a-look-back-at-the-1913-1914-tumalo-project/
LOCATION:Deschutes Brewery Public House\, 1044 NW Bond St\, Bend\, OR\, 97701\, United States
GEO:44.0593984;-121.3113079
X-APPLE-STRUCTURED-LOCATION;VALUE=URI;X-ADDRESS=Deschutes Brewery Public House 1044 NW Bond St Bend OR 97701 United States;X-APPLE-RADIUS=500;X-TITLE=1044 NW Bond St:geo:-121.3113079,44.0593984
END:VEVENT
BEGIN:VEVENT
DTSTART;VALUE=DATE:20190508
DTEND;VALUE=DATE:20190509
DTSTAMP:20260425T115734
CREATED:20190321T010115Z
LAST-MODIFIED:20230503T200829Z
UID:10003127-1557320400-1557331200@envirocenter.org
SUMMARY:Free Workshop for Foodservice Professionals
DESCRIPTION:Enhancing restaurant profit and sustainability by reducing food waste\nAn ongoing challenge in the food industry is keeping your food costs down without diminishing food quality. One of the keys to success is food waste prevention. Join national experts Dr. Steve Schein and Ned Barker to learn more about how to reduce food waste in your business\, empower your employees\, reduce your environmental impact\, and improve your bottom line. These interactive workshops will help you create a Strategic Roadmap for your business based on best practices from the Hotel | Kitchen toolkit\, http://hotelkitchen.org/. Some pre-work will be suggested. \nWho should attend\nThe workshops provide skills and resources ideal for Restaurant Managers and Chefs\, Catering Sales Directors\, Food & Beverage Directors\, Executive Chefs\, General Managers – virtually anyone working in foodservice / culinary supervision or management.
URL:https://envirocenter.org/event/free-workshop-for-foodservice-professionals/
LOCATION:Deschutes Brewery Public House\, 1044 NW Bond St\, Bend\, OR\, 97701\, United States
CATEGORIES:Food
GEO:44.0593984;-121.3113079
X-APPLE-STRUCTURED-LOCATION;VALUE=URI;X-ADDRESS=Deschutes Brewery Public House 1044 NW Bond St Bend OR 97701 United States;X-APPLE-RADIUS=500;X-TITLE=1044 NW Bond St:geo:-121.3113079,44.0593984
END:VEVENT
END:VCALENDAR